BEGIN:VCALENDAR
VERSION:2.0
PRODID:-//Teatro Metamorfosis - ECPv6.15.20//NONSGML v1.0//EN
CALSCALE:GREGORIAN
METHOD:PUBLISH
X-WR-CALNAME:Teatro Metamorfosis
X-ORIGINAL-URL:https://teatrometamorfosis.com/es/
X-WR-CALDESC:Eventos para Teatro Metamorfosis
REFRESH-INTERVAL;VALUE=DURATION:PT1H
X-Robots-Tag:noindex
X-PUBLISHED-TTL:PT1H
BEGIN:VTIMEZONE
TZID:Europe/Madrid
BEGIN:DAYLIGHT
TZOFFSETFROM:+0100
TZOFFSETTO:+0200
TZNAME:CEST
DTSTART:20250330T010000
END:DAYLIGHT
BEGIN:STANDARD
TZOFFSETFROM:+0200
TZOFFSETTO:+0100
TZNAME:CET
DTSTART:20251026T010000
END:STANDARD
BEGIN:DAYLIGHT
TZOFFSETFROM:+0100
TZOFFSETTO:+0200
TZNAME:CEST
DTSTART:20260329T010000
END:DAYLIGHT
BEGIN:STANDARD
TZOFFSETFROM:+0200
TZOFFSETTO:+0100
TZNAME:CET
DTSTART:20261025T010000
END:STANDARD
BEGIN:DAYLIGHT
TZOFFSETFROM:+0100
TZOFFSETTO:+0200
TZNAME:CEST
DTSTART:20270328T010000
END:DAYLIGHT
BEGIN:STANDARD
TZOFFSETFROM:+0200
TZOFFSETTO:+0100
TZNAME:CET
DTSTART:20271031T010000
END:STANDARD
END:VTIMEZONE
BEGIN:VEVENT
DTSTART;TZID=Europe/Madrid:20260323T200000
DTEND;TZID=Europe/Madrid:20260323T220000
DTSTAMP:20260424T133321
CREATED:20260111T235028Z
LAST-MODIFIED:20260226T141853Z
UID:10002960-1774296000-1774303200@teatrometamorfosis.com
SUMMARY:Poble Sec jam session
DESCRIPTION:Nueva Jam Session de Jazz en Poble Sec\, abierta al Jazz y otros estilos musicales. Un espacio para la improvisación y la creatividad. \nInvitamos a participar a todos los músicos y amantes de la música en directo! \nA las 20:00 en Teatro Metamorfosis Carrer Tapioles 12\, Poble Sec \nEntrada general 5€ \nMúsicos: 3€ con consumición
URL:https://teatrometamorfosis.com/es/event/poble-sec-jam-session-3-2/2026-03-23/
ATTACH;FMTTYPE=application/pdf:https://teatrometamorfosis.com/wp-content/uploads/2025/08/Jam-Poble-Sec-1.pdf
END:VEVENT
BEGIN:VEVENT
DTSTART;TZID=Europe/Madrid:20260324T190000
DTEND;TZID=Europe/Madrid:20260324T210000
DTSTAMP:20260424T133321
CREATED:20240826T113127Z
LAST-MODIFIED:20241007T201212Z
UID:10001902-1774378800-1774386000@teatrometamorfosis.com
SUMMARY:Curso de actuación
DESCRIPTION:Algunos Items a ver en el curso – Expresión Corporal– Herramientas de interpretación (Cuerpo y Voz)– Improvisación– Juegos Teatrales– Creación de Personaje– Estructura Dramática– Conflicto– ⁠Actitudes Humanas Escribenos para apuntarte +34 604 92 87 50
URL:https://teatrometamorfosis.com/es/event/curso-de-actuacion/2026-03-24/
LOCATION:Teatro Metamofosis\, Carrer de Tapioles 12\, Bajo\, Barcelona\, Barcelona\, 08004\, Spain
ATTACH;FMTTYPE=image/jpeg:https://teatrometamorfosis.com/wp-content/uploads/2024/08/WhatsApp-Image-2024-08-24-at-7.48.20-AM.jpeg
END:VEVENT
BEGIN:VEVENT
DTSTART;TZID=Europe/Madrid:20260324T200000
DTEND;TZID=Europe/Madrid:20260324T220000
DTSTAMP:20260424T133321
CREATED:20260129T115928Z
LAST-MODIFIED:20260129T115928Z
UID:10002939-1774382400-1774389600@teatrometamorfosis.com
SUMMARY:JUEGO DE AMANTES
DESCRIPTION:Cinco historias ambientadas en diferentes juegos en las que sus protagonistas se dejarán llevar por sus sentimientos.\nEn el box de crossfit\, dos atletas rivales pasan de la envidia a la atracción a base de ejercicios.\nEn el ajedrez\, dos antiguos adversarios verán que tienen más en común de lo que creían.\nEn el voleibol de playa\, una atleta y su entrenador se verán con ojos diferentes por primera vez.\nEn un apasionante juego de rol\, dos tímidos jugadores explorarán otro lado de su amistad.\nEn el baloncesto\, una entrenadora y un atleta se encontrarán en una situación picante. \nLas puertas se abrirán a las 19:45\nLa barra estará abierta durante todo el evento.\nLas opciones para la consumición incluída en la entrada serán : cerveza\, vino\, cava\, vermut o refresco.\nEl precio de las entradas compradas en puerta es el siguiente:\nSin consumicion 15€\nCon consumicion: 18€ \nLas entradas compradas con código de descuento NO incluyen bebidas
URL:https://teatrometamorfosis.com/es/event/juego-de-amantes-2/2026-03-24/
ATTACH;FMTTYPE=image/jpeg:https://teatrometamorfosis.com/wp-content/uploads/2026/01/WhatsApp-Image-2026-01-27-at-19.54.52.jpeg
END:VEVENT
BEGIN:VEVENT
DTSTART;TZID=Europe/Madrid:20260327T203000
DTEND;TZID=Europe/Madrid:20260327T220000
DTSTAMP:20260424T133321
CREATED:20260219T181855Z
LAST-MODIFIED:20260219T181855Z
UID:10002948-1774643400-1774648800@teatrometamorfosis.com
SUMMARY:La Noche Temática\, 1ra edición: años 80
DESCRIPTION:¡Disfruta de los grandes éxitos de los años 80!\nEn este cabaret lleno de música\, comedia y extravagancia\, nuestras estrellas harán un repaso de los grandes hitos de la música y el cine de los años 80. \n¡Prepárate para cantar\, bailar y disfrutar con nosotras! \nProducida por: Clandestino Plan\nDuración: 80 minutos.\nElenco: Hannah The Hatchet\, Joan Oh y La Fanta Sih \nLas puertas se abrirán a las 20:15 hs\nLa barra estará abierta durante todo el evento.\nLas opciones para la consumición incluída en la entrada serán : cerveza\, vino\, cava\, vermut o refresco.\nLa entrada comprada en puerta el día del evento \, costará 18€ pero no incluirá consumición\nLas entradas compradas con código de descuento NO incluyen bebidas
URL:https://teatrometamorfosis.com/es/event/la-noche-tematica-1ra-edicion-anos-80/
ATTACH;FMTTYPE=image/jpeg:https://teatrometamorfosis.com/wp-content/uploads/2026/02/WhatsApp-Image-2026-02-19-at-10.48.03.jpeg
END:VEVENT
BEGIN:VEVENT
DTSTART;TZID=Europe/Madrid:20260328T210000
DTEND;TZID=Europe/Madrid:20260328T223000
DTSTAMP:20260424T133321
CREATED:20260304T125637Z
LAST-MODIFIED:20260324T210338Z
UID:10002962-1774731600-1774737000@teatrometamorfosis.com
SUMMARY:Francesco Schepisi
DESCRIPTION:Francesco Schepisi (Bari\, 1990) es un pianista y compositor italiano cuya voz artística nace del encuentro entre lirismo mediterráneo\, tradición afroamericana y una constante búsqueda expresiva. Activo desde 2009 en la escena nacional e internacional\, Schepisi representa una de las personalidades emergentes más interesantes del nuevo jazz italiano. \nTras haber acumulado numerosas experiencias concertísticas y discográficas como co-líder y sideman\, junto a algunos de los artistas más reconocidos del jazz nacional e internacional\, presenta su primer proyecto como band leader\, Elevation. \nPublicado por Abeat Records en 2025\, el álbum está compuesto por once temas\, nueve de ellos firmados por Schepisi\, y cuenta con la participación del trompetista neoyorquino Michael Rodriguez como invitado especial. \nLa vena compositiva del pianista explora la evolución de su mundo interior\, transformando en un viaje sonoro las dinámicas y los contrastes emocionales que rigen el ánimo humano. \nMelodías incisivas y evocadoras se abren paso a través de paisajes mediterráneos y pinceladas impresionistas\, encontrando impulsos improvisativos propios de un sonido de jazz contemporáneo. \nCon Elevation\, Schepisi devuelve en música una renovada conciencia\, fruto de un camino de búsqueda artística y personal. Su pianismo refleja un amplio abanico de influencias\, desde la música culta europea hasta el jazz contemporáneo: la chispa creativa parte del piano para fundirse luego con los demás instrumentos en un diálogo lleno de pathos que converge en un único flujo musical. \nEL CONCIERTO \nLa formación del quinteto es capaz de transmitir plenamente el espíritu del proyecto discográfico en todas sus particularidades. \nEl sonido envolvente y moderno del saxofón de Jason Owens se fusiona perfectamente con el piano de Francesco Schepisi\, en sintonía con una sección rítmica sólida y proactiva integrada por Héctor Tejedo en el contrabajo\, y Alessandro Campobasso en la batería. La suave vocalidad de Samantha Spinazzola\, por último\, se integra de manera natural en el flujo sonoro\, realzando su carácter emocional. \nCada concierto es un viaje irrepetible: las piezas llevan consigo vibraciones siempre nuevas\, dentro de una visión musical sumamente creativa y dinámica\, donde la interacción entre los músicos constituye la savia vital para el fluir de la música. \nLas puertas se abrirán a las 20:30 \nLa barra estará abierta durante todo el evento. \nLas opciones para la consumición incluída en la entrada serán : cerveza\, vino\, cava\, vermut o refresco. \nLas entradas compradas con código de descuento NO incluyen bebidas \nLas puertas se abrirán a las 20:30\nLa barra estará abierta durante todo el evento.\nLas opciones para la consumición incluída en la entrada serán : cerveza\, vino\, cava\, vermut o refresco.\nLas entradas compradas con código de descuento NO incluyen bebidas
URL:https://teatrometamorfosis.com/es/event/francesco-schepisi/
ATTACH;FMTTYPE=image/jpeg:https://teatrometamorfosis.com/wp-content/uploads/2026/03/WhatsApp-Image-2026-03-24-at-08.52.54.jpeg
END:VEVENT
BEGIN:VEVENT
DTSTART;TZID=Europe/Madrid:20260329T193000
DTEND;TZID=Europe/Madrid:20260329T210000
DTSTAMP:20260424T133321
CREATED:20260223T100557Z
LAST-MODIFIED:20260223T100557Z
UID:10002952-1774812600-1774818000@teatrometamorfosis.com
SUMMARY:Nenucha
DESCRIPTION:Tras la crisis económica argentina de 2001 Nenucha\, un ama de casa de Buenos Aires\, se exilia a Barcelona donde se asienta en el pintoresco barrio de l’Eixample junto a su único hijo\, Rodrigo.Transcurre el año 2005 y ya hace varios meses que Rodrigo ha viajado a Londres. Desde entonces\, su madre no hace más que esperarlo. Hermética en su soledad y casi sin contacto directo con él\, Nenucha recibe una noticia que agrava su amargura. En medio de su melodrama\, una ayuda no deseada y una confirmación muy temida la llevarán a abrir una carta\, desde hace tiempo\, cerrada. El desafío será cambiar la mirada y encontrar el camino hacia el verdadero retorno. \nRodrigo Garbarino \n(Autor y Director General) \nFIICHA TÉCNICA \nAutores: Rodrigo Garbarino\, Marcelo Andino\, Bettina Menegazzo. \nSobre textos originales de Rodrigo Garbarino. \nActúa: Rodrigo Garbarino. \nMaquillaje: Simona Mauggeri. \nFotografía y diseño gráfico: Martín Gonzalez Puig. \nMúsica original: Marcelo Andino. \nProducción general: Rodrigo Garbarino. \nAsistente de dirección: Julián Arenas \nDirección: Rodrigo Garbarino. \nLas opciones para la consumición incluída en la entrada serán : cerveza\, vino\, cava\, vermut o refresco. \nLa entrada comprada en puerta cuesta lo mismo pero SIN consumición \nLas entradas compradas con código de descuento NO incluyen bebidas
URL:https://teatrometamorfosis.com/es/event/nenucha-3/2026-03-29/
ATTACH;FMTTYPE=image/jpeg:https://teatrometamorfosis.com/wp-content/uploads/2026/02/event_m_WhatsApp_Image_2026-01-30_at_08.35.41.jpeg
END:VEVENT
END:VCALENDAR