BEGIN:VCALENDAR
VERSION:2.0
PRODID:-//Teatro Metamorfosis - ECPv6.15.18//NONSGML v1.0//EN
CALSCALE:GREGORIAN
METHOD:PUBLISH
X-WR-CALNAME:Teatro Metamorfosis
X-ORIGINAL-URL:https://teatrometamorfosis.com/es/
X-WR-CALDESC:Eventos para Teatro Metamorfosis
REFRESH-INTERVAL;VALUE=DURATION:PT1H
X-Robots-Tag:noindex
X-PUBLISHED-TTL:PT1H
BEGIN:VTIMEZONE
TZID:Europe/Madrid
BEGIN:DAYLIGHT
TZOFFSETFROM:+0100
TZOFFSETTO:+0200
TZNAME:CEST
DTSTART:20230326T010000
END:DAYLIGHT
BEGIN:STANDARD
TZOFFSETFROM:+0200
TZOFFSETTO:+0100
TZNAME:CET
DTSTART:20231029T010000
END:STANDARD
BEGIN:DAYLIGHT
TZOFFSETFROM:+0100
TZOFFSETTO:+0200
TZNAME:CEST
DTSTART:20240331T010000
END:DAYLIGHT
BEGIN:STANDARD
TZOFFSETFROM:+0200
TZOFFSETTO:+0100
TZNAME:CET
DTSTART:20241027T010000
END:STANDARD
BEGIN:DAYLIGHT
TZOFFSETFROM:+0100
TZOFFSETTO:+0200
TZNAME:CEST
DTSTART:20250330T010000
END:DAYLIGHT
BEGIN:STANDARD
TZOFFSETFROM:+0200
TZOFFSETTO:+0100
TZNAME:CET
DTSTART:20251026T010000
END:STANDARD
END:VTIMEZONE
BEGIN:VEVENT
DTSTART;TZID=Europe/Madrid:20240301T210000
DTEND;TZID=Europe/Madrid:20240301T230000
DTSTAMP:20260420T015140
CREATED:20240130T191408Z
LAST-MODIFIED:20240130T191409Z
UID:2148-1709326800-1709334000@teatrometamorfosis.com
SUMMARY:sentimientos encontrados
DESCRIPTION:Sentimientos Encontrados es el encuentro de dos personajes de diferentes culturas y los sentimientos afines y opuestos que expresan ante una misma situación.Mediante el lenguaje de la danza del tango\, el folclore y el flamenco los dos protagonistas representan cualquier persona en este mundo. La danza que de ellos se desprende son sentimientos de amor y odio\, alegría y tristeza\, de inconsistencia del amor\, de dudas interiores y certezas que necesitan gritar al mundo y expresar con libertad. Sentimientos universales y fusionados en esa eterna dualidad que todos hemos sentido alguna vez en la vida. Idea y Creación : Laura Morales Dirección: Dabel Zanabria y LauraMorales Danza y Coreografía: Dabel Zanabria y LauraMorales. Prosa poética y voz en off: Laura Morales Puesta en Escena: Dabel Zanabria y Laura Morales Vestuario: Joan Ferran\, Fina Garcia y David Romero Programa y texto: Laura Morales Video y fotografía: Manuel Mira Técnico de luces y sonido: Daniel Lascano Cia.LauraMorales www.lauramorales.com ENTRDAS EN PUERTA EL DIA DEL EVENTO 18 E
URL:https://teatrometamorfosis.com/es/eventos/sentimientos-encontrados/
LOCATION:Teatro Metamorfosis\, Carrer de Tapioles\, 12\, Bajo\, Barcelona\, Barcelona\, 08004\, Spain
ATTACH;FMTTYPE=image/jpeg:https://teatrometamorfosis.com/wp-content/uploads/2024/01/WhatsApp-Image-2024-01-30-at-16.01.40-1.jpeg
END:VEVENT
END:VCALENDAR