BEGIN:VCALENDAR
VERSION:2.0
PRODID:-//Teatro Metamorfosis - ECPv6.15.18//NONSGML v1.0//EN
CALSCALE:GREGORIAN
METHOD:PUBLISH
X-WR-CALNAME:Teatro Metamorfosis
X-ORIGINAL-URL:https://teatrometamorfosis.com/es/
X-WR-CALDESC:Eventos para Teatro Metamorfosis
REFRESH-INTERVAL;VALUE=DURATION:PT1H
X-Robots-Tag:noindex
X-PUBLISHED-TTL:PT1H
BEGIN:VTIMEZONE
TZID:Europe/Madrid
BEGIN:DAYLIGHT
TZOFFSETFROM:+0100
TZOFFSETTO:+0200
TZNAME:CEST
DTSTART:20230326T010000
END:DAYLIGHT
BEGIN:STANDARD
TZOFFSETFROM:+0200
TZOFFSETTO:+0100
TZNAME:CET
DTSTART:20231029T010000
END:STANDARD
BEGIN:DAYLIGHT
TZOFFSETFROM:+0100
TZOFFSETTO:+0200
TZNAME:CEST
DTSTART:20240331T010000
END:DAYLIGHT
BEGIN:STANDARD
TZOFFSETFROM:+0200
TZOFFSETTO:+0100
TZNAME:CET
DTSTART:20241027T010000
END:STANDARD
BEGIN:DAYLIGHT
TZOFFSETFROM:+0100
TZOFFSETTO:+0200
TZNAME:CEST
DTSTART:20250330T010000
END:DAYLIGHT
BEGIN:STANDARD
TZOFFSETFROM:+0200
TZOFFSETTO:+0100
TZNAME:CET
DTSTART:20251026T010000
END:STANDARD
END:VTIMEZONE
BEGIN:VEVENT
DTSTART;TZID=Europe/Madrid:20240314T200000
DTEND;TZID=Europe/Madrid:20240314T220000
DTSTAMP:20260420T015059
CREATED:20240205T020441Z
LAST-MODIFIED:20240205T020442Z
UID:2155-1710446400-1710453600@teatrometamorfosis.com
SUMMARY:Smut Slam
DESCRIPTION:Barcelona’s favourite (well\, only) dirty storytelling open mic returns on Thursday\, March 14\, with the theme «LOCATION\, LOCATION\, LOCATION.» Weirdest\, wettest\, loudest\, most unexpected… where we do what we do can set the whole tone for how we do it. Tell us your true tales of the places your booty has been\, baby! Created and hosted by professional perv Cameryn Moore\, Smut Slam features real-life\, first-person sex stories from the audience\, a panel of local judges\, sexy prizes\, and readings from THE FUCKBUCKET (anonymous questions and confessions)! IMPORTANT: Smut Slam is queer-friendly\, kink- AND vanilla-friendly\, fat-friendly\, sex worker-friendly\, virgin-friendly\, polyamory-friendly\, and really just friendly! We welcome people with all types and amounts of sexual experiences. We DO NOT welcome stories involving racism\, sexism\, homophobia\, transphobia\, or any other kind of discrimination or nonconsensual objectification or fetishization. CONSENT IS KEY. This event will be in English.
URL:https://teatrometamorfosis.com/es/eventos/smut-slam-2/
LOCATION:Teatro Metamorfosis\, Carrer de Tapioles\, 12\, Bajo\, Barcelona\, Barcelona\, 08004\, Spain
ATTACH;FMTTYPE=image/jpeg:https://teatrometamorfosis.com/wp-content/uploads/2023/10/blue-top-in-bristol-by-Claudio-Ahlers.jpg
END:VEVENT
END:VCALENDAR