BEGIN:VCALENDAR
VERSION:2.0
PRODID:-//Teatro Metamorfosis - ECPv6.15.20//NONSGML v1.0//EN
CALSCALE:GREGORIAN
METHOD:PUBLISH
X-WR-CALNAME:Teatro Metamorfosis
X-ORIGINAL-URL:https://teatrometamorfosis.com/es/
X-WR-CALDESC:Eventos para Teatro Metamorfosis
REFRESH-INTERVAL;VALUE=DURATION:PT1H
X-Robots-Tag:noindex
X-PUBLISHED-TTL:PT1H
BEGIN:VTIMEZONE
TZID:Europe/Madrid
BEGIN:DAYLIGHT
TZOFFSETFROM:+0100
TZOFFSETTO:+0200
TZNAME:CEST
DTSTART:20230326T010000
END:DAYLIGHT
BEGIN:STANDARD
TZOFFSETFROM:+0200
TZOFFSETTO:+0100
TZNAME:CET
DTSTART:20231029T010000
END:STANDARD
BEGIN:DAYLIGHT
TZOFFSETFROM:+0100
TZOFFSETTO:+0200
TZNAME:CEST
DTSTART:20240331T010000
END:DAYLIGHT
BEGIN:STANDARD
TZOFFSETFROM:+0200
TZOFFSETTO:+0100
TZNAME:CET
DTSTART:20241027T010000
END:STANDARD
BEGIN:DAYLIGHT
TZOFFSETFROM:+0100
TZOFFSETTO:+0200
TZNAME:CEST
DTSTART:20250330T010000
END:DAYLIGHT
BEGIN:STANDARD
TZOFFSETFROM:+0200
TZOFFSETTO:+0100
TZNAME:CET
DTSTART:20251026T010000
END:STANDARD
END:VTIMEZONE
BEGIN:VEVENT
DTSTART;TZID=Europe/Madrid:20241128T193000
DTEND;TZID=Europe/Madrid:20241128T210000
DTSTAMP:20260424T132533
CREATED:20241023T122341Z
LAST-MODIFIED:20241028T211001Z
UID:3824-1732822200-1732827600@teatrometamorfosis.com
SUMMARY:Smut Slam
DESCRIPTION:Brace yourself\, Barcelona: SMUT SLAM IS BACK This exciting storytelling open mic based on real life\, real lust\, real sex is back on Thursday\, Nov 28\, with the theme of «PLANES\, TRAINS\, AND AUTOMOBILES.» Dig up your back-seat stories\, a little chugga-wugga-choo-choo\, the mile-high mishaps\, and anything else travel-related! Created and hosted by professional perv Cameryn Moore\, Smut Slam features real-life\, first-person sex stories from the audience\, a panel of local judges\, sexy prizes\, and readings from THE FUCKBUCKET (anonymous questions and confessions)! IMPORTANT: Smut Slam is queer-friendly\, kink- AND vanilla-friendly\, fat-friendly\, sex worker-friendly\, virgin-friendly\, polyamory-friendly\, and really just friendly! We welcome people with all types and amounts of sexual experiences. We DO NOT welcome stories involving racism\, sexism\, homophobia\, transphobia\, or any other kind of discrimination or nonconsensual objectification or fetishization. CONSENT IS KEY. This event will be in English. Tickets at door 15 euros
URL:https://teatrometamorfosis.com/es/eventos/smut-slam-5/
LOCATION:Teatro Metamofosis\, Carrer de Tapioles 12\, Bajo\, Barcelona\, Barcelona\, 08004\, Spain
ATTACH;FMTTYPE=image/jpeg:https://teatrometamorfosis.com/wp-content/uploads/2024/10/WhatsApp-Image-2024-10-28-at-2.00.08-PM.jpeg
END:VEVENT
END:VCALENDAR