BEGIN:VCALENDAR
VERSION:2.0
PRODID:-//Teatro Metamorfosis - ECPv6.15.20//NONSGML v1.0//EN
CALSCALE:GREGORIAN
METHOD:PUBLISH
X-WR-CALNAME:Teatro Metamorfosis
X-ORIGINAL-URL:https://teatrometamorfosis.com/es/
X-WR-CALDESC:Eventos para Teatro Metamorfosis
REFRESH-INTERVAL;VALUE=DURATION:PT1H
X-Robots-Tag:noindex
X-PUBLISHED-TTL:PT1H
BEGIN:VTIMEZONE
TZID:Europe/Madrid
BEGIN:DAYLIGHT
TZOFFSETFROM:+0100
TZOFFSETTO:+0200
TZNAME:CEST
DTSTART:20240331T010000
END:DAYLIGHT
BEGIN:STANDARD
TZOFFSETFROM:+0200
TZOFFSETTO:+0100
TZNAME:CET
DTSTART:20241027T010000
END:STANDARD
BEGIN:DAYLIGHT
TZOFFSETFROM:+0100
TZOFFSETTO:+0200
TZNAME:CEST
DTSTART:20250330T010000
END:DAYLIGHT
BEGIN:STANDARD
TZOFFSETFROM:+0200
TZOFFSETTO:+0100
TZNAME:CET
DTSTART:20251026T010000
END:STANDARD
BEGIN:DAYLIGHT
TZOFFSETFROM:+0100
TZOFFSETTO:+0200
TZNAME:CEST
DTSTART:20260329T010000
END:DAYLIGHT
BEGIN:STANDARD
TZOFFSETFROM:+0200
TZOFFSETTO:+0100
TZNAME:CET
DTSTART:20261025T010000
END:STANDARD
END:VTIMEZONE
BEGIN:VEVENT
DTSTART;TZID=Europe/Madrid:20250307T203000
DTEND;TZID=Europe/Madrid:20250307T213000
DTSTAMP:20260424T091640
CREATED:20250205T142300Z
LAST-MODIFIED:20250205T142302Z
UID:4264-1741379400-1741383000@teatrometamorfosis.com
SUMMARY:Somos de verso  y tango
DESCRIPTION:SOMOS DE VERSO Y TANGO Una velada de tango y poesía en la voz de Martha Giordano\, acompañada en esta oportunidad de dos excelentes músicos\, el bandoneonista Darío Polonara\, de larga trayectoria en Barcelona\, director en la actualidad del proyecto Orquesta- Escuela Tibidabo\, y el versátil pianista Cristian «Poyo» Moya\, (Blues\, Jazz\, Tango) afincado en la ciudad condal desde 2006. Esta noche de «tango a tres» se ve realzada por la participación del contrabajista Santi Carreras Palau\, integrante de la orquesta Tibidado\, y como artista invitado tenemos el honor y el gusto de contar con Pablo Giménez\, que con su flauta travesera se une al trío para interpretar varios temas. Discépolo\, Homero Manzi\, Cátulo Castillo\, Homero Expósito\, vienen al encuentro de los poemas de dos autoras uruguayas galardonadas en años recientes con el premio Cervantes: Ida Vitale (2018) y Cristina Peri Rossi(2021). Un programa de tangos clásicos\, los de siempre\, los que cantan al amor perdido\, al barrio que ya no es\, a los desencuentros\, a los abandonos\, a la soledad y a la nostalgia y a veces a la grandeza\, elementos fundamentales del verso y del tango. Presentaremos esta noche nuestro trabajo discográfico\, ya disponible en plataformas musicales. Entradas en taquilla 18 euros.
URL:https://teatrometamorfosis.com/es/eventos/somos-de-verso-y-tango/
ATTACH;FMTTYPE=image/jpeg:https://teatrometamorfosis.com/wp-content/uploads/2025/02/WhatsApp-Image-2025-02-05-at-11.18.57-AM.jpeg
END:VEVENT
END:VCALENDAR