BEGIN:VCALENDAR
VERSION:2.0
PRODID:-//Teatro Metamorfosis - ECPv6.15.20//NONSGML v1.0//EN
CALSCALE:GREGORIAN
METHOD:PUBLISH
X-WR-CALNAME:Teatro Metamorfosis
X-ORIGINAL-URL:https://teatrometamorfosis.com/es/
X-WR-CALDESC:Eventos para Teatro Metamorfosis
REFRESH-INTERVAL;VALUE=DURATION:PT1H
X-Robots-Tag:noindex
X-PUBLISHED-TTL:PT1H
BEGIN:VTIMEZONE
TZID:Europe/Madrid
BEGIN:DAYLIGHT
TZOFFSETFROM:+0100
TZOFFSETTO:+0200
TZNAME:CEST
DTSTART:20230326T010000
END:DAYLIGHT
BEGIN:STANDARD
TZOFFSETFROM:+0200
TZOFFSETTO:+0100
TZNAME:CET
DTSTART:20231029T010000
END:STANDARD
BEGIN:DAYLIGHT
TZOFFSETFROM:+0100
TZOFFSETTO:+0200
TZNAME:CEST
DTSTART:20240331T010000
END:DAYLIGHT
BEGIN:STANDARD
TZOFFSETFROM:+0200
TZOFFSETTO:+0100
TZNAME:CET
DTSTART:20241027T010000
END:STANDARD
BEGIN:DAYLIGHT
TZOFFSETFROM:+0100
TZOFFSETTO:+0200
TZNAME:CEST
DTSTART:20250330T010000
END:DAYLIGHT
BEGIN:STANDARD
TZOFFSETFROM:+0200
TZOFFSETTO:+0100
TZNAME:CET
DTSTART:20251026T010000
END:STANDARD
END:VTIMEZONE
BEGIN:VEVENT
DTSTART;TZID=Europe/Madrid:20240718T213000
DTEND;TZID=Europe/Madrid:20240718T230000
DTSTAMP:20260424T162026
CREATED:20240709T225620Z
LAST-MODIFIED:20240709T225621Z
UID:3271-1721338200-1721343600@teatrometamorfosis.com
SUMMARY:Sueño milenario
DESCRIPTION:EL PERFIL Y JAMUY KARU presentan Sueño milenario el día 18 de julio en teatro metamorfosis\, es un concierto que fusiona música original folklórica Argentina junto con la danza que parte desde la raíz y la tradición pero con una fresca evolución a un estilo moderno\, desde sus colores melódicos\, rítmicos e instrumentales hasta las nuevas estructuras de sus coreografías con figuras estilizadas. Es un viaje a nuestra esencia\, nuestra memoria\, nuestra tierra y nuestras costumbres. Una expresión que refleja los sentimientos mas puros del alma y la necesidad de plasmar en las canciones y en la danza un nuevo mensaje.  Entradas en boleteria el día dele vento 12 euros. 
URL:https://teatrometamorfosis.com/es/eventos/sueno-milenario/
LOCATION:Teatro Metamofosis\, Carrer de Tapioles 12\, Bajo\, Barcelona\, Barcelona\, 08004\, Spain
ATTACH;FMTTYPE=image/jpeg:https://teatrometamorfosis.com/wp-content/uploads/2024/07/WhatsApp-Image-2024-07-09-at-6.57.08-PM.jpeg
END:VEVENT
END:VCALENDAR