BEGIN:VCALENDAR
VERSION:2.0
PRODID:-//Teatro Metamorfosis - ECPv6.15.20//NONSGML v1.0//EN
CALSCALE:GREGORIAN
METHOD:PUBLISH
X-WR-CALNAME:Teatro Metamorfosis
X-ORIGINAL-URL:https://teatrometamorfosis.com/es/
X-WR-CALDESC:Eventos para Teatro Metamorfosis
REFRESH-INTERVAL;VALUE=DURATION:PT1H
X-Robots-Tag:noindex
X-PUBLISHED-TTL:PT1H
BEGIN:VTIMEZONE
TZID:Europe/Madrid
BEGIN:DAYLIGHT
TZOFFSETFROM:+0100
TZOFFSETTO:+0200
TZNAME:CEST
DTSTART:20240331T010000
END:DAYLIGHT
BEGIN:STANDARD
TZOFFSETFROM:+0200
TZOFFSETTO:+0100
TZNAME:CET
DTSTART:20241027T010000
END:STANDARD
BEGIN:DAYLIGHT
TZOFFSETFROM:+0100
TZOFFSETTO:+0200
TZNAME:CEST
DTSTART:20250330T010000
END:DAYLIGHT
BEGIN:STANDARD
TZOFFSETFROM:+0200
TZOFFSETTO:+0100
TZNAME:CET
DTSTART:20251026T010000
END:STANDARD
BEGIN:DAYLIGHT
TZOFFSETFROM:+0100
TZOFFSETTO:+0200
TZNAME:CEST
DTSTART:20260329T010000
END:DAYLIGHT
BEGIN:STANDARD
TZOFFSETFROM:+0200
TZOFFSETTO:+0100
TZNAME:CET
DTSTART:20261025T010000
END:STANDARD
END:VTIMEZONE
BEGIN:VEVENT
DTSTART;TZID=Europe/Madrid:20250920T210000
DTEND;TZID=Europe/Madrid:20250920T230000
DTSTAMP:20260424T051355
CREATED:20250822T181728Z
LAST-MODIFIED:20250826T171411Z
UID:5157-1758402000-1758409200@teatrometamorfosis.com
SUMMARY:Tales of a drama queen
DESCRIPTION:Forget fairytales—these are the real Tales of a Drama Queen. This isn’t just another drag show; it’s a storytelling spectacle where stand-up meets confession\, and every revelation shines under the spotlight. \nTye Olson takes the stage to share a whirlwind of true tales—equal parts hilarious\, heartfelt\, and jaw-dropping. From Minnesota farm life to Barcelona nightlife\, Tye spills the tea on love\, drama\, and everything in between. Expect comedy\, confessions\, and a few too-many details your mother definitely shouldn’t hear. With razor-sharp wit and unapologetic honesty\, Tye invites you into a night of laughter\, stories\, and drama you won’t soon forget. \nLas puertas se abrirán a las 20:30\nLa barra estará abierta durante todo el evento.\nLas opciones para la consumición incluída en la entrada serán : cerveza\, vino\, cava\, vermut o refresco.\nLa entrada comprada en puerta cuesta lo mismo pero SIN consumición\nLas entradas compradas con código de descuento NO incluyen bebidas
URL:https://teatrometamorfosis.com/es/eventos/tales-of-drama-queen/
ATTACH;FMTTYPE=image/jpeg:https://teatrometamorfosis.com/wp-content/uploads/2025/08/WhatsApp-Image-2025-08-21-at-13.05.13.jpeg
END:VEVENT
END:VCALENDAR