BEGIN:VCALENDAR
VERSION:2.0
PRODID:-//Teatro Metamorfosis - ECPv6.15.18//NONSGML v1.0//EN
CALSCALE:GREGORIAN
METHOD:PUBLISH
X-WR-CALNAME:Teatro Metamorfosis
X-ORIGINAL-URL:https://teatrometamorfosis.com/es/
X-WR-CALDESC:Eventos para Teatro Metamorfosis
REFRESH-INTERVAL;VALUE=DURATION:PT1H
X-Robots-Tag:noindex
X-PUBLISHED-TTL:PT1H
BEGIN:VTIMEZONE
TZID:Europe/Madrid
BEGIN:DAYLIGHT
TZOFFSETFROM:+0100
TZOFFSETTO:+0200
TZNAME:CEST
DTSTART:20230326T010000
END:DAYLIGHT
BEGIN:STANDARD
TZOFFSETFROM:+0200
TZOFFSETTO:+0100
TZNAME:CET
DTSTART:20231029T010000
END:STANDARD
BEGIN:DAYLIGHT
TZOFFSETFROM:+0100
TZOFFSETTO:+0200
TZNAME:CEST
DTSTART:20240331T010000
END:DAYLIGHT
BEGIN:STANDARD
TZOFFSETFROM:+0200
TZOFFSETTO:+0100
TZNAME:CET
DTSTART:20241027T010000
END:STANDARD
BEGIN:DAYLIGHT
TZOFFSETFROM:+0100
TZOFFSETTO:+0200
TZNAME:CEST
DTSTART:20250330T010000
END:DAYLIGHT
BEGIN:STANDARD
TZOFFSETFROM:+0200
TZOFFSETTO:+0100
TZNAME:CET
DTSTART:20251026T010000
END:STANDARD
END:VTIMEZONE
BEGIN:VEVENT
DTSTART;TZID=Europe/Madrid:20240613T210000
DTEND;TZID=Europe/Madrid:20240613T230000
DTSTAMP:20260419T210531
CREATED:20240507T140450Z
LAST-MODIFIED:20240507T140451Z
UID:2877-1718312400-1718319600@teatrometamorfosis.com
SUMMARY:Tango Suite
DESCRIPTION:«Tango Suite»\, equivale a adentrarse en un espacio íntimo donde la música y la poesía convergen con elegancia y un toque de irreverencia. La cantante SANDRA REHDER y el guitarrista NICO PÈREZ crean en cada puesta\, un tejido donde confluyen complicidad e improvisación. Un espectáculo intimista que resuena con la esencia del pasado mientras demuestra su relevancia en el presente. Anticipada: 12€ Taquilla el día del evento: 15€ @sandrarehdertango @nicopereztango 
URL:https://teatrometamorfosis.com/es/eventos/tango-suite/
LOCATION:Teatro Metamorfosis\, Carrer de Tapioles\, 12\, Bajo\, Barcelona\, Barcelona\, 08004\, Spain
ATTACH;FMTTYPE=image/jpeg:https://teatrometamorfosis.com/wp-content/uploads/2024/05/WhatsApp-Image-2024-05-06-at-17.35.06.jpeg
END:VEVENT
END:VCALENDAR