BEGIN:VCALENDAR
VERSION:2.0
PRODID:-//Teatro Metamorfosis - ECPv6.15.18//NONSGML v1.0//EN
CALSCALE:GREGORIAN
METHOD:PUBLISH
X-WR-CALNAME:Teatro Metamorfosis
X-ORIGINAL-URL:https://teatrometamorfosis.com/es/
X-WR-CALDESC:Eventos para Teatro Metamorfosis
REFRESH-INTERVAL;VALUE=DURATION:PT1H
X-Robots-Tag:noindex
X-PUBLISHED-TTL:PT1H
BEGIN:VTIMEZONE
TZID:Europe/Madrid
BEGIN:DAYLIGHT
TZOFFSETFROM:+0100
TZOFFSETTO:+0200
TZNAME:CEST
DTSTART:20230326T010000
END:DAYLIGHT
BEGIN:STANDARD
TZOFFSETFROM:+0200
TZOFFSETTO:+0100
TZNAME:CET
DTSTART:20231029T010000
END:STANDARD
BEGIN:DAYLIGHT
TZOFFSETFROM:+0100
TZOFFSETTO:+0200
TZNAME:CEST
DTSTART:20240331T010000
END:DAYLIGHT
BEGIN:STANDARD
TZOFFSETFROM:+0200
TZOFFSETTO:+0100
TZNAME:CET
DTSTART:20241027T010000
END:STANDARD
BEGIN:DAYLIGHT
TZOFFSETFROM:+0100
TZOFFSETTO:+0200
TZNAME:CEST
DTSTART:20250330T010000
END:DAYLIGHT
BEGIN:STANDARD
TZOFFSETFROM:+0200
TZOFFSETTO:+0100
TZNAME:CET
DTSTART:20251026T010000
END:STANDARD
END:VTIMEZONE
BEGIN:VEVENT
DTSTART;TZID=Europe/Madrid:20240316T210000
DTEND;TZID=Europe/Madrid:20240316T230000
DTSTAMP:20260420T003617
CREATED:20240210T213130Z
LAST-MODIFIED:20240221T113931Z
UID:2322-1710622800-1710630000@teatrometamorfosis.com
SUMMARY:Tánit Navarro
DESCRIPTION:En este concierto llamado «El corazón tiene 8 puertas» la cantante Tànit Navarro invita a músicos y otras artistas a compartir sus canciones y poesías creando una noche de emociones\, arte y sensibilidad en la víspera de su aniversario.  Una celebración a la vida dónde presentará su nuevo vídeoclip que da título al concierto.Concierto «El corazón tiene 8 puertas» Tànit Navarro y músicos invitadas Diego Balan Rusó Sala  Marcelo Schnock  Marcos Expósito  Martín Grinberg y otras artistas Sábado 16 de marzo 21h Entradas en boleteria el dia del evento 15 euros.
URL:https://teatrometamorfosis.com/es/eventos/tanit-navarro/
LOCATION:Teatro Metamorfosis\, Carrer de Tapioles\, 12\, Bajo\, Barcelona\, Barcelona\, 08004\, Spain
ATTACH;FMTTYPE=image/jpeg:https://teatrometamorfosis.com/wp-content/uploads/2024/02/WhatsApp-Image-2024-02-10-at-09.56.12.jpeg
END:VEVENT
END:VCALENDAR