BEGIN:VCALENDAR
VERSION:2.0
PRODID:-//Teatro Metamorfosis - ECPv6.15.20//NONSGML v1.0//EN
CALSCALE:GREGORIAN
METHOD:PUBLISH
X-WR-CALNAME:Teatro Metamorfosis
X-ORIGINAL-URL:https://teatrometamorfosis.com/es/
X-WR-CALDESC:Eventos para Teatro Metamorfosis
REFRESH-INTERVAL;VALUE=DURATION:PT1H
X-Robots-Tag:noindex
X-PUBLISHED-TTL:PT1H
BEGIN:VTIMEZONE
TZID:Europe/Madrid
BEGIN:DAYLIGHT
TZOFFSETFROM:+0100
TZOFFSETTO:+0200
TZNAME:CEST
DTSTART:20240331T010000
END:DAYLIGHT
BEGIN:STANDARD
TZOFFSETFROM:+0200
TZOFFSETTO:+0100
TZNAME:CET
DTSTART:20241027T010000
END:STANDARD
BEGIN:DAYLIGHT
TZOFFSETFROM:+0100
TZOFFSETTO:+0200
TZNAME:CEST
DTSTART:20250330T010000
END:DAYLIGHT
BEGIN:STANDARD
TZOFFSETFROM:+0200
TZOFFSETTO:+0100
TZNAME:CET
DTSTART:20251026T010000
END:STANDARD
BEGIN:DAYLIGHT
TZOFFSETFROM:+0100
TZOFFSETTO:+0200
TZNAME:CEST
DTSTART:20260329T010000
END:DAYLIGHT
BEGIN:STANDARD
TZOFFSETFROM:+0200
TZOFFSETTO:+0100
TZNAME:CET
DTSTART:20261025T010000
END:STANDARD
END:VTIMEZONE
BEGIN:VEVENT
DTSTART;TZID=Europe/Madrid:20251020T190000
DTEND;TZID=Europe/Madrid:20251020T203000
DTSTAMP:20260424T033712
CREATED:20251004T112559Z
LAST-MODIFIED:20251004T112559Z
UID:5269-1760986800-1760992200@teatrometamorfosis.com
SUMMARY:The inner note
DESCRIPTION:Lucas Herrera Fernández Trío \npresenta THE INNER NOTE en Poble Sec. \nLucas Herrera Fernández – piano y composición \n@lucasherreramusica \nRoman Cubelos – contrabajo \n@roman.cubelos \nHomero Tolosa – batería \n@homerotolosa \nEl trío encabezado por el pianista y compositor Lucas Herrera Fernández continúa con la presentación de su nuevo álbum\, THE INNER NOTE\, con nueve piezas originales grabadas este mes de junio. Un repertorio fresco\, vivo y cargado de identidad propia\, que el público podrá escuchar en directo el Lunes 20 de Octubre\, 19h (puntual) en Teatro Metamorfosis. \nCon sede en Barcelona\, ​​el trío se ha consolidado en los escenarios de la ciudad (Jamboree\, Byron\, MEAM\, CC Can Deu\, Casa Ástor…) ofreciendo una combinación de jazz clásico y composiciones propias que conectan con el público por su autenticidad y energía. \nla entrada a este concierto habilita la permanencia sin cargo a la Jam de Jazz de Poble sec ese mísmo día a las 20:30 hs \nLas puertas se abrirán a las 18:45 \nLa barra estará abierta durante todo el evento. \nLas opciones para la \n consumición incluída en la entrada serán : cerveza\, vino\, cava\, vermut o refresco \nEntradas en puerta : 15€ sin consumición y 18€ con consumición 
URL:https://teatrometamorfosis.com/es/eventos/the-inner-note/
ATTACH;FMTTYPE=image/jpeg:https://teatrometamorfosis.com/wp-content/uploads/2025/10/WhatsApp-Image-2025-10-03-at-09.02.38.jpeg
END:VEVENT
END:VCALENDAR