BEGIN:VCALENDAR
VERSION:2.0
PRODID:-//Teatro Metamorfosis - ECPv6.15.18//NONSGML v1.0//EN
CALSCALE:GREGORIAN
METHOD:PUBLISH
X-WR-CALNAME:Teatro Metamorfosis
X-ORIGINAL-URL:https://teatrometamorfosis.com/es/
X-WR-CALDESC:Eventos para Teatro Metamorfosis
REFRESH-INTERVAL;VALUE=DURATION:PT1H
X-Robots-Tag:noindex
X-PUBLISHED-TTL:PT1H
BEGIN:VTIMEZONE
TZID:Europe/Madrid
BEGIN:DAYLIGHT
TZOFFSETFROM:+0100
TZOFFSETTO:+0200
TZNAME:CEST
DTSTART:20230326T010000
END:DAYLIGHT
BEGIN:STANDARD
TZOFFSETFROM:+0200
TZOFFSETTO:+0100
TZNAME:CET
DTSTART:20231029T010000
END:STANDARD
BEGIN:DAYLIGHT
TZOFFSETFROM:+0100
TZOFFSETTO:+0200
TZNAME:CEST
DTSTART:20240331T010000
END:DAYLIGHT
BEGIN:STANDARD
TZOFFSETFROM:+0200
TZOFFSETTO:+0100
TZNAME:CET
DTSTART:20241027T010000
END:STANDARD
BEGIN:DAYLIGHT
TZOFFSETFROM:+0100
TZOFFSETTO:+0200
TZNAME:CEST
DTSTART:20250330T010000
END:DAYLIGHT
BEGIN:STANDARD
TZOFFSETFROM:+0200
TZOFFSETTO:+0100
TZNAME:CET
DTSTART:20251026T010000
END:STANDARD
END:VTIMEZONE
BEGIN:VEVENT
DTSTART;TZID=Europe/Madrid:20240202T210000
DTEND;TZID=Europe/Madrid:20240202T230000
DTSTAMP:20260420T021832
CREATED:20240116T174112Z
LAST-MODIFIED:20240127T193322Z
UID:2113-1706907600-1706914800@teatrometamorfosis.com
SUMMARY:the unseen thread
DESCRIPTION:THE UNSEEN THREAD Concepto/composición/batería – Edward Ware Coreografía/danza butoh – Josephine Grundy Viola – Paul Cortese Santuarios a los antepasados\, recuerdos de las almas de los difuntos; ¿Cuáles son los hilos que atraviesan la tierra\, en lo profundo de los fundamentos del ADN colectivo de la humanidad\, ese algo en común que desafía la categorización y puede sostener una especie bajo amenaza – ¿una amenaza que ella misma ha creado? Al interactuar con las diversas tradiciones del Butoh japonés y del arte relicario Fang &#39;The Unseen Thread&#39; lleva al público a un campo paradójico de conciencia; uno que resiste la fijeza pero aún así es una presencia constante en la vida. &quot;Todos llevamos oscuridad en alguna parte&quot; (Dark Ballet – una película de Taichi Kimura)\, ya sea la &#39;oscuridad&#39; que el butoh explora en temas tabú\, impulsos primarios y emociones crudas sin explotar – o la &quot;oscuridad&quot; del mundo de los antepasados\, fuerzas que los nómadas Fang llevan consigo reconociendo su alcance en el momento presente a través de su arte relicario. Al utilizar viola y batería\, el mundo sonoro de &#39;The Unseen Thread&#39; manifiesta cualidades líricas y vocales a menudo asociadas con el clasismo europeo\, y a la vez la inmediatez visceral y terrenal de los tambores africanos\, creando así un sonido provocador y contemporáneo que combina a la perfección con la fisicalidad de la bailarina butoh. Entradas en boleteria el dia del evento 12 euros
URL:https://teatrometamorfosis.com/es/eventos/the-unseen-thread/
LOCATION:Teatro Metamorfosis\, Carrer de Tapioles\, 12\, Bajo\, Barcelona\, Barcelona\, 08004\, Spain
ATTACH;FMTTYPE=image/jpeg:https://teatrometamorfosis.com/wp-content/uploads/2024/01/PHOTO-2024-01-16-07-50-43.jpg
END:VEVENT
END:VCALENDAR