BEGIN:VCALENDAR
VERSION:2.0
PRODID:-//Teatro Metamorfosis - ECPv6.15.20//NONSGML v1.0//EN
CALSCALE:GREGORIAN
METHOD:PUBLISH
X-WR-CALNAME:Teatro Metamorfosis
X-ORIGINAL-URL:https://teatrometamorfosis.com/es/
X-WR-CALDESC:Eventos para Teatro Metamorfosis
REFRESH-INTERVAL;VALUE=DURATION:PT1H
X-Robots-Tag:noindex
X-PUBLISHED-TTL:PT1H
BEGIN:VTIMEZONE
TZID:Europe/Madrid
BEGIN:DAYLIGHT
TZOFFSETFROM:+0100
TZOFFSETTO:+0200
TZNAME:CEST
DTSTART:20240331T010000
END:DAYLIGHT
BEGIN:STANDARD
TZOFFSETFROM:+0200
TZOFFSETTO:+0100
TZNAME:CET
DTSTART:20241027T010000
END:STANDARD
BEGIN:DAYLIGHT
TZOFFSETFROM:+0100
TZOFFSETTO:+0200
TZNAME:CEST
DTSTART:20250330T010000
END:DAYLIGHT
BEGIN:STANDARD
TZOFFSETFROM:+0200
TZOFFSETTO:+0100
TZNAME:CET
DTSTART:20251026T010000
END:STANDARD
BEGIN:DAYLIGHT
TZOFFSETFROM:+0100
TZOFFSETTO:+0200
TZNAME:CEST
DTSTART:20260329T010000
END:DAYLIGHT
BEGIN:STANDARD
TZOFFSETFROM:+0200
TZOFFSETTO:+0100
TZNAME:CET
DTSTART:20261025T010000
END:STANDARD
END:VTIMEZONE
BEGIN:VEVENT
DTSTART;TZID=Europe/Madrid:20250425T203000
DTEND;TZID=Europe/Madrid:20250425T220000
DTSTAMP:20260424T080518
CREATED:20250310T221136Z
LAST-MODIFIED:20250326T123857Z
UID:4624-1745613000-1745618400@teatrometamorfosis.com
SUMMARY:Tribus
DESCRIPTION:TRIBUS – Un Viaje Musical que Conecta Culturas “Tribus” es un concierto que une raíces y sonidos del mundo en una experiencia vibrante y envolvente. Inspirado en la diversidad\, fusiona ritmos afroperuanos y andinos con influencias globales y percusiones de Kenia\, Jordania\, Singapur e Irlanda. La voz\, el saxofón y la guitarra se mezclan con secuencias electrónicas\, creando un paisaje sonoro único. En escena\, Carolina Araoz lidera una banda internacional de músicos excepcionales\, con invitados especiales como Ken Ichikawa en la batería y Daniella Ghersi en los coros. Además\, la artista María Gómez dibujará en vivo\, convirtiendo la música en imagen. Escucha Tribus aquí: https://ditto.fm/tribus Un espectáculo donde la música nos recuerda que todos somos parte de una gran tribu global. ¡Los espero!
URL:https://teatrometamorfosis.com/es/eventos/tribus/
ATTACH;FMTTYPE=image/jpeg:https://teatrometamorfosis.com/wp-content/uploads/2025/03/event_m_eb328fb7-8831-42d7-a53a-b820627428e9.jpeg
END:VEVENT
END:VCALENDAR