BEGIN:VCALENDAR
VERSION:2.0
PRODID:-//Teatro Metamorfosis - ECPv6.15.20//NONSGML v1.0//EN
CALSCALE:GREGORIAN
METHOD:PUBLISH
X-WR-CALNAME:Teatro Metamorfosis
X-ORIGINAL-URL:https://teatrometamorfosis.com/es/
X-WR-CALDESC:Eventos para Teatro Metamorfosis
REFRESH-INTERVAL;VALUE=DURATION:PT1H
X-Robots-Tag:noindex
X-PUBLISHED-TTL:PT1H
BEGIN:VTIMEZONE
TZID:Europe/Madrid
BEGIN:DAYLIGHT
TZOFFSETFROM:+0100
TZOFFSETTO:+0200
TZNAME:CEST
DTSTART:20230326T010000
END:DAYLIGHT
BEGIN:STANDARD
TZOFFSETFROM:+0200
TZOFFSETTO:+0100
TZNAME:CET
DTSTART:20231029T010000
END:STANDARD
BEGIN:DAYLIGHT
TZOFFSETFROM:+0100
TZOFFSETTO:+0200
TZNAME:CEST
DTSTART:20240331T010000
END:DAYLIGHT
BEGIN:STANDARD
TZOFFSETFROM:+0200
TZOFFSETTO:+0100
TZNAME:CET
DTSTART:20241027T010000
END:STANDARD
BEGIN:DAYLIGHT
TZOFFSETFROM:+0100
TZOFFSETTO:+0200
TZNAME:CEST
DTSTART:20250330T010000
END:DAYLIGHT
BEGIN:STANDARD
TZOFFSETFROM:+0200
TZOFFSETTO:+0100
TZNAME:CET
DTSTART:20251026T010000
END:STANDARD
END:VTIMEZONE
BEGIN:VEVENT
DTSTART;TZID=Europe/Madrid:20240731T210000
DTEND;TZID=Europe/Madrid:20240731T230000
DTSTAMP:20260424T162024
CREATED:20240618T024805Z
LAST-MODIFIED:20240618T024849Z
UID:3149-1722459600-1722466800@teatrometamorfosis.com
SUMMARY:Universo Cerati
DESCRIPTION:Es un viaje musical por la obra de Gustavo Cerati Nano Radice y Juan Paso Viola hacen una selección de las mejores canciones del músico argentino y comandan un show semi-acústico que recorre algo de la gran trayectoria del líder de Soda Stereo.  Es un show que recuerda a Gustavo Cerati en su etapa solista Se permite el acceso de menores de edad siempre que esten acompañados de un mayor responsable de su seguridad ya sea madre\, padre o tutor legal. La duración de concierto es de 80 minutos aproximadamente El Teatro cuenta con sillas para ver el show sentados y también con una barra de servicios de bebidas
URL:https://teatrometamorfosis.com/es/eventos/universo-cerati/
LOCATION:Teatro Metamofosis\, Carrer de Tapioles 12\, Bajo\, Barcelona\, Barcelona\, 08004\, Spain
ATTACH;FMTTYPE=image/jpeg:https://teatrometamorfosis.com/wp-content/uploads/2024/06/event_entradium_universo_cerati.jpg
END:VEVENT
END:VCALENDAR