BEGIN:VCALENDAR
VERSION:2.0
PRODID:-//Teatro Metamorfosis - ECPv6.15.20//NONSGML v1.0//EN
CALSCALE:GREGORIAN
METHOD:PUBLISH
X-WR-CALNAME:Teatro Metamorfosis
X-ORIGINAL-URL:https://teatrometamorfosis.com/es/
X-WR-CALDESC:Eventos para Teatro Metamorfosis
REFRESH-INTERVAL;VALUE=DURATION:PT1H
X-Robots-Tag:noindex
X-PUBLISHED-TTL:PT1H
BEGIN:VTIMEZONE
TZID:Europe/Madrid
BEGIN:DAYLIGHT
TZOFFSETFROM:+0100
TZOFFSETTO:+0200
TZNAME:CEST
DTSTART:20240331T010000
END:DAYLIGHT
BEGIN:STANDARD
TZOFFSETFROM:+0200
TZOFFSETTO:+0100
TZNAME:CET
DTSTART:20241027T010000
END:STANDARD
BEGIN:DAYLIGHT
TZOFFSETFROM:+0100
TZOFFSETTO:+0200
TZNAME:CEST
DTSTART:20250330T010000
END:DAYLIGHT
BEGIN:STANDARD
TZOFFSETFROM:+0200
TZOFFSETTO:+0100
TZNAME:CET
DTSTART:20251026T010000
END:STANDARD
BEGIN:DAYLIGHT
TZOFFSETFROM:+0100
TZOFFSETTO:+0200
TZNAME:CEST
DTSTART:20260329T010000
END:DAYLIGHT
BEGIN:STANDARD
TZOFFSETFROM:+0200
TZOFFSETTO:+0100
TZNAME:CET
DTSTART:20261025T010000
END:STANDARD
END:VTIMEZONE
BEGIN:VEVENT
DTSTART;TZID=Europe/Madrid:20251117T190000
DTEND;TZID=Europe/Madrid:20251117T200000
DTSTAMP:20260424T010802
CREATED:20251112T213456Z
LAST-MODIFIED:20251112T213512Z
UID:5410-1763406000-1763409600@teatrometamorfosis.com
SUMMARY:YAMILE BURICH & Ornella Contreras
DESCRIPTION:La saxofonista y compositora argentina Yamile Burich\, una de las figuras más destacadas del jazz contemporáneo\, presenta su nuevo proyecto en formato dúo junto a la pianista Ornella Contreras. \nEn esta propuesta\, ambas artistas exploran los puentes entre el jazz\, el tango y el folclore argentino\, combinando composiciones originales con versiones del cancionero nacional en un encuentro íntimo y poderoso. \nCon diez discos editados\, dos nominaciones a los Premios Gardel y el reconocimiento de la Fundación Konex 2025 como Personalidad Destacada del Jazz\, Yamile Burich reafirma su lugar como una de las artistas más influyentes de la música argentina actual. \nDurante el concierto\, el público podrá además adquirir el vinilo Agosto de Yamile Burich\, con un descuento especial. \nLas entradas habilitan la permanencia a la Poble Sec Jam Session a realizarse a continuación del concierto. \nLas puertas se abrirán a las 18:45 h \nLa barra estará abierta durante todo el evento. \nLas opciones para la consumición incluida en la entrada serán: cerveza\, vino\, cava\, vermut o refresco. \nLas entradas con tarifa de PRE-VENTA NO incluyen bebidas
URL:https://teatrometamorfosis.com/es/eventos/yamile-burich-ornella-contreras/
ATTACH;FMTTYPE=image/jpeg:https://teatrometamorfosis.com/wp-content/uploads/2025/11/WhatsApp-Image-2025-11-10-at-08.49.38-1.jpeg
END:VEVENT
END:VCALENDAR