BEGIN:VCALENDAR
VERSION:2.0
PRODID:-//Teatro Metamorfosis - ECPv6.15.18//NONSGML v1.0//EN
CALSCALE:GREGORIAN
METHOD:PUBLISH
X-WR-CALNAME:Teatro Metamorfosis
X-ORIGINAL-URL:https://teatrometamorfosis.com
X-WR-CALDESC:Events for Teatro Metamorfosis
REFRESH-INTERVAL;VALUE=DURATION:PT1H
X-Robots-Tag:noindex
X-PUBLISHED-TTL:PT1H
BEGIN:VTIMEZONE
TZID:Europe/Madrid
BEGIN:DAYLIGHT
TZOFFSETFROM:+0100
TZOFFSETTO:+0200
TZNAME:CEST
DTSTART:20220327T010000
END:DAYLIGHT
BEGIN:STANDARD
TZOFFSETFROM:+0200
TZOFFSETTO:+0100
TZNAME:CET
DTSTART:20221030T010000
END:STANDARD
BEGIN:DAYLIGHT
TZOFFSETFROM:+0100
TZOFFSETTO:+0200
TZNAME:CEST
DTSTART:20230326T010000
END:DAYLIGHT
BEGIN:STANDARD
TZOFFSETFROM:+0200
TZOFFSETTO:+0100
TZNAME:CET
DTSTART:20231029T010000
END:STANDARD
BEGIN:DAYLIGHT
TZOFFSETFROM:+0100
TZOFFSETTO:+0200
TZNAME:CEST
DTSTART:20240331T010000
END:DAYLIGHT
BEGIN:STANDARD
TZOFFSETFROM:+0200
TZOFFSETTO:+0100
TZNAME:CET
DTSTART:20241027T010000
END:STANDARD
END:VTIMEZONE
BEGIN:VEVENT
DTSTART;TZID=Europe/Madrid:20231209T203000
DTEND;TZID=Europe/Madrid:20231209T230000
DTSTAMP:20260420T015756
CREATED:20231127T105218Z
LAST-MODIFIED:20231127T105219Z
UID:2018-1702153800-1702162800@teatrometamorfosis.com
SUMMARY:El chovi y los orgánicos
DESCRIPTION:Íntimo Latinoamérica es una experiencia musical interactiva en la que Víctor Gonzalez “El Chovi” expone su testimonio de vida a través de anécdotas cargadas de profunda reflexión\, y canciones que marcan momentos determinantes en la vida del compositor. todo esto acompañado de la gran energía de dos músicos\, uno de venezuela y un infiltrado de Alemania\, que lograron captar la esencia de la musicalidad de Víctor Gonzalez y llevar eso al ritmo y la melodía.  \n\n\n\n\n\n\n\n\n\n\n\n\n\n\n\n\n\n\n\nComo resultado de todos estos procesos tenemos un repertorio orgánico y diverso\, que mezcla influencias andinas\, caribeñas\, africanas y europeas y que llega al público de una manera fresca y jocosa\, marcando así el comienzo de la carrera solista del Víctor GonzalezEntradas en boleteria el dia del evento 12 euros
URL:https://teatrometamorfosis.com/event/el-chovi-y-los-organicos/
LOCATION:Teatro Metamorfosis\, Carrer de Tapioles\, 12\, Bajo\, Barcelona\, Barcelona\, 08004\, Spain
ATTACH;FMTTYPE=image/jpeg:https://teatrometamorfosis.com/wp-content/uploads/2023/11/WhatsApp-Image-2023-11-09-at-08.32.45.jpeg
END:VEVENT
END:VCALENDAR