BEGIN:VCALENDAR
VERSION:2.0
PRODID:-//Teatro Metamorfosis - ECPv6.15.18//NONSGML v1.0//EN
CALSCALE:GREGORIAN
METHOD:PUBLISH
X-WR-CALNAME:Teatro Metamorfosis
X-ORIGINAL-URL:https://teatrometamorfosis.com
X-WR-CALDESC:Events for Teatro Metamorfosis
REFRESH-INTERVAL;VALUE=DURATION:PT1H
X-Robots-Tag:noindex
X-PUBLISHED-TTL:PT1H
BEGIN:VTIMEZONE
TZID:Europe/Madrid
BEGIN:DAYLIGHT
TZOFFSETFROM:+0100
TZOFFSETTO:+0200
TZNAME:CEST
DTSTART:20220327T010000
END:DAYLIGHT
BEGIN:STANDARD
TZOFFSETFROM:+0200
TZOFFSETTO:+0100
TZNAME:CET
DTSTART:20221030T010000
END:STANDARD
BEGIN:DAYLIGHT
TZOFFSETFROM:+0100
TZOFFSETTO:+0200
TZNAME:CEST
DTSTART:20230326T010000
END:DAYLIGHT
BEGIN:STANDARD
TZOFFSETFROM:+0200
TZOFFSETTO:+0100
TZNAME:CET
DTSTART:20231029T010000
END:STANDARD
BEGIN:DAYLIGHT
TZOFFSETFROM:+0100
TZOFFSETTO:+0200
TZNAME:CEST
DTSTART:20240331T010000
END:DAYLIGHT
BEGIN:STANDARD
TZOFFSETFROM:+0200
TZOFFSETTO:+0100
TZNAME:CET
DTSTART:20241027T010000
END:STANDARD
END:VTIMEZONE
BEGIN:VEVENT
DTSTART;TZID=Europe/Madrid:20231215T210000
DTEND;TZID=Europe/Madrid:20231215T223000
DTSTAMP:20260420T015743
CREATED:20231127T025118Z
LAST-MODIFIED:20231127T025119Z
UID:2014-1702674000-1702679400@teatrometamorfosis.com
SUMMARY:La Bambola Cabret
DESCRIPTION:*English Below* \n\n\n\n\n\n\n\n\n\n\n\n\n\n\n\n\n\n\n\nLa BAMBOLA nace del deseo irrefrenable de revivir la esencia del auténtico cabaret. Nuestra compañía tiene como objetivo invitaros a sentir el placer de reír\, de la música en directo\, la actuación y la voz en vivo.Un espectáculo sorprendente\, divertido\, sensual y con un toque naïf. ¿Te lo vas a perder? DIRECCIÓNEstela MejíaLorena GinerDIRECCIÓN TÉCNICAJose Bailón ARTISTAS Adriano Torregiani (Saxo)Matías Muñoz (Piano)Lorena Giner – Loren (Voz/Actriz)Estela Mejía – Mei (Actriz/Bailarina)Jose Bailón (Maestro de Ceremonias)Chus – Miss Kiannah (actriz/bailarina) Mientras que la parte hablada de este espectáculo es en castellano\, la mayoría de las actuaciones trascienden el lenguaje *** LA BAMBOLA is born from the unstoppable desire to relive the essence of authentic cabaret. Our company aims to invite you to feel the pleasure of laughter\, live music\, performance\, and live vocals. A surprising\, fun\, sensual show with a touch of naïveté. You don’t want to miss it! DIRECTED BY: Estela Mejía\, Lorena Giner TECHNICAL DIRECTOR: Jose Bailón ARTISTS: Horacio Ladrón de Guevara – Brigitte (Transformist) Adriano Torregiani (Saxophone) Matías Muñoz (Piano) Lorena Giner – Loren (Vocalist/Actress) Estela Mejía – Mei (Actress/Dancer) Jose Bailón (Master of Ceremonies While the speaking part of this show is in Spanish\, most of the performances transcend language
URL:https://teatrometamorfosis.com/event/la-bambola-cabret/
LOCATION:Teatro Metamorfosis\, Carrer de Tapioles\, 12\, Bajo\, Barcelona\, Barcelona\, 08004\, Spain
ATTACH;FMTTYPE=image/jpeg:https://teatrometamorfosis.com/wp-content/uploads/2023/07/WhatsApp-Image-2023-08-09-at-10.03.54-e1693179571470.jpeg
END:VEVENT
END:VCALENDAR