BEGIN:VCALENDAR
VERSION:2.0
PRODID:-//Teatro Metamorfosis - ECPv6.15.20//NONSGML v1.0//EN
CALSCALE:GREGORIAN
METHOD:PUBLISH
X-WR-CALNAME:Teatro Metamorfosis
X-ORIGINAL-URL:https://teatrometamorfosis.com
X-WR-CALDESC:Events for Teatro Metamorfosis
REFRESH-INTERVAL;VALUE=DURATION:PT1H
X-Robots-Tag:noindex
X-PUBLISHED-TTL:PT1H
BEGIN:VTIMEZONE
TZID:Europe/Madrid
BEGIN:DAYLIGHT
TZOFFSETFROM:+0100
TZOFFSETTO:+0200
TZNAME:CEST
DTSTART:20240331T010000
END:DAYLIGHT
BEGIN:STANDARD
TZOFFSETFROM:+0200
TZOFFSETTO:+0100
TZNAME:CET
DTSTART:20241027T010000
END:STANDARD
BEGIN:DAYLIGHT
TZOFFSETFROM:+0100
TZOFFSETTO:+0200
TZNAME:CEST
DTSTART:20250330T010000
END:DAYLIGHT
BEGIN:STANDARD
TZOFFSETFROM:+0200
TZOFFSETTO:+0100
TZNAME:CET
DTSTART:20251026T010000
END:STANDARD
BEGIN:DAYLIGHT
TZOFFSETFROM:+0100
TZOFFSETTO:+0200
TZNAME:CEST
DTSTART:20260329T010000
END:DAYLIGHT
BEGIN:STANDARD
TZOFFSETFROM:+0200
TZOFFSETTO:+0100
TZNAME:CET
DTSTART:20261025T010000
END:STANDARD
END:VTIMEZONE
BEGIN:VEVENT
DTSTART;TZID=Europe/Madrid:20251110T190000
DTEND;TZID=Europe/Madrid:20251110T200000
DTSTAMP:20260424T011024
CREATED:20251010T105817Z
LAST-MODIFIED:20251015T094906Z
UID:5281-1762801200-1762804800@teatrometamorfosis.com
SUMMARY:Liquid
DESCRIPTION:Música improvisada de percusión\, teclado y voz con visuales a tiempo real\, transitando la belleza líquida\, orgánica\, natural\, selvática\, y espacios afines. El trio musical acaba de grabar su primer disco de estudio e inicia con este concierto un ciclo de colaboraciones para explorar conceptos de lo humano\, lo terrenal y lo cósmico. En esta ocasión vienen acompañados de un pintor artístico que con sus visuales nos adentraran en el viaje de hoy\, ‘LIQUID’. \n\n\n\n\n\n\n\n\n\n\n\n\n\n\n\n\n\n\n\n\nTomàs Becket\, piano y sintetizador \nJoao Vieira\, bateria y percusión \nJordi Rabascall\, voz y efectos \nTxema Rico\, visuales \nla entrada habilita la permanencia a la Poble Sec Jam de Jazz a continuación del concierto \nLas puertas se abrirán a las 18:45 \nLa barra estará abierta durante todo el evento. \nLas opciones para la consumición incluída en la entrada serán : cerveza\, vino\, cava\, vermut o refresco. \nLas entradas compradas con código de descuento NO incluyen bebidas
URL:https://teatrometamorfosis.com/event/liquid/
ATTACH;FMTTYPE=image/jpeg:https://teatrometamorfosis.com/wp-content/uploads/2025/10/WhatsApp-Image-2025-10-14-at-13.37.02.jpeg
END:VEVENT
END:VCALENDAR