BEGIN:VCALENDAR
VERSION:2.0
PRODID:-//Teatro Metamorfosis - ECPv6.15.18//NONSGML v1.0//EN
CALSCALE:GREGORIAN
METHOD:PUBLISH
X-WR-CALNAME:Teatro Metamorfosis
X-ORIGINAL-URL:https://teatrometamorfosis.com
X-WR-CALDESC:Events for Teatro Metamorfosis
REFRESH-INTERVAL;VALUE=DURATION:PT1H
X-Robots-Tag:noindex
X-PUBLISHED-TTL:PT1H
BEGIN:VTIMEZONE
TZID:Europe/Madrid
BEGIN:DAYLIGHT
TZOFFSETFROM:+0100
TZOFFSETTO:+0200
TZNAME:CEST
DTSTART:20220327T010000
END:DAYLIGHT
BEGIN:STANDARD
TZOFFSETFROM:+0200
TZOFFSETTO:+0100
TZNAME:CET
DTSTART:20221030T010000
END:STANDARD
BEGIN:DAYLIGHT
TZOFFSETFROM:+0100
TZOFFSETTO:+0200
TZNAME:CEST
DTSTART:20230326T010000
END:DAYLIGHT
BEGIN:STANDARD
TZOFFSETFROM:+0200
TZOFFSETTO:+0100
TZNAME:CET
DTSTART:20231029T010000
END:STANDARD
BEGIN:DAYLIGHT
TZOFFSETFROM:+0100
TZOFFSETTO:+0200
TZNAME:CEST
DTSTART:20240331T010000
END:DAYLIGHT
BEGIN:STANDARD
TZOFFSETFROM:+0200
TZOFFSETTO:+0100
TZNAME:CET
DTSTART:20241027T010000
END:STANDARD
END:VTIMEZONE
BEGIN:VEVENT
DTSTART;TZID=Europe/Madrid:20230617T220000
DTEND;TZID=Europe/Madrid:20230617T230000
DTSTAMP:20260420T071150
CREATED:20230529T171209Z
LAST-MODIFIED:20230530T020646Z
UID:10000115-1687039200-1687042800@teatrometamorfosis.com
SUMMARY:Noche de monólogos
DESCRIPTION:If you’re looking for an authentic live comedy experience\, there’s nothing like a comedy club in New York. The city that never sleeps is known for its vibrant comedy scenes. Noche de Monólogos in Barcelona brings the authentic experience of a New York comedy club to our city. You’ll immerse yourself in an intimate and cozy environment where excitement and energy are felt in the air. You’ll see some of the best comedians from the Barcelona circuit interact directly with the audience\, and vice versa\, while enjoying a drink and laughing alongside them. We’re waiting for you! Show in Spanish.
URL:https://teatrometamorfosis.com/event/noche-de-monologos-4/2023-06-17/
LOCATION:Teatro Metamorfosis\, Carrer de Tapioles\, 12\, Bajo\, Barcelona\, Barcelona\, 08004\, Spain
ATTACH;FMTTYPE=image/jpeg:https://teatrometamorfosis.com/wp-content/uploads/2023/04/Teatro-metamorfosis-NOCHE-DE-MONOLOGOS.jpeg
END:VEVENT
END:VCALENDAR