BEGIN:VCALENDAR
VERSION:2.0
PRODID:-//Teatro Metamorfosis - ECPv6.15.18//NONSGML v1.0//EN
CALSCALE:GREGORIAN
METHOD:PUBLISH
X-WR-CALNAME:Teatro Metamorfosis
X-ORIGINAL-URL:https://teatrometamorfosis.com
X-WR-CALDESC:Events for Teatro Metamorfosis
REFRESH-INTERVAL;VALUE=DURATION:PT1H
X-Robots-Tag:noindex
X-PUBLISHED-TTL:PT1H
BEGIN:VTIMEZONE
TZID:Europe/Madrid
BEGIN:DAYLIGHT
TZOFFSETFROM:+0100
TZOFFSETTO:+0200
TZNAME:CEST
DTSTART:20220327T010000
END:DAYLIGHT
BEGIN:STANDARD
TZOFFSETFROM:+0200
TZOFFSETTO:+0100
TZNAME:CET
DTSTART:20221030T010000
END:STANDARD
BEGIN:DAYLIGHT
TZOFFSETFROM:+0100
TZOFFSETTO:+0200
TZNAME:CEST
DTSTART:20230326T010000
END:DAYLIGHT
BEGIN:STANDARD
TZOFFSETFROM:+0200
TZOFFSETTO:+0100
TZNAME:CET
DTSTART:20231029T010000
END:STANDARD
BEGIN:DAYLIGHT
TZOFFSETFROM:+0100
TZOFFSETTO:+0200
TZNAME:CEST
DTSTART:20240331T010000
END:DAYLIGHT
BEGIN:STANDARD
TZOFFSETFROM:+0200
TZOFFSETTO:+0100
TZNAME:CET
DTSTART:20241027T010000
END:STANDARD
END:VTIMEZONE
BEGIN:VEVENT
DTSTART;TZID=Europe/Madrid:20230909T210000
DTEND;TZID=Europe/Madrid:20230909T230000
DTSTAMP:20260420T051611
CREATED:20230818T141151Z
LAST-MODIFIED:20230818T141152Z
UID:1797-1694293200-1694300400@teatrometamorfosis.com
SUMMARY:Piwa la piwa
DESCRIPTION:Piwa La Piwa es un cantautor y compositor argentino que combina música\, teatro y comedia. Ahora está de gira por Europa presentando su reciente álbum titulado Noche de Hotel\, un disco conceptual que consiste de canciones que narran como un guión el periplo nostálgico de su protagonista. El formato del show es unipersonal combinando monólogos con canciones \n\n\n\n\n\n\n\n\n\n\n\n\n\n\n\n\n\n\n\nEntradas en boleteria el dia del evento 12 euros. – entradas anticipadas 10 euros
URL:https://teatrometamorfosis.com/event/piwa-la-piwa/
LOCATION:Teatro Metamorfosis\, Carrer de Tapioles\, 12\, Bajo\, Barcelona\, Barcelona\, 08004\, Spain
ATTACH;FMTTYPE=image/jpeg:https://teatrometamorfosis.com/wp-content/uploads/2023/08/WhatsApp-Image-2023-08-18-at-07.21.54.jpeg
END:VEVENT
END:VCALENDAR