BEGIN:VCALENDAR
VERSION:2.0
PRODID:-//Teatro Metamorfosis - ECPv6.15.20//NONSGML v1.0//EN
CALSCALE:GREGORIAN
METHOD:PUBLISH
X-WR-CALNAME:Teatro Metamorfosis
X-ORIGINAL-URL:https://teatrometamorfosis.com
X-WR-CALDESC:Events for Teatro Metamorfosis
REFRESH-INTERVAL;VALUE=DURATION:PT1H
X-Robots-Tag:noindex
X-PUBLISHED-TTL:PT1H
BEGIN:VTIMEZONE
TZID:Europe/Madrid
BEGIN:DAYLIGHT
TZOFFSETFROM:+0100
TZOFFSETTO:+0200
TZNAME:CEST
DTSTART:20240331T010000
END:DAYLIGHT
BEGIN:STANDARD
TZOFFSETFROM:+0200
TZOFFSETTO:+0100
TZNAME:CET
DTSTART:20241027T010000
END:STANDARD
BEGIN:DAYLIGHT
TZOFFSETFROM:+0100
TZOFFSETTO:+0200
TZNAME:CEST
DTSTART:20250330T010000
END:DAYLIGHT
BEGIN:STANDARD
TZOFFSETFROM:+0200
TZOFFSETTO:+0100
TZNAME:CET
DTSTART:20251026T010000
END:STANDARD
BEGIN:DAYLIGHT
TZOFFSETFROM:+0100
TZOFFSETTO:+0200
TZNAME:CEST
DTSTART:20260329T010000
END:DAYLIGHT
BEGIN:STANDARD
TZOFFSETFROM:+0200
TZOFFSETTO:+0100
TZNAME:CET
DTSTART:20261025T010000
END:STANDARD
END:VTIMEZONE
BEGIN:VEVENT
DTSTART;TZID=Europe/Madrid:20250901T200000
DTEND;TZID=Europe/Madrid:20250901T230000
DTSTAMP:20260425T170952
CREATED:20250813T211405Z
LAST-MODIFIED:20250813T211751Z
UID:10002492-1756756800-1756767600@teatrometamorfosis.com
SUMMARY:Poble Sec jam session
DESCRIPTION:Nueva Jam Session de Jazz en Poble Sec\, abierta al Jazz y otros estilos musicales. Un espacio para la improvisación y la creatividad. \n\n\n\n\n\n\n\n\n\n\n\n\n\n\n\n\n\n\n\n\nInvitamos a participar a todos los músicos y amantes de la música en directo! \nA las 20:00 en Teatro Metamorfosis Carrer Tapioles 12\, Poble Sec \nEntrada general 5€ \nMúsicos: 3€ con consumición
URL:https://teatrometamorfosis.com/event/poble-sec-jam-session-3/2025-09-01/
ATTACH;FMTTYPE=image/jpeg:https://teatrometamorfosis.com/wp-content/uploads/2025/08/WhatsApp-Image-2025-08-13-at-17.18.59.jpeg
END:VEVENT
END:VCALENDAR