BEGIN:VCALENDAR
VERSION:2.0
PRODID:-//Teatro Metamorfosis - ECPv6.15.18//NONSGML v1.0//EN
CALSCALE:GREGORIAN
METHOD:PUBLISH
X-WR-CALNAME:Teatro Metamorfosis
X-ORIGINAL-URL:https://teatrometamorfosis.com
X-WR-CALDESC:Events for Teatro Metamorfosis
REFRESH-INTERVAL;VALUE=DURATION:PT1H
X-Robots-Tag:noindex
X-PUBLISHED-TTL:PT1H
BEGIN:VTIMEZONE
TZID:Europe/Madrid
BEGIN:DAYLIGHT
TZOFFSETFROM:+0100
TZOFFSETTO:+0200
TZNAME:CEST
DTSTART:20220327T010000
END:DAYLIGHT
BEGIN:STANDARD
TZOFFSETFROM:+0200
TZOFFSETTO:+0100
TZNAME:CET
DTSTART:20221030T010000
END:STANDARD
BEGIN:DAYLIGHT
TZOFFSETFROM:+0100
TZOFFSETTO:+0200
TZNAME:CEST
DTSTART:20230326T010000
END:DAYLIGHT
BEGIN:STANDARD
TZOFFSETFROM:+0200
TZOFFSETTO:+0100
TZNAME:CET
DTSTART:20231029T010000
END:STANDARD
BEGIN:DAYLIGHT
TZOFFSETFROM:+0100
TZOFFSETTO:+0200
TZNAME:CEST
DTSTART:20240331T010000
END:DAYLIGHT
BEGIN:STANDARD
TZOFFSETFROM:+0200
TZOFFSETTO:+0100
TZNAME:CET
DTSTART:20241027T010000
END:STANDARD
END:VTIMEZONE
BEGIN:VEVENT
DTSTART;TZID=Europe/Madrid:20230604T210000
DTEND;TZID=Europe/Madrid:20230604T234500
DTSTAMP:20260421T084338
CREATED:20230530T103450Z
LAST-MODIFIED:20230620T132907Z
UID:10000073-1685912400-1685922300@teatrometamorfosis.com
SUMMARY:Sarava music session
DESCRIPTION:Saravá! Brazil “A space that opens up to songs\, a table that invites us to sing what the hearts have to say. Everyone is welcome\, saravá!” Saravá is not a jam session\, nor is it a concert. It is a party\, a gathering where you can come to enjoy music with the closeness of your living room. We will sing repertoire of Brazilian music and other folklores. There will be invited artists who will come to share their songs\, we will drink and eat\, but above all\, we will spend Sunday in great company.  \n\n\n\n\n\n\n\n\n\n\n\n\n\n\n\n\n\n\n\nFREE ENTRY\, don’t be late! 
URL:https://teatrometamorfosis.com/event/sarava-music-session-2/2023-06-04/
LOCATION:Teatro Metamorfosis\, Carrer de Tapioles\, 12\, Bajo\, Barcelona\, Barcelona\, 08004\, Spain
ATTACH;FMTTYPE=image/jpeg:https://teatrometamorfosis.com/wp-content/uploads/2023/05/SARAVAA.jpeg
END:VEVENT
END:VCALENDAR