BEGIN:VCALENDAR
VERSION:2.0
PRODID:-//Teatro Metamorfosis - ECPv6.15.20//NONSGML v1.0//EN
CALSCALE:GREGORIAN
METHOD:PUBLISH
X-WR-CALNAME:Teatro Metamorfosis
X-ORIGINAL-URL:https://teatrometamorfosis.com
X-WR-CALDESC:Events for Teatro Metamorfosis
REFRESH-INTERVAL;VALUE=DURATION:PT1H
X-Robots-Tag:noindex
X-PUBLISHED-TTL:PT1H
BEGIN:VTIMEZONE
TZID:Europe/Madrid
BEGIN:DAYLIGHT
TZOFFSETFROM:+0100
TZOFFSETTO:+0200
TZNAME:CEST
DTSTART:20240331T010000
END:DAYLIGHT
BEGIN:STANDARD
TZOFFSETFROM:+0200
TZOFFSETTO:+0100
TZNAME:CET
DTSTART:20241027T010000
END:STANDARD
BEGIN:DAYLIGHT
TZOFFSETFROM:+0100
TZOFFSETTO:+0200
TZNAME:CEST
DTSTART:20250330T010000
END:DAYLIGHT
BEGIN:STANDARD
TZOFFSETFROM:+0200
TZOFFSETTO:+0100
TZNAME:CET
DTSTART:20251026T010000
END:STANDARD
BEGIN:DAYLIGHT
TZOFFSETFROM:+0100
TZOFFSETTO:+0200
TZNAME:CEST
DTSTART:20260329T010000
END:DAYLIGHT
BEGIN:STANDARD
TZOFFSETFROM:+0200
TZOFFSETTO:+0100
TZNAME:CET
DTSTART:20261025T010000
END:STANDARD
END:VTIMEZONE
BEGIN:VEVENT
DTSTART;TZID=Europe/Madrid:20250328T193000
DTEND;TZID=Europe/Madrid:20250328T220000
DTSTAMP:20260424T080659
CREATED:20250305T121352Z
LAST-MODIFIED:20250305T121356Z
UID:4612-1743190200-1743199200@teatrometamorfosis.com
SUMMARY:Soialuc String Quartet
DESCRIPTION:Soialuc String Quartet \n\n\n\n\n\n\n\n\n\n\n\n\n\n\n\n\n\n\n\n Música de Película  Te invitamos a una noche mágica llena de música y cine con el Soialuc String Quartet\, un cuarteto formado por músicos de distintas partes del mundo que se conocieron en el Conservatorio del Liceu. En esta ocasión\, cerrarán la temporada con un emotivo cava concert en homenaje a Guillermo Jure\, interpretando las bandas sonoras más icónicas de la historia del cine. Después del concierto los oyentes podrán quedarse a la Jazz Jam Session gratuitamente que organiza el Teatro Metamorfosis.  Fecha: Viernes 28 de marzo Hora: 19:30 hrs Lugar: Sala Metamorfosis\, Barcelona.
URL:https://teatrometamorfosis.com/event/soialuc-string-quartet/
ATTACH;FMTTYPE=image/jpeg:https://teatrometamorfosis.com/wp-content/uploads/2025/03/WhatsApp-Image-2025-03-04-at-18.25.37.jpeg
END:VEVENT
END:VCALENDAR