BEGIN:VCALENDAR
VERSION:2.0
PRODID:-//Teatro Metamorfosis - ECPv6.15.18//NONSGML v1.0//EN
CALSCALE:GREGORIAN
METHOD:PUBLISH
X-WR-CALNAME:Teatro Metamorfosis
X-ORIGINAL-URL:https://teatrometamorfosis.com
X-WR-CALDESC:Events for Teatro Metamorfosis
REFRESH-INTERVAL;VALUE=DURATION:PT1H
X-Robots-Tag:noindex
X-PUBLISHED-TTL:PT1H
BEGIN:VTIMEZONE
TZID:Europe/Madrid
BEGIN:DAYLIGHT
TZOFFSETFROM:+0100
TZOFFSETTO:+0200
TZNAME:CEST
DTSTART:20220327T010000
END:DAYLIGHT
BEGIN:STANDARD
TZOFFSETFROM:+0200
TZOFFSETTO:+0100
TZNAME:CET
DTSTART:20221030T010000
END:STANDARD
BEGIN:DAYLIGHT
TZOFFSETFROM:+0100
TZOFFSETTO:+0200
TZNAME:CEST
DTSTART:20230326T010000
END:DAYLIGHT
BEGIN:STANDARD
TZOFFSETFROM:+0200
TZOFFSETTO:+0100
TZNAME:CET
DTSTART:20231029T010000
END:STANDARD
BEGIN:DAYLIGHT
TZOFFSETFROM:+0100
TZOFFSETTO:+0200
TZNAME:CEST
DTSTART:20240331T010000
END:DAYLIGHT
BEGIN:STANDARD
TZOFFSETFROM:+0200
TZOFFSETTO:+0100
TZNAME:CET
DTSTART:20241027T010000
END:STANDARD
END:VTIMEZONE
BEGIN:VEVENT
DTSTART;TZID=Europe/Madrid:20231125T210000
DTEND;TZID=Europe/Madrid:20231125T220000
DTSTAMP:20260420T033207
CREATED:20231121T154839Z
LAST-MODIFIED:20231121T154840Z
UID:1997-1700946000-1700949600@teatrometamorfosis.com
SUMMARY:Stand up comedy
DESCRIPTION:Don’t miss this unique opportunity to witness the explosive humor of Adam Hmada and his fellow comedian\, Omar Jenkins! \n\n\n\n\n\n\n\n\n\n\n\n\n\n\n\n\n\n\n\nFrom the bustling streets of New York City to the vibrant lanes of Barcelona\, these two comedy masters have traveled to tickle your funny bone. With performances at prestigious comedy clubs in New York\, including Stand\, New York Comedy Club\, Broadway Comedy Club\, Greenwich Village Comedy Club\, Lol Comedy Club\, and more\, they have mastered the art of stand-up. These two veteran comedians are ready to make you burst into laughter in a comedy show you won’t forget. Be sure to mark your calendars from November 24th to 28th\, because this is your chance to enjoy a night of world-class humor! Stay tuned for more details about this exciting comedy event coming to Barcelona! You won’t want to miss it! 
URL:https://teatrometamorfosis.com/event/stand-up-comedy/
LOCATION:Teatro Metamorfosis\, Carrer de Tapioles\, 12\, Bajo\, Barcelona\, Barcelona\, 08004\, Spain
ATTACH;FMTTYPE=image/jpeg:https://teatrometamorfosis.com/wp-content/uploads/2023/11/feliz-primavera-2.jpg
END:VEVENT
END:VCALENDAR