BEGIN:VCALENDAR
VERSION:2.0
PRODID:-//Teatro Metamorfosis - ECPv6.15.18//NONSGML v1.0//EN
CALSCALE:GREGORIAN
METHOD:PUBLISH
X-WR-CALNAME:Teatro Metamorfosis
X-ORIGINAL-URL:https://teatrometamorfosis.com
X-WR-CALDESC:Events for Teatro Metamorfosis
REFRESH-INTERVAL;VALUE=DURATION:PT1H
X-Robots-Tag:noindex
X-PUBLISHED-TTL:PT1H
BEGIN:VTIMEZONE
TZID:Europe/Madrid
BEGIN:DAYLIGHT
TZOFFSETFROM:+0100
TZOFFSETTO:+0200
TZNAME:CEST
DTSTART:20220327T010000
END:DAYLIGHT
BEGIN:STANDARD
TZOFFSETFROM:+0200
TZOFFSETTO:+0100
TZNAME:CET
DTSTART:20221030T010000
END:STANDARD
BEGIN:DAYLIGHT
TZOFFSETFROM:+0100
TZOFFSETTO:+0200
TZNAME:CEST
DTSTART:20230326T010000
END:DAYLIGHT
BEGIN:STANDARD
TZOFFSETFROM:+0200
TZOFFSETTO:+0100
TZNAME:CET
DTSTART:20231029T010000
END:STANDARD
BEGIN:DAYLIGHT
TZOFFSETFROM:+0100
TZOFFSETTO:+0200
TZNAME:CEST
DTSTART:20240331T010000
END:DAYLIGHT
BEGIN:STANDARD
TZOFFSETFROM:+0200
TZOFFSETTO:+0100
TZNAME:CET
DTSTART:20241027T010000
END:STANDARD
END:VTIMEZONE
BEGIN:VEVENT
DTSTART;TZID=Europe/Madrid:20230711T190000
DTEND;TZID=Europe/Madrid:20230711T230000
DTSTAMP:20260420T071015
CREATED:20230705T125020Z
LAST-MODIFIED:20230705T125021Z
UID:1668-1689102000-1689116400@teatrometamorfosis.com
SUMMARY:Teetotal Tuesdays
DESCRIPTION:🎉 Introducing Teetotal Tuesdays at Teatro Metamorfosis! 🍹 Get ready to turn prohibition on its head at our speakeasy-inspired non-alcoholic happy hour! Welcome to Teetotal Tuesdays\, where being sober is the new secret to endless fun! 🥳🍷 Join us every other Tuesday from 19:00h at the clandestine hideout of Teatro Metamorfosis on Carrer de Tapioles. Step into a world where the thrill of the Roaring Twenties meets the joy of alcohol-free indulgence. It’s a speakeasy like no other\, where secrets are shared\, laughter echoes\, and the mocktails flow like liquid gold! 🌈🍻 At Teetotal Tuesdays\, we’ve turned the tables on prohibition and transformed it into a raucous celebration of choice! Our remarkable selection of alcohol-free wines\, beers\, and mind-blowing mocktails (brought to you by Beber Sin will leave you in awe. So\, gather your crew\, don your most dapper attire\, and experience the speakeasy revolution where sobriety reigns supreme! 🍹😋 Here’s a little joke to tickle your funny bone: What do you call a secret party for non-drinkers? A “speakeasily” (guarded secret\, of course!) 😉🤫 At Teetotal Tuesdays\, we believe that the real secret to a good time lies in the company you keep\, the flavors you savor\, and the laughter that fills the air. So\, grab a glass (of alcohol-free bliss!)\, mingle with fellow revelers\, and uncover the joy of being fully present in every magical moment! 🥂🎉 Cheers to a world where the secret to bliss lies in embracing sobriety (even if it’s just for a night)! 🌟🥤 Remember\, the password is “Speakeasy” and the fun is waiting to be discovered. See you there! 🥳🌿🍸This event is open to all\, and suitable for all languages. There will be no alcohol present. For any questions\, please email info@teatrometamorfosis.com FREE ENTRY
URL:https://teatrometamorfosis.com/event/teetotal-tuesdays-2/
LOCATION:Teatro Metamorfosis\, Carrer de Tapioles\, 12\, Bajo\, Barcelona\, Barcelona\, 08004\, Spain
ATTACH;FMTTYPE=image/jpeg:https://teatrometamorfosis.com/wp-content/uploads/2023/07/Teetotaltuesdays.jpeg
END:VEVENT
END:VCALENDAR