BEGIN:VCALENDAR
VERSION:2.0
PRODID:-//Teatro Metamorfosis - ECPv6.15.20//NONSGML v1.0//EN
CALSCALE:GREGORIAN
METHOD:PUBLISH
X-ORIGINAL-URL:https://teatrometamorfosis.com
X-WR-CALDESC:Events for Teatro Metamorfosis
REFRESH-INTERVAL;VALUE=DURATION:PT1H
X-Robots-Tag:noindex
X-PUBLISHED-TTL:PT1H
BEGIN:VTIMEZONE
TZID:Europe/Madrid
BEGIN:DAYLIGHT
TZOFFSETFROM:+0100
TZOFFSETTO:+0200
TZNAME:CEST
DTSTART:20250330T010000
END:DAYLIGHT
BEGIN:STANDARD
TZOFFSETFROM:+0200
TZOFFSETTO:+0100
TZNAME:CET
DTSTART:20251026T010000
END:STANDARD
BEGIN:DAYLIGHT
TZOFFSETFROM:+0100
TZOFFSETTO:+0200
TZNAME:CEST
DTSTART:20260329T010000
END:DAYLIGHT
BEGIN:STANDARD
TZOFFSETFROM:+0200
TZOFFSETTO:+0100
TZNAME:CET
DTSTART:20261025T010000
END:STANDARD
BEGIN:DAYLIGHT
TZOFFSETFROM:+0100
TZOFFSETTO:+0200
TZNAME:CEST
DTSTART:20270328T010000
END:DAYLIGHT
BEGIN:STANDARD
TZOFFSETFROM:+0200
TZOFFSETTO:+0100
TZNAME:CET
DTSTART:20271031T010000
END:STANDARD
BEGIN:DAYLIGHT
TZOFFSETFROM:+0100
TZOFFSETTO:+0200
TZNAME:CEST
DTSTART:20280326T010000
END:DAYLIGHT
BEGIN:STANDARD
TZOFFSETFROM:+0200
TZOFFSETTO:+0100
TZNAME:CET
DTSTART:20281029T010000
END:STANDARD
END:VTIMEZONE
BEGIN:VEVENT
DTSTART;TZID=Europe/Madrid:20260424T200000
DTEND;TZID=Europe/Madrid:20260424T220000
DTSTAMP:20260423T234540
CREATED:20260409T121105Z
LAST-MODIFIED:20260409T121105Z
UID:10002986-1777060800-1777068000@teatrometamorfosis.com
SUMMARY:Betovitz y Svesda
DESCRIPTION:Doble concierto de Svesda (Gran Canaria) y Betovitz (México). \nSvesda es el proyecto de Santiago Pérez Díaz\, natural de Gran Canaria. Dentro de la electrónica/ambient/bedroom pop\, en esta ocasión viene a Teatro Metamorfosis a presentar lo que será su primer disco “Canciones De Santiago”: Pura canción de guitarra y voz\, íntima y que nace en el cuarto\, llevada a formato banda\, con influencias tales como King Krule\, Wet Leg\, Cosmo Pyke y Mount Kimbie\, entre otros. \nBetovitz es el proyecto de Roberto Hernando\, músico originario de Ciudad Valles\, México. Navegando entre el lo-fi\, el indie pop rock y tintes de psicodelia —con una propuesta influenciada por la estética de referentes como Mac DeMarco o Steely Dan—\, llega en esta ocasión al Teatro Metamorfosis para presentar su álbum debut: Betov1tz. El público podrá disfrutar por primera vez de una selección de temas del disco interpretados en formato de banda completa. \nLas puertas se abrirán a las 19:45\nLa barra estará abierta durante todo el evento.\nLas opciones para la consumición incluída en la entrada serán : cerveza\, vino\, cava\, vermut o refresco.\nLa entrada comprada en puerta el día del evento costará 15€ ( sin consumición ) y 18€ ( con 1 consumición incluída )\nLas entradas compradas con código de descuento NO incluyen bebidas
URL:https://teatrometamorfosis.com/event/betovitz-y-svesda/
ATTACH;FMTTYPE=image/jpeg:https://teatrometamorfosis.com/wp-content/uploads/2026/04/WhatsApp-Image-2026-04-09-at-07.15.36.jpeg
END:VEVENT
BEGIN:VEVENT
DTSTART;TZID=Europe/Madrid:20260425T203000
DTEND;TZID=Europe/Madrid:20260425T223000
DTSTAMP:20260423T234540
CREATED:20251022T223456Z
LAST-MODIFIED:20260312T113217Z
UID:10002904-1777149000-1777156200@teatrometamorfosis.com
SUMMARY:IRIS FLAMENCAS
DESCRIPTION:Iris Flamencas es una creación artística flamenca integrada por mujeres: IRENE ZUGAZA (cantante y viola)\, ISABEL RIVERA (baile) y ANGELA ZARZUELA (guitarra). \nDesde Barcelona\, Madrid y Cádiz\, y con una trayectoria marcada por su formación y experiencia en Andalucía\, se reúnen actualmente en la escena musical barcelonesa con una voz propia que reivindica el papel de la mujer en el flamenco. \nSu propuesta parte del flamenco tradicional de tablao\, al que se suman nuevas pinceladas melódicas gracias a la viola\, movimientos majestuosos\, poesía e influencia musicales de otras culturas\, creando un lenguaje propio y contemporáneo dentro del arte flamenco. \nLas puertas se abrirán a las 20:45\nLa barra estará abierta durante todo el evento. \nLas opciones para la consumición incluída en la entrada serán : \ncerveza\, vino\, cava\, vermut o refresco. \nLas entradas compradas con código de descuento NO incluyen bebidas
URL:https://teatrometamorfosis.com/event/iris-flamencas/
ATTACH;FMTTYPE=image/jpeg:https://teatrometamorfosis.com/wp-content/uploads/2025/10/WhatsApp-Image-2026-03-11-at-16.11.09.jpeg
END:VEVENT
BEGIN:VEVENT
DTSTART;TZID=Europe/Madrid:20260426T193000
DTEND;TZID=Europe/Madrid:20260426T210000
DTSTAMP:20260423T234540
CREATED:20260408T103937Z
LAST-MODIFIED:20260408T103937Z
UID:10002985-1777231800-1777237200@teatrometamorfosis.com
SUMMARY:Bye Bye Ansiedad – Especial Sant Jordi
DESCRIPTION:Este monólogo divertido y profundo pretende ayudarte en los primeros pasos para conseguir entender la ansiedad y superarla. \nA través de su historia personal con la ansiedad\, Ferran te lleva a un viaje donde descubrirás cuáles son los pasos correctos para poder superarla\, compartiendo los últimos descubrimientos en neurociencia y psicología y explorando con sentido del humor todo lo aprendido del mundo de la filosofía y el crecimiento personal. \nEl autor de los superventas El cerebro de la gente feliz y El pequeño gran libro de la ansiedad nos trae un show fresco\, amable y emocional donde aprenderás a dejar a un lado tu ansiedad sin perder la sonrisa. \nY\, para celebrar Sant Jordi\, esta función será muy especial: regalaremos un ejemplar de uno de los libros del autor a todas las personas asistentes. \nLas puertas se abrirán a las 19:15 \nLa barra estará abierta durante todo el evento. \nLas opciones para la consumición incluída en la entrada serán : cerveza\, vino\, cava\, vermut o refresco. \nLa entrada comprada en puerta el día del evento costará 18€ pero no incluirá consumición. \nLas entradas compradas con código de descuento NO incluyen bebidas
URL:https://teatrometamorfosis.com/event/bye-bye-ansiedad-especial-sant-jordi/
ATTACH;FMTTYPE=image/jpeg:https://teatrometamorfosis.com/wp-content/uploads/2026/04/WhatsApp-Image-2026-04-07-at-08.50.33.jpeg
END:VEVENT
BEGIN:VEVENT
DTSTART;TZID=Europe/Madrid:20260428T190000
DTEND;TZID=Europe/Madrid:20260428T210000
DTSTAMP:20260423T234540
CREATED:20240826T113127Z
LAST-MODIFIED:20241007T201212Z
UID:10001907-1777402800-1777410000@teatrometamorfosis.com
SUMMARY:Curso de actuación
DESCRIPTION:Algunos Items a ver en el curso – Expresión Corporal– Herramientas de interpretación (Cuerpo y Voz)– Improvisación– Juegos Teatrales– Creación de Personaje– Estructura Dramática– Conflicto– ⁠Actitudes Humanas Escribenos para apuntarte +34 604 92 87 50
URL:https://teatrometamorfosis.com/event/curso-de-actuacion/2026-04-28/
LOCATION:Teatro Metamofosis\, Carrer de Tapioles 12\, Bajo\, Barcelona\, Barcelona\, 08004\, Spain
ATTACH;FMTTYPE=image/jpeg:https://teatrometamorfosis.com/wp-content/uploads/2024/08/WhatsApp-Image-2024-08-24-at-7.48.20-AM.jpeg
END:VEVENT
BEGIN:VEVENT
DTSTART;TZID=Europe/Madrid:20260429T200000
DTEND;TZID=Europe/Madrid:20260429T210000
DTSTAMP:20260423T234540
CREATED:20260330T171619Z
LAST-MODIFIED:20260330T171619Z
UID:10002981-1777492800-1777496400@teatrometamorfosis.com
SUMMARY:Daniel Ruggiero + Cuarteto Insurgente
DESCRIPTION:El compositor y bandoneonista Daniel Ruggiero se presenta por primera vez en Barcelona como solista\, acompañado por el Cuarteto Insurgente (cuarteto de cuerdas)\, en una propuesta que explora el tango contemporáneo desde una perspectiva camerística. \nEl Cuarteto Insurgente\, flamante proyecto de tango de cámara con arreglos y composiciones del contrabajista argentino Cristian Basto\, recientemente radicado en Barcelona\, aporta una sonoridad profunda y renovadora al género. \nUna oportunidad única para disfrutar del repertorio camerístico de Astor Piazzolla\, junto a obras originales de Daniel Ruggiero y Cristian Basto. \nLas puertas se abrirán a las 19:45 H\nLa barra estará abierta durante todo el evento.\nLas opciones para la consumición incluída en la entrada serán : cerveza\, vino\, cava\, vermut o refresco.\nLa entrada comprada en puerta el día del evento costará 15€ pero no incluirá consumición.\nLas entradas compradas con código de descuento NO incluyen bebidas
URL:https://teatrometamorfosis.com/event/daniel-ruggiero-cuarteto-insurgente/
ATTACH;FMTTYPE=image/jpeg:https://teatrometamorfosis.com/wp-content/uploads/2026/03/WhatsApp-Image-2026-03-30-at-09.52.28.jpeg
END:VEVENT
BEGIN:VEVENT
DTSTART;TZID=Europe/Madrid:20260430T203000
DTEND;TZID=Europe/Madrid:20260430T220000
DTSTAMP:20260423T234540
CREATED:20260308T235004Z
LAST-MODIFIED:20260308T235004Z
UID:10002966-1777581000-1777586400@teatrometamorfosis.com
SUMMARY:ANDY WARHOL
DESCRIPTION:Monólogo teatral sobre el icono del Pop Art. Su vida privada con reflexiones libres sobre su vida amorosa. Sus vínculos con el artisteo del Nueva York años 60 a los 80 y toda la movida de The Factory. Una mirada crítica de América y los inmigrantes y la dificultad de ser diferente. \n“La manada echa fuera al singular ”\nFicha técnica :\nAutor y director\nHoracio Ladrón de Guevara\nDirección artística\nManel Vázquez\nInterpretación actoral\nJuan Antonio Pérez\nProducción\nMORFICO \nLas puertas se abrirán 15 minutos antes de las función.\nLa barra estará abierta durante todo el evento.\nLas opciones para la consumición incluída en la entrada serán : cerveza\, vino\, cava\, vermut o refresco.\nLa entrada comprada en puerta el día del evento costará 18€ pero no incluirá consumición.\nLas entradas compradas con código de descuento NO incluyen bebidas
URL:https://teatrometamorfosis.com/event/andy-warhol/2026-04-30/
ATTACH;FMTTYPE=image/jpeg:https://teatrometamorfosis.com/wp-content/uploads/2026/03/WhatsApp-Image-2026-03-06-at-11.03.40.jpeg
END:VEVENT
BEGIN:VEVENT
DTSTART;TZID=Europe/Madrid:20260502T210000
DTEND;TZID=Europe/Madrid:20260502T230000
DTSTAMP:20260423T234540
CREATED:20260327T213215Z
LAST-MODIFIED:20260327T213215Z
UID:10002977-1777755600-1777762800@teatrometamorfosis.com
SUMMARY:Casa Drassanes
DESCRIPTION:Associació Cultural Casa Drassanes presenta un espacio nuevo de escucha\, donde explorar sonidos y vibraciones de otros mundos. \nEl “Giunglofono” es un instrumento electro-acústico experimental. Una irregularidad salvaje\, una ambigüedad necesaria. \nEn esta ocasión Daniele Lipari nos presentará un diálogo entre materia y máquina: el sonido orgánico del Junglofono viene grabado y elaborado en directo por un sistema de loops-stations y efectos digitales. \nEl resultado es un laboratorio vivo\, un tejido sonoro hipnótico hecho de texturas que respiran\, colisionan y se transforman. \nCasa Drassanes\, como siempre\, trabaja sin ánimo de lucro\, donando todo lo recaudado a nuestra asociación colaboradora Iguality\, que nos ayudará a repartir todo ese dinero con quien lo necesite. \nLas puertas se abrirán a las 19:30\nLa barra estará abierta durante todo el evento.\nLas opciones para la consumición incluída en la entrada serán : cerveza\, vino\, cava\, vermut o refresco.\nLa entrada comprada en puerta el día del evento costará 15€ pero no incluirá consumición.\nLas entradas compradas con código de descuento NO incluyen bebidas
URL:https://teatrometamorfosis.com/event/casa-drassanes/
ATTACH;FMTTYPE=image/jpeg:https://teatrometamorfosis.com/wp-content/uploads/2026/03/WhatsApp-Image-2026-03-27-at-08.45.09-1.jpeg
END:VEVENT
BEGIN:VEVENT
DTSTART;TZID=Europe/Madrid:20260507T200000
DTEND;TZID=Europe/Madrid:20260507T220000
DTSTAMP:20260423T234540
CREATED:20260403T225240Z
LAST-MODIFIED:20260403T225240Z
UID:10002982-1778184000-1778191200@teatrometamorfosis.com
SUMMARY:Karol Green & Sol Kwaya
DESCRIPTION:Nom artista: Karol Green & Sol Kwaya\nDurada de l’espectacle: 75minuts\nGènere: coral\, gospel\, músiques del món\, pop \nCASTELLANO:\nSi algo describe el gospel es una apertura del corazón hacia lo espiritual. Y le aseguramos que los componentes de Karol Green & Sol Kwaya ensanchan el corazón y lo elevan bien arriba\, mientras abajo\, los pies\, no paran de moverse. \nImpulsado y dirigido por la sudafricana Karol Green\, Sol Kwaya es una apuesta personal de la cantante por ofrecer una gran riqueza musical. Karol desborda energía\, ritmo y sensibilidad y en la música coral encuentra\, desde hace más de veinte años\, el vehículo ideal para expresar su agradecimiento a la vida. \nEscogidos expresamente para formar parte de este proyecto\, los cantantes del coro interpretan desde baladas de lo más íntimas\, que contagian una profunda emoción\, hasta canciones de ritmos característicos del gospel afroamericano\, que consiguen que todo el mundo quiera bailar y conectar con el alma. \nCATALÀ:\nSi alguna cosa descriu el gòspel és un eixamplament del cor envers l’espiritual. I us assegurem que els components de Karol Green & Sol Kwaya eixamplen el cor i l’eleven ben amunt\, mentre a baix\, els peus\, no paren de moure’s.\nImpulsat i dirigit per la sud-africana Karol Green\, Sol Kwaya és una aposta personal de la cantant per oferir una gran riquesa musical. La Karol desborda energia\, ritme i sensibilitat i en la música coral troba\, des de fa més de vint anys\, el vehicle ideal per expressar el seu agraïment a la vida. \nEscollits expressament per formar part d’aquest projecte\, els cantants del cor interpreten des de balades d’allò més íntimes\, que contagien una profunda emoció\, fins a cançons de ritmes característics del gòspel afro-americà\, que aconsegueixen que tothom vulgui ballar i connectar amb l’ànima. \nENGLISH:\nIf there is one thing that defines gospel\, it is an expansion of the heart toward the spiritual. And we can assure you that the members of Karol Green & Sol Kwaya expand the heart and lift it high\, while down below\, their feet simply can’t stop moving. \nFounded and conducted by the South African Karol Green\, Sol Kwaya is the singer’s personal project\, created to offer a rich and vibrant musical experience. Karol overflows with energy\, rhythm\, and sensitivity\, and for more than twenty years she has found in choral music the ideal vehicle to express her gratitude for life. \nCarefully selected to be part of this project\, the choir’s singers perform everything from the most intimate ballads\, filled with deep emotion\, to songs shaped by the characteristic rhythms of African-American gospel\, inspiring everyone to dance and connect with their soul. \nLas puertas se abrirán a las 19:45\nLa barra estará abierta durante todo el evento.\nLas opciones para la consumición incluída en la entrada serán : cerveza\, vino\, cava\, vermut o refresco.\nLas entradas compradas con código de descuento NO incluyen bebidas
URL:https://teatrometamorfosis.com/event/karol-green-sol-kwaya/
ATTACH;FMTTYPE=image/jpeg:https://teatrometamorfosis.com/wp-content/uploads/2026/04/WhatsApp-Image-2026-04-01-at-13.02.57.jpeg
END:VEVENT
BEGIN:VEVENT
DTSTART;TZID=Europe/Madrid:20260508T210000
DTEND;TZID=Europe/Madrid:20260508T223000
DTSTAMP:20260423T234540
CREATED:20260324T141955Z
LAST-MODIFIED:20260324T141955Z
UID:10002969-1778274000-1778279400@teatrometamorfosis.com
SUMMARY:The Devil Wears Primark – A Bad Drag Production
DESCRIPTION:The Devil Wears Primark – A Bad Drag Production\nFlorals? For spring? …Groundbreaking. \nAndrea “Andy” Sachs (played by @jakeemaker) thought she just needed “a job that millions of girls would die for”… but instead\, she got this job. Enter Miranda Priestly (@lady.red.velvet): icy\, iconic\, and one cerulean sweater away from ruining your entire life. \nWith “support” from the ever-suffering Emily (@eugeniakilate) — “I’m just one stomach flu away from my goal weight” — and the fabulously sharp Nigel (@evaenescena)\, Andy must decide: will she rise in the fashion ranks… or will she completely sashay away? \nBecause here\, it’s not just fashion — it’s Runway. And remember: \n“That’s all.” \nDate: 8th & 9th May\nTime: 9pm\nLocation: Teatro Metamofosis\nTickets now available — don’t be unfashionably late. \nEspañol\nThe Devil Wears Primark – Una Producción Drag de Bad Drag \n¿Flores? ¿Para primavera? …Innovador. \nAndrea “Andy” Sachs (interpretada por @jakeemaker) pensaba que solo necesitaba “un trabajo por el que millones de chicas morirían”… pero en lugar de eso\, consiguió este trabajo. Entra Miranda Priestly (@lady.red.velvet): fría\, icónica y a un suéter cerúleo de arruinarte la vida entera. \nCon el “apoyo” de la siempre sufrida Emily (@eugeniakilate) — “Estoy a una gripe estomacal de alcanzar mi peso ideal” — y el fabulosamente afilado Nigel (@evaenescena)\, Andy deberá decidir: ¿ascenderá en el mundo de la moda… o hará un sashay away total? \nPorque aquí no es solo moda — es Runway. Y recuerda:\n“Eso es todo.” \nFecha: 8 y 9 de mayo\nHora: 21:00\nLugar: Teatro Metamofosis \nEntradas ya disponibles — no llegues tarde (sería muy poco fashion).
URL:https://teatrometamorfosis.com/event/the-devil-wears-primark-a-bad-drag-production/2026-05-08/
ATTACH;FMTTYPE=image/jpeg:https://teatrometamorfosis.com/wp-content/uploads/2026/03/WhatsApp-Image-2026-03-24-at-08.26.44.jpeg
END:VEVENT
BEGIN:VEVENT
DTSTART;TZID=Europe/Madrid:20260510T200000
DTEND;TZID=Europe/Madrid:20260510T220000
DTSTAMP:20260423T234540
CREATED:20260423T154802Z
LAST-MODIFIED:20260423T154802Z
UID:10002988-1778443200-1778450400@teatrometamorfosis.com
SUMMARY:KINGDOM
DESCRIPTION:Domingo 10 de mayo volvemos con nuestra cita mensual KINGDOM (@kingdom_dragkings)\, el espectáculo interactivo de drag kings donde se mezcla la masculinidrag con hotness\, risas y actitud \nCon tus kings de confianza: Max Kink (@maxkink_)\, Pablo Totos (@pablototos_oficial) y Toi Boi (@toi_boi_crackdesantboi) acompañades de nuestro invitade especial del mes: Mike Delux(@tur.tukka.mj) ”La dosis de masculinidad hegemónica que no sabias que necesitabas. Un male entertainer nacido para seducir y dominar el escenario.” \nTe esperamos\nApertura de puertas: 20h | Show empieza: 20:30h en punto! (llega con tiempo\, que se llena)\nAforo limitado.\nTrae tus tips para les performers \nLas puertas se abrirán a las 20 H\nLa barra estará abierta durante todo el evento.\nLas opciones para la consumición incluída en la entrada serán : cerveza\, vino\, cava\, vermut o refresco.\nLa entrada comprada en puerta el día del evento costará 12€ sin consumición o 15€ con una consumición incluída.\nLas entradas compradas con código de descuento NO incluyen bebidas
URL:https://teatrometamorfosis.com/event/kingdom/
ATTACH;FMTTYPE=image/jpeg:https://teatrometamorfosis.com/wp-content/uploads/2026/04/WhatsApp-Image-2026-04-23-at-11.00.29.jpeg
END:VEVENT
BEGIN:VEVENT
DTSTART;TZID=Europe/Madrid:20260513T193000
DTEND;TZID=Europe/Madrid:20260513T210000
DTSTAMP:20260423T234540
CREATED:20260324T203202Z
LAST-MODIFIED:20260324T203202Z
UID:10002972-1778700600-1778706000@teatrometamorfosis.com
SUMMARY:SOMOS
DESCRIPTION:Somos no es solo una obra. Es una experiencia.” \nAsí podría describirse esta propuesta inmersiva que se presenta en Barcelona\, luego de su paso por Argentina\, México y Costa Rica. Ahora con música en vivo de Kuyay Santosha\, cuya presencia no solo acompaña la obra\, sino que la sostiene y la atraviesa. \nJugando con los límites del teatro tradicional\, “Somos” propone un recorrido sensorial donde la frontera entre escena y realidad comienza a desdibujarse para que el espectador\, si así lo desea\, puede dejar de ocupar un lugar pasivo para convertirse en parte de lo que sucede. \nA lo largo del viaje\, la música en vivo guía la experiencia como un pulso sensible\, abriendo espacios emocionales y marcando el ritmo interno del recorrido. La pieza interpela con sutileza y profundidad\, invitándonos a reconocer y a soltar por un momento las máscaras que llevamos para entrar en contacto con nuestra identidad más esencial. \nLa música\, el cuerpo y la presencia construyen un espacio vivo\, donde cada función es única porque se crea con quienes están presentes. \nNo se trata de entender\, sino de atravesar. \n“Somos” puede resonar especialmente con quienes se encuentran en un proceso de búsqueda personal. \nBarcelona. Teatro Metamorfosis. Carrer de Tapioles 12. Poble Sec.\n13/5\nDuración: 70 minutos\nCapacidad limitada. \nUna experiencia para ser vivida.
URL:https://teatrometamorfosis.com/event/somos/
ATTACH;FMTTYPE=image/jpeg:https://teatrometamorfosis.com/wp-content/uploads/2026/03/WhatsApp-Image-2026-03-24-at-08.33.50.jpeg
END:VEVENT
BEGIN:VEVENT
DTSTART;TZID=Europe/Madrid:20260514T190000
DTEND;TZID=Europe/Madrid:20260514T200000
DTSTAMP:20260423T234540
CREATED:20260330T165425Z
LAST-MODIFIED:20260330T165425Z
UID:10002979-1778785200-1778788800@teatrometamorfosis.com
SUMMARY:Smut Slam
DESCRIPTION:where steamy and storytelling collide \nBarcelona’s only community dirty storytelling open mic is back for more of you\, with the theme “TERRA INCOGNITA” (“unknown territory”). When you don’t have a map\, when your sxual GPS is low on battery\, when you don’t know where you’re going\, but holy shit\, you’re enjoying the ride… these are the times that make ASTONISHING stories\, and we want to hear! \n** Prizes sponsored by Tabu Vilanova and Überlube. \nDoors open at 7pm\, show starts at 8\, arrive early for best choice of seats. \nCreated and hosted by professional perv Cameryn Moore\, Smut Slam features real-life\, first-person sex stories from the audience\, a panel of local judges\, sexy prizes\, and readings from THE FUCKBUCKET (anonymous questions and confessions)! \nIMPORTANT: Smut Slam is queer-friendly\, kink- AND vanilla-friendly\, fat-friendly\, sex worker-friendly\, virgin-friendly\, polyamory-friendly\, and really just friendly! We welcome people with all types and amounts of sexual experiences. We DO NOT welcome stories involving racism\, sexism\, homophobia\, transphobia\, or any other kind of discrimination or nonconsensual objectification or fetishization. CONSENT IS KEY. \nThis event will be in English.\nHora de inicio las 19 hs
URL:https://teatrometamorfosis.com/event/smut-slam-10/
ATTACH;FMTTYPE=image/jpeg:https://teatrometamorfosis.com/wp-content/uploads/2026/03/WhatsApp-Image-2026-03-27-at-19.38.53-1.jpeg
END:VEVENT
BEGIN:VEVENT
DTSTART;TZID=Europe/Madrid:20260515T203000
DTEND;TZID=Europe/Madrid:20260515T213000
DTSTAMP:20260423T234540
CREATED:20260330T170749Z
LAST-MODIFIED:20260330T170749Z
UID:10002980-1778877000-1778880600@teatrometamorfosis.com
SUMMARY:FLAYMENCOS
DESCRIPTION:Flaymencus es una creacion artististica que adopta como motor principal la impovisacion de sus participantes\, Ivan (piano\, bajo y electronica) e Isabel (baile\, voz y palmas) y que integra el ritmo Flamenco como base a traves de la electronica\, fusionandonse con el jazz y el baile. El egarenc y la Badalonesa con una trayectoria marcada por una formacion autodicacta y en el seno familiar de la peña Flamenca mas antigua de Cataluña\, respectivamente\, se reunen actualmente en la escena Barcelonesa con una voz propia que reivindica la libertad de creación entre diferentes disciplinas. Su propuesta parte de la inquietud y necesidad de explorar\, con diferentes instrumentos\, elementos electronicos y movimiento\, un viaje musical actual y con tendencia propia. \nSOBRE LOS ARTISTAS\nIsabel Rivera Bailaora de flamenco\, profesora y coreografa que nace en la peña Flamenca mas antigua de Cataluna y empieza su formacion en baile Flamenco a los 4 años en varias ciudades como Barcelona\, Sevilla\, Jerez y Cadiz\, aprendiendo de maestros como La Chana y Farruquito entre otros. A lo largo de su carrera ha bailado en diferentes escenarios Nacionales e Internacionales destacando su colaboración con los departamentos de Cultura de Nueva Zelanda\, Australia\, Mexico\, Argentina\, Irlanda e India. En la actualidad y de nuevo afincada en Barcelona\, forma parte del elenco Flamenco habitual del area local de la ciudad\, incursionando con talleres y varios proyectos tambien a nivel Nacional e internacional. \nIvan Santa\nPianista\, compositor y productor. Inicia su carrera como integrante de la Original Orquestra del Taller de Músics\, colaborando con artistas como Santiago Auserón y participando en el homenaje a Tete Montoliu en el Palau de la Música bajo la dirección de Perico Sambeat. Ha trabajado en espectáculos de danza y teatro con Sol Picó y en el musical *Hoy no me puedo levantar*. Con el cuarteto de jazz Toma 4 obtiene el Premio Jazz Fuenlabrada al Grupo Revelación 2007. Amplía su trayectoria colaborando con figuras de la rumba como Peret\, Chipén\, Ramonet y Maruja Garrido. Como productor y compositor ha trabajado con Rosalía y Judith Neddermann (OR VERD) También forma parte del proyecto *El Petitet*\, llevando la rumba al Liceu de Barcelona con su orquesta sinfónica\, proyecto que obtuvo un Premio Gaudí. Posteriormente graba\, produce y compone *New York Tableaux*\, recibiendo muy buenas críticas junto a los jóvenes talentos del cante flamenco Sara Sambola y Pere Martínez \nLas puertas se abrirán a las 20:15 H\nLa barra estará abierta durante todo el evento.\nLas opciones para la consumición incluída en la entrada serán : cerveza\, vino\, cava\, vermut o refresco.\nLa entrada comprada en puerta el día del evento costará 18€ pero no incluirá consumición.\nLas entradas compradas con código de descuento NO incluyen bebidas
URL:https://teatrometamorfosis.com/event/flaymencos/
ATTACH;FMTTYPE=image/jpeg:https://teatrometamorfosis.com/wp-content/uploads/2026/03/WhatsApp-Image-2026-03-30-at-08.18.04-1.jpeg
END:VEVENT
BEGIN:VEVENT
DTSTART;TZID=Europe/Madrid:20270415T080000
DTEND;TZID=Europe/Madrid:20270415T170000
DTSTAMP:20260423T234540
CREATED:20260418T191750Z
LAST-MODIFIED:20260418T192504Z
UID:10002987-1807776000-1807808400@teatrometamorfosis.com
SUMMARY:test
DESCRIPTION:Content is protected.
URL:https://teatrometamorfosis.com/event/test/
END:VEVENT
END:VCALENDAR