BEGIN:VCALENDAR
VERSION:2.0
PRODID:-//Teatro Metamorfosis - ECPv6.15.20//NONSGML v1.0//EN
CALSCALE:GREGORIAN
METHOD:PUBLISH
X-WR-CALNAME:Teatro Metamorfosis
X-ORIGINAL-URL:https://teatrometamorfosis.com
X-WR-CALDESC:Events for Teatro Metamorfosis
REFRESH-INTERVAL;VALUE=DURATION:PT1H
X-Robots-Tag:noindex
X-PUBLISHED-TTL:PT1H
BEGIN:VTIMEZONE
TZID:Europe/Madrid
BEGIN:DAYLIGHT
TZOFFSETFROM:+0100
TZOFFSETTO:+0200
TZNAME:CEST
DTSTART:20240331T010000
END:DAYLIGHT
BEGIN:STANDARD
TZOFFSETFROM:+0200
TZOFFSETTO:+0100
TZNAME:CET
DTSTART:20241027T010000
END:STANDARD
BEGIN:DAYLIGHT
TZOFFSETFROM:+0100
TZOFFSETTO:+0200
TZNAME:CEST
DTSTART:20250330T010000
END:DAYLIGHT
BEGIN:STANDARD
TZOFFSETFROM:+0200
TZOFFSETTO:+0100
TZNAME:CET
DTSTART:20251026T010000
END:STANDARD
BEGIN:DAYLIGHT
TZOFFSETFROM:+0100
TZOFFSETTO:+0200
TZNAME:CEST
DTSTART:20260329T010000
END:DAYLIGHT
BEGIN:STANDARD
TZOFFSETFROM:+0200
TZOFFSETTO:+0100
TZNAME:CET
DTSTART:20261025T010000
END:STANDARD
END:VTIMEZONE
BEGIN:VEVENT
DTSTART;TZID=Europe/Madrid:20250502T210000
DTEND;TZID=Europe/Madrid:20250502T220000
DTSTAMP:20260425T235622
CREATED:20250412T183038Z
LAST-MODIFIED:20250412T183038Z
UID:10002184-1746219600-1746223200@teatrometamorfosis.com
SUMMARY:pepe arias
DESCRIPTION:anticipadas aqui“Sueños De Viajes» \, de Pepe Arias\, es una experiencia sensorial única que sumerge a la audiencia en un universo donde el sonido y la imagen se entrelazan armoniosamente\, creando la sensación de estar soñando y recordando momentos de la vida en bucles continuos. Cada nota de violonchelo y cada imagen proyectada buscan transportar al espectador a un reino de sueños\, donde las emociones se entrelazan y se expresan de manera única. Las películas en blanco y negro no solo son una representación visual de nuestras experiencias\, sino también una ventana a la profundidad emocional de nuestra narrativa. Proyecto musical y visual que utiliza el violonchelo como herramienta fundamental\, respaldado por innovadoras máquinas de pedales de pie. Este conjunto de elementos musicales se fusiona con películas en blanco y negro que encapsulan nuestro viaje de vida. La música en creación incorpora motivos repetitivos\, arpegios de improvisación y líneas de bajo misteriosas\, abarcando diversos estilos musicales como pop\, rock\, música clásica\, electroacústica y folklore. Desde Bach y Ligeti hasta Victor Jara y Violeta Parra. Es un placer compartir la evolución de su expresión artística a través de «The Cello and the Bath»\, lo que la ha inspirado a desarrollar su proyecto más reciente y actual\, “Sueños De Viajes”.\n\n\nEntradas en boleteria el dia del evento 12 euros.
URL:https://teatrometamorfosis.com/event/pepe-arias-2/
ATTACH;FMTTYPE=image/jpeg:https://teatrometamorfosis.com/wp-content/uploads/2025/04/WhatsApp-Image-2025-04-09-at-14.12.47.jpeg
END:VEVENT
BEGIN:VEVENT
DTSTART;TZID=Europe/Madrid:20250503T210000
DTEND;TZID=Europe/Madrid:20250503T223000
DTSTAMP:20260425T235622
CREATED:20250330T205801Z
LAST-MODIFIED:20250330T205804Z
UID:10002179-1746306000-1746311400@teatrometamorfosis.com
SUMMARY:Svetlana\, el hilo del destino
DESCRIPTION:¡Pasen y vean! El carromato de Svetlana ha llegado a la ciudad\, cargado de luces\, misterio y un toque magia. . Entre cortinas de terciopelo y el brillo de las cartas del Tarot\, Svetlana\, está lista para recibir a todo tipo de curiosos.   ¿Eres de los que busca respuestas para el mañana? ¿Vienes a husmear en los secretos de tu pasado? ¿O serás de esos raros caminantes\, que desean escribir su propia historia? . Entre risas y preguntas profundas Svetlana cuestiona los hilos que guían nuestras vidas. ¿Estamos atrapados en un guion invisible o tenemos el poder de cambiar el curso? Una experiencia vibrante que combina teatro\, Tarot y magia.  ¿Te atreves a tirar del hilo?  Una creación de Eva Lu EVA LU : Creativa y polifacética \,apasionada por el arte ritual y la psicomagia\, combina sus conocimientos de  Tarot con los arquetipos universales y el inconsciente personal y colectivo. Siempre en búsca de un sentido profundo de la realidad \,sigue comprometida con un arte sanadora y transformadora\, donde el ser humano\, con su cuerpo y alma\, es la verdadera obra de arte
URL:https://teatrometamorfosis.com/event/svetlana-el-hilo-del-destino-2/2025-05-03/
ATTACH;FMTTYPE=image/jpeg:https://teatrometamorfosis.com/wp-content/uploads/2025/03/event_m_IMG-20250306-WA0005.jpg
END:VEVENT
BEGIN:VEVENT
DTSTART;TZID=Europe/Madrid:20250506T190000
DTEND;TZID=Europe/Madrid:20250506T210000
DTSTAMP:20260425T235622
CREATED:20240826T113127Z
LAST-MODIFIED:20241007T201212Z
UID:10001856-1746558000-1746565200@teatrometamorfosis.com
SUMMARY:Curso de actuación
DESCRIPTION:Algunos Items a ver en el curso – Expresión Corporal– Herramientas de interpretación (Cuerpo y Voz)– Improvisación– Juegos Teatrales– Creación de Personaje– Estructura Dramática– Conflicto– ⁠Actitudes Humanas Escribenos para apuntarte +34 604 92 87 50
URL:https://teatrometamorfosis.com/event/curso-de-actuacion/2025-05-06/
LOCATION:Teatro Metamofosis\, Carrer de Tapioles 12\, Bajo\, Barcelona\, Barcelona\, 08004\, Spain
ATTACH;FMTTYPE=image/jpeg:https://teatrometamorfosis.com/wp-content/uploads/2024/08/WhatsApp-Image-2024-08-24-at-7.48.20-AM.jpeg
END:VEVENT
BEGIN:VEVENT
DTSTART;TZID=Europe/Madrid:20250508T210000
DTEND;TZID=Europe/Madrid:20250508T223000
DTSTAMP:20260425T235622
CREATED:20250129T103047Z
LAST-MODIFIED:20250515T115320Z
UID:10002144-1746738000-1746743400@teatrometamorfosis.com
SUMMARY:Poble Sec Jam Session
DESCRIPTION:Nueva Jam Session de Jazz en Poble Sec\, abierta al Jazz y otros estilos musicales. Un espacio para la improvisación y la creatividad. Invitamos a participar a todos los músicos y amantes de la música en directo! Cuando\, donde y a qué hora > Febrero: Jueves 13 y 27 Marzo: viernes 14 y 28 Abril: viernes 11 Mayo: jueves 8 y 22 < A las 21:00 en Teatro Metamorfosis Carrer Tapioles 12\, Poble Sec Entrada general 5€ Músicos: 5€ con consumición
URL:https://teatrometamorfosis.com/event/poble-sec-jam-session/2025-05-08/
ATTACH;FMTTYPE=image/jpeg:https://teatrometamorfosis.com/wp-content/uploads/2025/01/WhatsApp-Image-2025-05-13-at-16.56.36.jpeg
END:VEVENT
BEGIN:VEVENT
DTSTART;TZID=Europe/Madrid:20250508T210000
DTEND;TZID=Europe/Madrid:20250508T230000
DTSTAMP:20260425T235623
CREATED:20250417T024142Z
LAST-MODIFIED:20250417T024142Z
UID:10002186-1746738000-1746745200@teatrometamorfosis.com
SUMMARY:Poble Sec jam session
DESCRIPTION:ENTRADAS AQUI \n  \nNueva Jam Session de Jazz en Poble Sec\, abierta al Jazz y otros estilos musicales. Un espacio para la improvisación y la creatividad. \nInvitamos a participar a todos los músicos y amantes de la música en directo! \nCuando\, donde y a qué hora > \nFebrero: Jueves 13 y 27 \nMarzo: viernes 14 y 28 \nAbril: viernes 11 \nMayo: jueves 8 y 22 \n< A las 21:00 en Teatro Metamorfosis Carrer Tapioles 12\, Poble Sec \nEntrada general 5€ \nMúsicos: 5€ con consumición
URL:https://teatrometamorfosis.com/event/poble-sec-jam-session-2/
ATTACH;FMTTYPE=image/jpeg:https://teatrometamorfosis.com/wp-content/uploads/2025/04/WhatsApp-Image-2025-04-16-at-20.23.37.jpeg
END:VEVENT
BEGIN:VEVENT
DTSTART;TZID=Europe/Madrid:20250510T210000
DTEND;TZID=Europe/Madrid:20250510T220000
DTSTAMP:20260425T235623
CREATED:20250417T024550Z
LAST-MODIFIED:20250417T024550Z
UID:10002187-1746910800-1746914400@teatrometamorfosis.com
SUMMARY:New Tango Project
DESCRIPTION:ENTRADAS AQUI \nNew Tango Project es Tango y Jazz\, mezclado con una pizca de Rock. \nLa fusión construye identidad propia\, una sonoridad moderna que respeta y se nutre de esos géneros inspiradores. \nEl NTP innova con un enfoque instrumental basado en la conjunción equilibrada de los géneros. Sus composiciones integran un repertorio orgánico\, capaz de cautivar a un público heterogéneo y despertar la sensibilidad musical más allá de los gustos personales. \nEn esta ocasión estarán presentando el repertorio de su tercer álbum\, titulado Fricciones (fresh sound records 2025). \n18 EUROS EN PUERTA EL DIA DEL EVENTO
URL:https://teatrometamorfosis.com/event/new-tango-project/
ATTACH;FMTTYPE=image/jpeg:https://teatrometamorfosis.com/wp-content/uploads/2025/04/event_m_WhatsApp_Image_2025-04-11_at_08.09.55.jpeg
END:VEVENT
BEGIN:VEVENT
DTSTART;TZID=Europe/Madrid:20250513T190000
DTEND;TZID=Europe/Madrid:20250513T210000
DTSTAMP:20260425T235623
CREATED:20240826T113127Z
LAST-MODIFIED:20241007T201212Z
UID:10001857-1747162800-1747170000@teatrometamorfosis.com
SUMMARY:Curso de actuación
DESCRIPTION:Algunos Items a ver en el curso – Expresión Corporal– Herramientas de interpretación (Cuerpo y Voz)– Improvisación– Juegos Teatrales– Creación de Personaje– Estructura Dramática– Conflicto– ⁠Actitudes Humanas Escribenos para apuntarte +34 604 92 87 50
URL:https://teatrometamorfosis.com/event/curso-de-actuacion/2025-05-13/
LOCATION:Teatro Metamofosis\, Carrer de Tapioles 12\, Bajo\, Barcelona\, Barcelona\, 08004\, Spain
ATTACH;FMTTYPE=image/jpeg:https://teatrometamorfosis.com/wp-content/uploads/2024/08/WhatsApp-Image-2024-08-24-at-7.48.20-AM.jpeg
END:VEVENT
BEGIN:VEVENT
DTSTART;TZID=Europe/Madrid:20250516T200000
DTEND;TZID=Europe/Madrid:20250516T220000
DTSTAMP:20260425T235623
CREATED:20250421T192024Z
LAST-MODIFIED:20250421T192024Z
UID:10002191-1747425600-1747432800@teatrometamorfosis.com
SUMMARY:Eurovisión Celebration
DESCRIPTION:Join Lady Red Velvet for the Ultimate Eurovision Celebration! \nTeatro Metamorfosis | May 16th | 8PM \nGet ready for a night of epic key changes\, glittery chaos\, and Euro-tastic energy that’ll leave you shouting “Ja Ja Ding Dong!” Expect iconic live performances\, crowd-thrilling singalongs\, and our legendary BIG Eurovision Interactive Quiz — because who doesn’t want to score Douze Points? \nWhether you’re a Lordi-loving rockstar\, a ballad-belting diva\, or just here for the sequins and sass\, it’s your time to Rise Like a Phoenix and party like it’s Euphoria. \nOne night. One stage. One outrageous Eurovision extravaganza. Don’t miss it! \n¡Únete a Lady Red Velvet para la Celebración Definitiva de Eurovisión! \nTeatro Metamorfosis | 16 de mayo | 20:00h \nPrepárate para una noche de cambios de tono épicos\, caos con purpurina y energía eurovisiva que te hará gritar “¡Ja Ja Ding Dong!”. Disfruta de actuaciones en vivo icónicas\, singalongs que levantarán al público y nuestro legendario Gran Quiz Interactivo de Eurovisión — porque ¿quién no quiere llevarse los Douze Points? \nYa seas un rockero fan de Lordi\, una diva de baladas o simplemente ames las lentejuelas y el drama\, ha llegado tu momento de Renacer como un Fénix y celebrar como si estuviéramos en Euphoria. \nUna noche. Un escenario. Un espectáculo eurovisivo inolvidable. ¡No te lo pierdas!
URL:https://teatrometamorfosis.com/event/eurovision-celebration/
ATTACH;FMTTYPE=image/jpeg:https://teatrometamorfosis.com/wp-content/uploads/2025/04/WhatsApp-Image-2025-04-21-at-11.36.25.jpeg
END:VEVENT
BEGIN:VEVENT
DTSTART;TZID=Europe/Madrid:20250518T190000
DTEND;TZID=Europe/Madrid:20250518T210000
DTSTAMP:20260425T235623
CREATED:20250417T123055Z
LAST-MODIFIED:20250417T123055Z
UID:10002188-1747594800-1747602000@teatrometamorfosis.com
SUMMARY:Concierto de PostAntique
DESCRIPTION:ENTRADAS AQUI \nConcert Postantique \nOnce upon a time\, in Milan\, an original international group called “PostAntique” was born. The heart of the ensemble is Aliya\, whose lyrics and melodies flow through the veins of the band\, and Marco\, whose harmonies weave everything together. The musicians draw inspiration from the narratives of ancient tales and myths. The idea of a physical or inner journey of the main character\, who sets out in search of something significant – be it a higher purpose\, personal transformation\, or salvation – while overcoming difficult trials\, runs like a thread through all the band’s songs. \nThus\, the music of the collective reflects the feelings of people battered by emigration\, yet striving\, against all odds\, to realize their dreams and uphold ideals that are painfully shattered by the harsh realities of the world. \nPostAntique regularly performs at acoustic events and independent festivals in Italy\, Spain\, and France. \ntaquilla en puerta 25 euros \nConcierto de PostAntique \nÉrase una vez\, en Milán\, cuando nació un grupo internacional original llamado “PostAntique”. El corazón del conjunto es Aliya\, cuyas letras y melodías fluyen por las venas de la banda\, y Marco\, cuyas armonías lo entrelazan todo. Los músicos se inspiran en las narrativas de antiguos cuentos y mitos. La idea de un viaje físico o interior del protagonista\, quien parte en busca de algo significativo —ya sea un propósito superior\, una transformación personal o la salvación— mientras supera duras pruebas\, recorre todas las canciones de la banda como un hilo conductor. \nAsí\, la música del colectivo refleja los sentimientos de personas golpeadas por la emigración\, pero que\, contra todo pronóstico\, luchan por realizar sus sueños y defender ideales que a menudo se ven dolorosamente destrozados por las duras realidades del mundo. \nPostAntique actúa regularmente en eventos acústicos y festivales independientes en Italia\, España y Francia.
URL:https://teatrometamorfosis.com/event/concierto-de-postantique/
ATTACH;FMTTYPE=image/jpeg:https://teatrometamorfosis.com/wp-content/uploads/2025/04/WhatsApp-Image-2025-04-17-at-08.49.17.jpeg
END:VEVENT
BEGIN:VEVENT
DTSTART;TZID=Europe/Madrid:20250520T190000
DTEND;TZID=Europe/Madrid:20250520T210000
DTSTAMP:20260425T235623
CREATED:20240826T113127Z
LAST-MODIFIED:20241007T201212Z
UID:10001858-1747767600-1747774800@teatrometamorfosis.com
SUMMARY:Curso de actuación
DESCRIPTION:Algunos Items a ver en el curso – Expresión Corporal– Herramientas de interpretación (Cuerpo y Voz)– Improvisación– Juegos Teatrales– Creación de Personaje– Estructura Dramática– Conflicto– ⁠Actitudes Humanas Escribenos para apuntarte +34 604 92 87 50
URL:https://teatrometamorfosis.com/event/curso-de-actuacion/2025-05-20/
LOCATION:Teatro Metamofosis\, Carrer de Tapioles 12\, Bajo\, Barcelona\, Barcelona\, 08004\, Spain
ATTACH;FMTTYPE=image/jpeg:https://teatrometamorfosis.com/wp-content/uploads/2024/08/WhatsApp-Image-2024-08-24-at-7.48.20-AM.jpeg
END:VEVENT
BEGIN:VEVENT
DTSTART;TZID=Europe/Madrid:20250522T210000
DTEND;TZID=Europe/Madrid:20250522T223000
DTSTAMP:20260425T235623
CREATED:20250129T103047Z
LAST-MODIFIED:20250515T115320Z
UID:10002145-1747947600-1747953000@teatrometamorfosis.com
SUMMARY:Poble Sec Jam Session
DESCRIPTION:Nueva Jam Session de Jazz en Poble Sec\, abierta al Jazz y otros estilos musicales. Un espacio para la improvisación y la creatividad. Invitamos a participar a todos los músicos y amantes de la música en directo! Cuando\, donde y a qué hora > Febrero: Jueves 13 y 27 Marzo: viernes 14 y 28 Abril: viernes 11 Mayo: jueves 8 y 22 < A las 21:00 en Teatro Metamorfosis Carrer Tapioles 12\, Poble Sec Entrada general 5€ Músicos: 5€ con consumición
URL:https://teatrometamorfosis.com/event/poble-sec-jam-session/2025-05-22/
ATTACH;FMTTYPE=image/jpeg:https://teatrometamorfosis.com/wp-content/uploads/2025/01/WhatsApp-Image-2025-05-13-at-16.56.36.jpeg
END:VEVENT
BEGIN:VEVENT
DTSTART;TZID=Europe/Madrid:20250525T130000
DTEND;TZID=Europe/Madrid:20250525T190000
DTSTAMP:20260425T235623
CREATED:20250430T165858Z
LAST-MODIFIED:20250430T171130Z
UID:10002192-1748178000-1748199600@teatrometamorfosis.com
SUMMARY:Ravalada Drag Tour
DESCRIPTION:RAVALADA DRAG TOUR LA PRIMERA FIESTA DE TARDE QUE SE DIVIDE EN LOCALES DISTINTOS😻\nEl objetivo de la RAVALADA DRAG TOUR es apoyar al colectivo de artistas Drag y a los locales. Durante toda la tarde\, todes disfrutaremos en los distintos bares (dependiendo de la edición) de varias actuaciones drag. Con la compra de tu ticket tendrás acceso a todos los shows y espacios. \n¿No conoces el barrio? ¡No te preocupes! El día del evento tu guía de confianza te estará esperando y será quien os acompañe por todos locales hasta completar el tour. Además\, recibirás un DRAGPORT para poder votar a tus artistes favorites de la edición.
URL:https://teatrometamorfosis.com/event/ravalada-drag-tour/
ATTACH;FMTTYPE=image/png:https://teatrometamorfosis.com/wp-content/uploads/2025/04/TICKETING_960x600_BCN.png
END:VEVENT
BEGIN:VEVENT
DTSTART;TZID=Europe/Madrid:20250527T190000
DTEND;TZID=Europe/Madrid:20250527T210000
DTSTAMP:20260425T235623
CREATED:20240826T113127Z
LAST-MODIFIED:20241007T201212Z
UID:10001859-1748372400-1748379600@teatrometamorfosis.com
SUMMARY:Curso de actuación
DESCRIPTION:Algunos Items a ver en el curso – Expresión Corporal– Herramientas de interpretación (Cuerpo y Voz)– Improvisación– Juegos Teatrales– Creación de Personaje– Estructura Dramática– Conflicto– ⁠Actitudes Humanas Escribenos para apuntarte +34 604 92 87 50
URL:https://teatrometamorfosis.com/event/curso-de-actuacion/2025-05-27/
LOCATION:Teatro Metamofosis\, Carrer de Tapioles 12\, Bajo\, Barcelona\, Barcelona\, 08004\, Spain
ATTACH;FMTTYPE=image/jpeg:https://teatrometamorfosis.com/wp-content/uploads/2024/08/WhatsApp-Image-2024-08-24-at-7.48.20-AM.jpeg
END:VEVENT
END:VCALENDAR