BEGIN:VCALENDAR
VERSION:2.0
PRODID:-//Teatro Metamorfosis - ECPv6.15.20//NONSGML v1.0//EN
CALSCALE:GREGORIAN
METHOD:PUBLISH
X-ORIGINAL-URL:https://teatrometamorfosis.com
X-WR-CALDESC:Events for Teatro Metamorfosis
REFRESH-INTERVAL;VALUE=DURATION:PT1H
X-Robots-Tag:noindex
X-PUBLISHED-TTL:PT1H
BEGIN:VTIMEZONE
TZID:Europe/Madrid
BEGIN:DAYLIGHT
TZOFFSETFROM:+0100
TZOFFSETTO:+0200
TZNAME:CEST
DTSTART:20240331T010000
END:DAYLIGHT
BEGIN:STANDARD
TZOFFSETFROM:+0200
TZOFFSETTO:+0100
TZNAME:CET
DTSTART:20241027T010000
END:STANDARD
BEGIN:DAYLIGHT
TZOFFSETFROM:+0100
TZOFFSETTO:+0200
TZNAME:CEST
DTSTART:20250330T010000
END:DAYLIGHT
BEGIN:STANDARD
TZOFFSETFROM:+0200
TZOFFSETTO:+0100
TZNAME:CET
DTSTART:20251026T010000
END:STANDARD
BEGIN:DAYLIGHT
TZOFFSETFROM:+0100
TZOFFSETTO:+0200
TZNAME:CEST
DTSTART:20260329T010000
END:DAYLIGHT
BEGIN:STANDARD
TZOFFSETFROM:+0200
TZOFFSETTO:+0100
TZNAME:CET
DTSTART:20261025T010000
END:STANDARD
END:VTIMEZONE
BEGIN:VEVENT
DTSTART;TZID=Europe/Madrid:20250603T190000
DTEND;TZID=Europe/Madrid:20250603T210000
DTSTAMP:20260425T194150
CREATED:20240826T113127Z
LAST-MODIFIED:20241007T201212Z
UID:10001860-1748977200-1748984400@teatrometamorfosis.com
SUMMARY:Curso de actuación
DESCRIPTION:Algunos Items a ver en el curso – Expresión Corporal– Herramientas de interpretación (Cuerpo y Voz)– Improvisación– Juegos Teatrales– Creación de Personaje– Estructura Dramática– Conflicto– ⁠Actitudes Humanas Escribenos para apuntarte +34 604 92 87 50
URL:https://teatrometamorfosis.com/event/curso-de-actuacion/2025-06-03/
LOCATION:Teatro Metamofosis\, Carrer de Tapioles 12\, Bajo\, Barcelona\, Barcelona\, 08004\, Spain
ATTACH;FMTTYPE=image/jpeg:https://teatrometamorfosis.com/wp-content/uploads/2024/08/WhatsApp-Image-2024-08-24-at-7.48.20-AM.jpeg
END:VEVENT
BEGIN:VEVENT
DTSTART;TZID=Europe/Madrid:20250604T200000
DTEND;TZID=Europe/Madrid:20250604T200000
DTSTAMP:20260425T194150
CREATED:20250510T142707Z
LAST-MODIFIED:20250519T120931Z
UID:10002198-1749067200-1749067200@teatrometamorfosis.com
SUMMARY:Live Music & Silent Cinema: Sunrise (1927)
DESCRIPTION:Live Music & silent Cinema: Sunrise (1927) \nSilent cinema reborn through strings\, breath\, and beats \nA sensory experience to rediscover Sunrise: A Song of Two Humans (1927) by F.W. Murnau\, a silent film gem that won the first Academy Award (“Oscar”) in a category Unique and Artistic Picture. This romantic classic comes alive with a live score that blends the organic and the digital\, the intimate and the expansive. \nMariano Camarasa (cello)\, Jason Patrick Owens (flute)\, and tur21t (DJ\, electronics) craft an immersive sonic landscape where warm\, emotional melodies meet electronic textures. \nJune 4th\, 8 p.m. (doors open at 7.30) \nEl Teatro Metamorfosis – Carrer de Tapioles\, 12 \n  \nDon’t miss this unique fusion of classic cinema and contemporary sound. A celebration of desire\, guilt and hope on a night where silent film finds a new voice
URL:https://teatrometamorfosis.com/event/live-music-cilent-cinema-sunrise-1927/
ATTACH;FMTTYPE=image/jpeg:https://teatrometamorfosis.com/wp-content/uploads/2025/05/WhatsApp-Image-2025-05-09-at-10.28.21.jpeg
END:VEVENT
BEGIN:VEVENT
DTSTART;TZID=Europe/Madrid:20250605T193000
DTEND;TZID=Europe/Madrid:20250605T213000
DTSTAMP:20260425T194150
CREATED:20250326T012017Z
LAST-MODIFIED:20250420T132118Z
UID:10002175-1749151800-1749159000@teatrometamorfosis.com
SUMMARY:Smut Slam
DESCRIPTION:This exciting storytelling open mic based on real life\, real lust\, real sex is back in Barcelona on Thursday\, June 5\, with the theme of “BEST LAID PLANS.” You know all those times when you thought you knew how it was going to go down? Maybe it did\, maybe it didn’t\, but we want to know EITHER WAY. Created and hosted by professional perv Cameryn Moore\, Smut Slam features real-life\, first-person sex stories from the audience\, a panel of local judges\, sexy prizes\, and readings from THE FUCKBUCKET (anonymous questions and confessions)! IMPORTANT: Smut Slam is queer-friendly\, kink- AND vanilla-friendly\, fat-friendly\, sex worker-friendly\, virgin-friendly\, polyamory-friendly\, and really just friendly! We welcome people with all types and amounts of sexual experiences. We DO NOT welcome stories involving racism\, sexism\, homophobia\, transphobia\, or any other kind of discrimination or nonconsensual objectification or fetishization. CONSENT IS KEY. This event will be in English.
URL:https://teatrometamorfosis.com/event/smut-slam-8/
ATTACH;FMTTYPE=image/png:https://teatrometamorfosis.com/wp-content/uploads/2025/03/Untoyed-FB-event-header.png
END:VEVENT
BEGIN:VEVENT
DTSTART;TZID=Europe/Madrid:20250606T193000
DTEND;TZID=Europe/Madrid:20250606T210000
DTSTAMP:20260425T194150
CREATED:20250529T114350Z
LAST-MODIFIED:20250529T114350Z
UID:10002200-1749238200-1749243600@teatrometamorfosis.com
SUMMARY:Popcorn Singalong
DESCRIPTION:Love movies? Love music? Then come to “Popcorn Singalong” hosted by Lady Red Velvet! \nJoin us at Teatro Metamofosis in a night of movie magic with a viewing of “Grease”. Complete with singalongs\, live performances during the movie & plenty of popcorn it’s going to be a fun filled night to remember! \nStart time 7:30pm & don’t be afraid to dress up for the occasion in our theme: Greased Lightning – 1950’s style! \nTickets available in the profile! \n¿Te encantan las películas? ¿Te encanta la música? ¡Entonces ven a “Popcorn Singalong” presentado por Lady Red Velvet! \nÚnete a nosotros en el Teatro Metamofosis en una noche de magia cinematográfica con una proyección de “Grease”. ¡Con canciones\, actuaciones en vivo durante la película y muchas palomitas de maíz\, será una noche llena de diversión para recordar! \nHora de inicio: 19:30 h. ¡No tengas miedo de vestirte elegante para la ocasión con nuestro tema: Greased Lightning – estilo de los años 50!
URL:https://teatrometamorfosis.com/event/popcorn-singalong-2/
ATTACH;FMTTYPE=image/png:https://teatrometamorfosis.com/wp-content/uploads/2025/05/unnamed.png
END:VEVENT
BEGIN:VEVENT
DTSTART;TZID=Europe/Madrid:20250610T190000
DTEND;TZID=Europe/Madrid:20250610T210000
DTSTAMP:20260425T194150
CREATED:20240826T113127Z
LAST-MODIFIED:20241007T201212Z
UID:10001861-1749582000-1749589200@teatrometamorfosis.com
SUMMARY:Curso de actuación
DESCRIPTION:Algunos Items a ver en el curso – Expresión Corporal– Herramientas de interpretación (Cuerpo y Voz)– Improvisación– Juegos Teatrales– Creación de Personaje– Estructura Dramática– Conflicto– ⁠Actitudes Humanas Escribenos para apuntarte +34 604 92 87 50
URL:https://teatrometamorfosis.com/event/curso-de-actuacion/2025-06-10/
LOCATION:Teatro Metamofosis\, Carrer de Tapioles 12\, Bajo\, Barcelona\, Barcelona\, 08004\, Spain
ATTACH;FMTTYPE=image/jpeg:https://teatrometamorfosis.com/wp-content/uploads/2024/08/WhatsApp-Image-2024-08-24-at-7.48.20-AM.jpeg
END:VEVENT
BEGIN:VEVENT
DTSTART;TZID=Europe/Madrid:20250617T190000
DTEND;TZID=Europe/Madrid:20250617T210000
DTSTAMP:20260425T194150
CREATED:20240826T113127Z
LAST-MODIFIED:20241007T201212Z
UID:10001862-1750186800-1750194000@teatrometamorfosis.com
SUMMARY:Curso de actuación
DESCRIPTION:Algunos Items a ver en el curso – Expresión Corporal– Herramientas de interpretación (Cuerpo y Voz)– Improvisación– Juegos Teatrales– Creación de Personaje– Estructura Dramática– Conflicto– ⁠Actitudes Humanas Escribenos para apuntarte +34 604 92 87 50
URL:https://teatrometamorfosis.com/event/curso-de-actuacion/2025-06-17/
LOCATION:Teatro Metamofosis\, Carrer de Tapioles 12\, Bajo\, Barcelona\, Barcelona\, 08004\, Spain
ATTACH;FMTTYPE=image/jpeg:https://teatrometamorfosis.com/wp-content/uploads/2024/08/WhatsApp-Image-2024-08-24-at-7.48.20-AM.jpeg
END:VEVENT
BEGIN:VEVENT
DTSTART;TZID=Europe/Madrid:20250617T203000
DTEND;TZID=Europe/Madrid:20250617T220000
DTSTAMP:20260425T194150
CREATED:20250603T113804Z
LAST-MODIFIED:20250603T113805Z
UID:10002206-1750192200-1750197600@teatrometamorfosis.com
SUMMARY:Fiesta teatral
DESCRIPTION:Teatro Metamorfosis – Tapioles 12 \n17/06 – 20:30 hs \n22/06 – 18:30 hs y 20:30 hs \nEntrada con consumición \nCastellano y Catalán \nSINOPSIS E INVITACIÓN \n¡Bienvenidxs a la Fiesta Teatral! \nLa muestra de fin de año del taller de interpretación del Teatro Metamorfosis\, dirigido por Julián Galli Guillen\, llega para hacerte reír\, emocionar\, pensar y\, sobre todo\, disfrutar. \nEsta función es una verdadera celebración del teatro vivo: vas a ver monólogos\, escenas\, improvisaciones\, ejercicios teatrales y hasta coreografías que nacen del juego\, la entrega y la creatividad de sus participantes. \n¿Querés ver cómo es una clase de teatro desde adentro? ¿Te gustaría viajar de escena en escena\, de un personaje al otro\, en cuestión de segundos? \nEntonces esta fiesta es para vos. \nTodos los textos y personajes han sido creados e interpretados por lxs mismxs actuantes del taller\, en un espacio de exploración artística colectiva\, libertad y pasión por la escena. \nUna invitación a compartir el cierre de un proceso lleno de emoción\, humor\, esfuerzo y mucho arte. ¡Vení a celebrarlo con nosotrxs! \n⸻ \nActúan (por orden alfabético): \nAnna Civit · Julieta De Lorenzo · Maguie F Alzogaray · Julián Taleti Flores · Quintin Valiente · Raquel Raquel · Rafa Reynoso · Lorenzo Roscio · Santiago Brunetti · Xavi Cuello \nLuces y sonido: Equipo Metamorfosis
URL:https://teatrometamorfosis.com/event/fiesta-teatral/2025-06-17/
ATTACH;FMTTYPE=image/png:https://teatrometamorfosis.com/wp-content/uploads/2025/06/event_m_FIESTA_TEATRAL_1.png
END:VEVENT
BEGIN:VEVENT
DTSTART;TZID=Europe/Madrid:20250620T210000
DTEND;TZID=Europe/Madrid:20250620T220000
DTSTAMP:20260425T194150
CREATED:20250529T115504Z
LAST-MODIFIED:20250529T115504Z
UID:10002201-1750453200-1750456800@teatrometamorfosis.com
SUMMARY:CUANDO EL TIEMPO CANTA
DESCRIPTION:Un Café Concierto escrito por Carolina Román para Mónica Pelay \n¿Cuánto tiempo nos queda si no lo habitamos? \nEntre lo que fue y lo que aún no es\, Cuando el Tiempo Canta nos invita a un viaje \nescénico por las distintas formas de habitar —o desperdiciar— nuestra existencia. \nCon humor sutil\, poesía y música en vivo\, la obra explora cuatro dimensiones del \ntiempo: \nel olvidado\, ese que dejamos escapar sin darnos cuenta; \nel atrapado en la memoria\, que a veces duele\, a veces ilumina; \nel que se escapa\, ese que corre más rápido que nosotros; \ny el tiempo consciente\, donde todo finalmente se aquieta y revela su sentido. \nEn escena\, Mónica Pelay junto a Iván Hermes transitan estos paisajes temporales \na través de diálogos íntimos\, silencios que dicen\, y canciones que no interrumpen\, \nsino que respiran con el texto. \nLa propuesta\, escrita especialmente por la reconocida dramaturga Carolina \nRomán (IG: @carolinanamor)\, es una invitación a recordar que no somos víctimas \ndel tiempo\, sino artesanos de cómo lo vivimos.
URL:https://teatrometamorfosis.com/event/cuando-el-tiempo-canta/
ATTACH;FMTTYPE=image/jpeg:https://teatrometamorfosis.com/wp-content/uploads/2025/05/Flyer-SAVE-THE-DATE.jpg
END:VEVENT
BEGIN:VEVENT
DTSTART;TZID=Europe/Madrid:20250622T183000
DTEND;TZID=Europe/Madrid:20250622T193000
DTSTAMP:20260425T194150
CREATED:20250603T113804Z
LAST-MODIFIED:20250603T113805Z
UID:10002207-1750617000-1750620600@teatrometamorfosis.com
SUMMARY:Fiesta teatral
DESCRIPTION:Teatro Metamorfosis – Tapioles 12 \n17/06 – 20:30 hs \n22/06 – 18:30 hs y 20:30 hs \nEntrada con consumición \nCastellano y Catalán \nSINOPSIS E INVITACIÓN \n¡Bienvenidxs a la Fiesta Teatral! \nLa muestra de fin de año del taller de interpretación del Teatro Metamorfosis\, dirigido por Julián Galli Guillen\, llega para hacerte reír\, emocionar\, pensar y\, sobre todo\, disfrutar. \nEsta función es una verdadera celebración del teatro vivo: vas a ver monólogos\, escenas\, improvisaciones\, ejercicios teatrales y hasta coreografías que nacen del juego\, la entrega y la creatividad de sus participantes. \n¿Querés ver cómo es una clase de teatro desde adentro? ¿Te gustaría viajar de escena en escena\, de un personaje al otro\, en cuestión de segundos? \nEntonces esta fiesta es para vos. \nTodos los textos y personajes han sido creados e interpretados por lxs mismxs actuantes del taller\, en un espacio de exploración artística colectiva\, libertad y pasión por la escena. \nUna invitación a compartir el cierre de un proceso lleno de emoción\, humor\, esfuerzo y mucho arte. ¡Vení a celebrarlo con nosotrxs! \n⸻ \nActúan (por orden alfabético): \nAnna Civit · Julieta De Lorenzo · Maguie F Alzogaray · Julián Taleti Flores · Quintin Valiente · Raquel Raquel · Rafa Reynoso · Lorenzo Roscio · Santiago Brunetti · Xavi Cuello \nLuces y sonido: Equipo Metamorfosis
URL:https://teatrometamorfosis.com/event/fiesta-teatral/2025-06-22/1/
ATTACH;FMTTYPE=image/png:https://teatrometamorfosis.com/wp-content/uploads/2025/06/event_m_FIESTA_TEATRAL_1.png
END:VEVENT
BEGIN:VEVENT
DTSTART;TZID=Europe/Madrid:20250622T203000
DTEND;TZID=Europe/Madrid:20250622T220000
DTSTAMP:20260425T194150
CREATED:20250603T113804Z
LAST-MODIFIED:20250603T113805Z
UID:10002208-1750624200-1750629600@teatrometamorfosis.com
SUMMARY:Fiesta teatral
DESCRIPTION:Teatro Metamorfosis – Tapioles 12 \n17/06 – 20:30 hs \n22/06 – 18:30 hs y 20:30 hs \nEntrada con consumición \nCastellano y Catalán \nSINOPSIS E INVITACIÓN \n¡Bienvenidxs a la Fiesta Teatral! \nLa muestra de fin de año del taller de interpretación del Teatro Metamorfosis\, dirigido por Julián Galli Guillen\, llega para hacerte reír\, emocionar\, pensar y\, sobre todo\, disfrutar. \nEsta función es una verdadera celebración del teatro vivo: vas a ver monólogos\, escenas\, improvisaciones\, ejercicios teatrales y hasta coreografías que nacen del juego\, la entrega y la creatividad de sus participantes. \n¿Querés ver cómo es una clase de teatro desde adentro? ¿Te gustaría viajar de escena en escena\, de un personaje al otro\, en cuestión de segundos? \nEntonces esta fiesta es para vos. \nTodos los textos y personajes han sido creados e interpretados por lxs mismxs actuantes del taller\, en un espacio de exploración artística colectiva\, libertad y pasión por la escena. \nUna invitación a compartir el cierre de un proceso lleno de emoción\, humor\, esfuerzo y mucho arte. ¡Vení a celebrarlo con nosotrxs! \n⸻ \nActúan (por orden alfabético): \nAnna Civit · Julieta De Lorenzo · Maguie F Alzogaray · Julián Taleti Flores · Quintin Valiente · Raquel Raquel · Rafa Reynoso · Lorenzo Roscio · Santiago Brunetti · Xavi Cuello \nLuces y sonido: Equipo Metamorfosis
URL:https://teatrometamorfosis.com/event/fiesta-teatral/2025-06-22/2/
ATTACH;FMTTYPE=image/png:https://teatrometamorfosis.com/wp-content/uploads/2025/06/event_m_FIESTA_TEATRAL_1.png
END:VEVENT
BEGIN:VEVENT
DTSTART;TZID=Europe/Madrid:20250624T190000
DTEND;TZID=Europe/Madrid:20250624T210000
DTSTAMP:20260425T194150
CREATED:20240826T113127Z
LAST-MODIFIED:20241007T201212Z
UID:10001863-1750791600-1750798800@teatrometamorfosis.com
SUMMARY:Curso de actuación
DESCRIPTION:Algunos Items a ver en el curso – Expresión Corporal– Herramientas de interpretación (Cuerpo y Voz)– Improvisación– Juegos Teatrales– Creación de Personaje– Estructura Dramática– Conflicto– ⁠Actitudes Humanas Escribenos para apuntarte +34 604 92 87 50
URL:https://teatrometamorfosis.com/event/curso-de-actuacion/2025-06-24/
LOCATION:Teatro Metamofosis\, Carrer de Tapioles 12\, Bajo\, Barcelona\, Barcelona\, 08004\, Spain
ATTACH;FMTTYPE=image/jpeg:https://teatrometamorfosis.com/wp-content/uploads/2024/08/WhatsApp-Image-2024-08-24-at-7.48.20-AM.jpeg
END:VEVENT
BEGIN:VEVENT
DTSTART;TZID=Europe/Madrid:20250625T203000
DTEND;TZID=Europe/Madrid:20250625T220000
DTSTAMP:20260425T194150
CREATED:20250612T015836Z
LAST-MODIFIED:20250612T015836Z
UID:10002214-1750883400-1750888800@teatrometamorfosis.com
SUMMARY:4 Personaggi in cerca di unoccasione
DESCRIPTION:Cuatro mujeres\, cuatro caminos entrelazados por el deseo de cambio. Enfrentadas a sus miedos\, a su pasado y a un destino que parece empeñado en probar su fuerza\, emprenden una travesía íntima y valiente. Entre risas\, heridas y revelaciones\, cada una descubrirá que la verdadera transformación comienza cuando se atreven a mirar hacia adentro. \nUna historia de resiliencia\, sororidad y renacimiento. \nQuattro donne\, quattro cammini intrecciati dal desiderio di cambiamento. Di fronte alle loro paure\, al passato e a un destino che sembra deciso a mettere alla prova la loro forza\, intraprendono un viaggio intimo e coraggioso. Tra risate\, ferite e rivelazioni\, ognuna scoprirà che la vera trasformazione inizia quando si ha il coraggio di guardarsi dentro. \nHorario de función: 20:30 hs \nApertura de puerta : 20hs \nEl espacio cuenta con Barra de bebidas
URL:https://teatrometamorfosis.com/event/4-personaggi-in-cerca-di-unoccasione/
ATTACH;FMTTYPE=image/png:https://teatrometamorfosis.com/wp-content/uploads/2025/06/event_m_Locandina_metamorfosis_JPEG.png
END:VEVENT
BEGIN:VEVENT
DTSTART;TZID=Europe/Madrid:20250628T183000
DTEND;TZID=Europe/Madrid:20250628T193000
DTSTAMP:20260425T194150
CREATED:20250603T113506Z
LAST-MODIFIED:20250603T113506Z
UID:10002202-1751135400-1751139000@teatrometamorfosis.com
SUMMARY:UN TRAMVIA EN METAMORFOSI
DESCRIPTION:UN TRAMVIA EN METAMORFOSI \nAdaptación\, dirección y puesta en escena: Julián Galli Guillen \nLuces y Sonido: Augusto Trapani Guillen y equipo Metamorfosis \nTeatro Metamorfosis – Tapioles 12 \nSINOPSIS E INVITACIÓN \n¿Te subirías a un tranvía donde las emociones\, la historia y el drama viajan al ritmo de una Barcelona herida pero vibrante? \nEn “Un tramvia en metamorfosi”\, una adaptación valiente y sensible del clásico “Un tranvía llamado deseo” de Tennessee Williams\, Julián Galli Guillen nos transporta a un conventillo catalán de la posguerra\, donde conviven migrantes\, pasiones ardientes\, tensiones sociales y mucha\, pero mucha vida. \nEste viaje teatral nos sumerge en un universo donde los límites entre deseo\, locura y supervivencia se diluyen. Todo se siente más cerca\, más humano y más potente… como una charla entre vecinos\, como un grito en medio del silencio\, como un tranvía que no se detiene. \nY sí\, además de emoción… ¡hay consumición incluida con tu entrada! \nIdeal para venir con amigxs\, en familia o por qué no\, ¡con esa persona con la que compartirías el último asiento del tranvía! \nFunciones: \n• 28/06 – 18:30 hs y 20:30 hs \n• 30/06 – 20:00 hs \n• 07/7 – 20:00 hs \n• 11/7 – 20:30 hs \nIdiomas: Castellano y Catalán \n¡No te quedes sin tu entrada! \nVení a vivir esta experiencia teatral que late\, respira y se transforma… como la vida misma. \n⸻ \nActúan (por orden alfabético): \nMaguie F Alzogaray \nJudit Ayala Martinez \nJulieta De Lorenzo \nAlejandro Gerlach Soria \nMaria Quinteiro \nDani Rubio \nNacho Estellés \nMiriam Varó
URL:https://teatrometamorfosis.com/event/un-tramvia-en-metamorfosi/2025-06-28/
ATTACH;FMTTYPE=image/jpeg:https://teatrometamorfosis.com/wp-content/uploads/2025/06/WhatsApp-Image-2025-05-30-at-13.52.18.jpeg
END:VEVENT
BEGIN:VEVENT
DTSTART;TZID=Europe/Madrid:20250630T200000
DTEND;TZID=Europe/Madrid:20250630T220000
DTSTAMP:20260425T194150
CREATED:20250603T113506Z
LAST-MODIFIED:20250603T113506Z
UID:10002203-1751313600-1751320800@teatrometamorfosis.com
SUMMARY:UN TRAMVIA EN METAMORFOSI
DESCRIPTION:UN TRAMVIA EN METAMORFOSI \nAdaptación\, dirección y puesta en escena: Julián Galli Guillen \nLuces y Sonido: Augusto Trapani Guillen y equipo Metamorfosis \nTeatro Metamorfosis – Tapioles 12 \nSINOPSIS E INVITACIÓN \n¿Te subirías a un tranvía donde las emociones\, la historia y el drama viajan al ritmo de una Barcelona herida pero vibrante? \nEn “Un tramvia en metamorfosi”\, una adaptación valiente y sensible del clásico “Un tranvía llamado deseo” de Tennessee Williams\, Julián Galli Guillen nos transporta a un conventillo catalán de la posguerra\, donde conviven migrantes\, pasiones ardientes\, tensiones sociales y mucha\, pero mucha vida. \nEste viaje teatral nos sumerge en un universo donde los límites entre deseo\, locura y supervivencia se diluyen. Todo se siente más cerca\, más humano y más potente… como una charla entre vecinos\, como un grito en medio del silencio\, como un tranvía que no se detiene. \nY sí\, además de emoción… ¡hay consumición incluida con tu entrada! \nIdeal para venir con amigxs\, en familia o por qué no\, ¡con esa persona con la que compartirías el último asiento del tranvía! \nFunciones: \n• 28/06 – 18:30 hs y 20:30 hs \n• 30/06 – 20:00 hs \n• 07/7 – 20:00 hs \n• 11/7 – 20:30 hs \nIdiomas: Castellano y Catalán \n¡No te quedes sin tu entrada! \nVení a vivir esta experiencia teatral que late\, respira y se transforma… como la vida misma. \n⸻ \nActúan (por orden alfabético): \nMaguie F Alzogaray \nJudit Ayala Martinez \nJulieta De Lorenzo \nAlejandro Gerlach Soria \nMaria Quinteiro \nDani Rubio \nNacho Estellés \nMiriam Varó
URL:https://teatrometamorfosis.com/event/un-tramvia-en-metamorfosi/2025-06-30/
ATTACH;FMTTYPE=image/jpeg:https://teatrometamorfosis.com/wp-content/uploads/2025/06/WhatsApp-Image-2025-05-30-at-13.52.18.jpeg
END:VEVENT
END:VCALENDAR