BEGIN:VCALENDAR
VERSION:2.0
PRODID:-//Teatro Metamorfosis - ECPv6.15.20//NONSGML v1.0//EN
CALSCALE:GREGORIAN
METHOD:PUBLISH
X-ORIGINAL-URL:https://teatrometamorfosis.com
X-WR-CALDESC:Events for Teatro Metamorfosis
REFRESH-INTERVAL;VALUE=DURATION:PT1H
X-Robots-Tag:noindex
X-PUBLISHED-TTL:PT1H
BEGIN:VTIMEZONE
TZID:Europe/Madrid
BEGIN:DAYLIGHT
TZOFFSETFROM:+0100
TZOFFSETTO:+0200
TZNAME:CEST
DTSTART:20240331T010000
END:DAYLIGHT
BEGIN:STANDARD
TZOFFSETFROM:+0200
TZOFFSETTO:+0100
TZNAME:CET
DTSTART:20241027T010000
END:STANDARD
BEGIN:DAYLIGHT
TZOFFSETFROM:+0100
TZOFFSETTO:+0200
TZNAME:CEST
DTSTART:20250330T010000
END:DAYLIGHT
BEGIN:STANDARD
TZOFFSETFROM:+0200
TZOFFSETTO:+0100
TZNAME:CET
DTSTART:20251026T010000
END:STANDARD
BEGIN:DAYLIGHT
TZOFFSETFROM:+0100
TZOFFSETTO:+0200
TZNAME:CEST
DTSTART:20260329T010000
END:DAYLIGHT
BEGIN:STANDARD
TZOFFSETFROM:+0200
TZOFFSETTO:+0100
TZNAME:CET
DTSTART:20261025T010000
END:STANDARD
END:VTIMEZONE
BEGIN:VEVENT
DTSTART;TZID=Europe/Madrid:20250701T190000
DTEND;TZID=Europe/Madrid:20250701T210000
DTSTAMP:20260425T182253
CREATED:20240826T113127Z
LAST-MODIFIED:20241007T201212Z
UID:10001864-1751396400-1751403600@teatrometamorfosis.com
SUMMARY:Curso de actuación
DESCRIPTION:Algunos Items a ver en el curso – Expresión Corporal– Herramientas de interpretación (Cuerpo y Voz)– Improvisación– Juegos Teatrales– Creación de Personaje– Estructura Dramática– Conflicto– ⁠Actitudes Humanas Escribenos para apuntarte +34 604 92 87 50
URL:https://teatrometamorfosis.com/event/curso-de-actuacion/2025-07-01/
LOCATION:Teatro Metamofosis\, Carrer de Tapioles 12\, Bajo\, Barcelona\, Barcelona\, 08004\, Spain
ATTACH;FMTTYPE=image/jpeg:https://teatrometamorfosis.com/wp-content/uploads/2024/08/WhatsApp-Image-2024-08-24-at-7.48.20-AM.jpeg
END:VEVENT
BEGIN:VEVENT
DTSTART;TZID=Europe/Madrid:20250701T203000
DTEND;TZID=Europe/Madrid:20250701T220000
DTSTAMP:20260425T182253
CREATED:20250626T122135Z
LAST-MODIFIED:20250626T122135Z
UID:10002218-1751401800-1751407200@teatrometamorfosis.com
SUMMARY:CICLE DE CONCERTS POBLE SEC
DESCRIPTION:SOBRE EL CUARTETO \nCuarteto de jazz afincado en Barcelona que busca redefinir los límites de géneros y ritmos musicales\, ofreciendo al público una experiencia sonora auténtica\, apasionada y profundamente humana. \nEl repertorio combina composiciones originales con reinterpretaciones de Standards de jazz\, que honran la tradición mientras exploran nuevos horizontes musicales. Cada interpretación está impregnada de nuestra identidad cultural y artística\, reflejando influencias diversas: desde el linaje del jazz clásico hasta las corrientes contemporáneas. \nEl Jazz es mucho más que un género\, es un medio para conectar\, emocionar y contar historias. Cada actuación es una invitación a explorar los paisajes sonoros que nos definen como músicos y como personas. \nVíctor Blynsky – saxo alto \nMariano Camarasa – piano \nMauro Battisti – contrabajo \nAlessandro Campobasso – batería \nPrecio de Entradas en Puerta: 10€ \nLa sala dispone de Open Bar
URL:https://teatrometamorfosis.com/event/cicle-de-concerts-poble-sec/
ATTACH;FMTTYPE=image/jpeg:https://teatrometamorfosis.com/wp-content/uploads/2025/06/event_m_Screenshot_2025-06-24-14-32-43-853_com.whatsapp.jpg
END:VEVENT
BEGIN:VEVENT
DTSTART;TZID=Europe/Madrid:20250703T210000
DTEND;TZID=Europe/Madrid:20250703T220000
DTSTAMP:20260425T182253
CREATED:20250620T130528Z
LAST-MODIFIED:20250620T130528Z
UID:10002217-1751576400-1751580000@teatrometamorfosis.com
SUMMARY:Fogón Musical Vol III Edición especial
DESCRIPTION:Fogón Musical Vol III Edición especial: \nFogón Musical es una comunidad creada para generar conección\, intimidad y calidez \nentre Músicos\, público y espacios\, creado y organizado por Ayrton Sosa (@Sosayr_)\, \nCantante y guitarrista\, compositor/intérprete argentino de Rock Alternativo fusionado con \nR&B\, Soul\, Pop\, Jazz\, entre otros. Realizando un show íntimo\, invitando a grandes artistas \nal escenario y compartiendo nueva música de artistas emergentes en Barcelona y \nalrededores. \nEsta edición es especial ya que será un show conjunto y fusión con Simonet(Cantante y \nguitarrista y compositor/intérprete argentino de R&B\, Soul\, Pop\, entre otros) promocionando \nla salida de su nuevo álbum y el retorno a Barcelona después de una gira por Argentina\, \nhaciendo su primer show de regreso. \nLa dinámica consta de una exposición de 45 minutos(aprox) x artista.
URL:https://teatrometamorfosis.com/event/fogon-musical-vol-iii-edicion-especial/
ATTACH;FMTTYPE=image/jpeg:https://teatrometamorfosis.com/wp-content/uploads/2025/06/event_m_A3_Fogon_Musical_Jun_25-1_page-0001.jpg
END:VEVENT
BEGIN:VEVENT
DTSTART;TZID=Europe/Madrid:20250704T210000
DTEND;TZID=Europe/Madrid:20250704T220000
DTSTAMP:20260425T182253
CREATED:20250421T011722Z
LAST-MODIFIED:20250421T011722Z
UID:10002190-1751662800-1751666400@teatrometamorfosis.com
SUMMARY:Silvio Astier
DESCRIPTION:Silvio Astier se presenta por primera vez en Barcelona el Viernes 4 de Julio en el Teatro Metamorfosis\, donde presentará su nuevo material EL REINO SALVAJE y el videoclip de Milonga de Luna Llena con Simio\, artista argentino radicado en Barcelona. \nEn el marco de su primera gira por Europa\, que lo llevará a recorrer España\, Portugal\, Alemania\, Reino Unido\, Bélgica y Holanda\, Silvio despliega un potente Live Set que fusiona la tradición musical argentina con la energía vibrante de la electrónica contemporánea. Con la guitarra como eje y un enfoque que mezcla composición e improvisación en tiempo real\, Astier logra crear en sus show un ecosistema sonoro inmersivo que conecta emoción\, baile e historia.
URL:https://teatrometamorfosis.com/event/silvio-astier/
ATTACH;FMTTYPE=image/jpeg:https://teatrometamorfosis.com/wp-content/uploads/2025/04/WhatsApp-Image-2025-04-17-at-11.46.53.jpeg
END:VEVENT
BEGIN:VEVENT
DTSTART;TZID=Europe/Madrid:20250705T210000
DTEND;TZID=Europe/Madrid:20250705T230000
DTSTAMP:20260425T182253
CREATED:20250609T112921Z
LAST-MODIFIED:20250609T112921Z
UID:10002213-1751749200-1751756400@teatrometamorfosis.com
SUMMARY:Endless Trio
DESCRIPTION:Endless Trio te invita al concierto de presentación de su disco New Horizon! La formación compuesta por Alessandro Campobasso a la bateria\, Carlos Ródenas al contrabajo y Pablo Costas al piano actuará en Teatro Metamorphosis\, por la etapa española de su gira international que llevará el Trio tocando por Italia\, España\, Argentina\, Uruguay\, Alemania\, Olanda\, etc. \nEn New Horizon\, tradición y modernidad se funden alternando espacios abiertos y formas multitemáticas. La textura de las composiciones y la puesta en escena\, marcada por pausas breves y escasas\, realzan una estética musical en la que la narrativa es el pilar fundamental. Una historia que invita al oyente a entrar en trance y dejarse llevar por una música de múltiples referencias\, que bebe del jazz de forma transversal y se expresa a través de las formas estéticas más contemporáneas. \nSin líderes ni acompañantes\, Endless Trio apuesta por la composición colaborativa y la ruptura de los roles tradicionales\, abriendo así espacio a la experimentación y a la búsqueda de nuevas sonoridades. \nSin límites\, todo es posible. Esto es Endless Trio.
URL:https://teatrometamorfosis.com/event/endless-trio/
ATTACH;FMTTYPE=image/jpeg:https://teatrometamorfosis.com/wp-content/uploads/2025/06/WhatsApp-Image-2025-06-05-at-14.09.42.jpeg
END:VEVENT
BEGIN:VEVENT
DTSTART;TZID=Europe/Madrid:20250707T203000
DTEND;TZID=Europe/Madrid:20250707T223000
DTSTAMP:20260425T182253
CREATED:20250603T113506Z
LAST-MODIFIED:20250603T113506Z
UID:10002204-1751920200-1751927400@teatrometamorfosis.com
SUMMARY:UN TRAMVIA EN METAMORFOSI
DESCRIPTION:UN TRAMVIA EN METAMORFOSI \nAdaptación\, dirección y puesta en escena: Julián Galli Guillen \nLuces y Sonido: Augusto Trapani Guillen y equipo Metamorfosis \nTeatro Metamorfosis – Tapioles 12 \nSINOPSIS E INVITACIÓN \n¿Te subirías a un tranvía donde las emociones\, la historia y el drama viajan al ritmo de una Barcelona herida pero vibrante? \nEn “Un tramvia en metamorfosi”\, una adaptación valiente y sensible del clásico “Un tranvía llamado deseo” de Tennessee Williams\, Julián Galli Guillen nos transporta a un conventillo catalán de la posguerra\, donde conviven migrantes\, pasiones ardientes\, tensiones sociales y mucha\, pero mucha vida. \nEste viaje teatral nos sumerge en un universo donde los límites entre deseo\, locura y supervivencia se diluyen. Todo se siente más cerca\, más humano y más potente… como una charla entre vecinos\, como un grito en medio del silencio\, como un tranvía que no se detiene. \nY sí\, además de emoción… ¡hay consumición incluida con tu entrada! \nIdeal para venir con amigxs\, en familia o por qué no\, ¡con esa persona con la que compartirías el último asiento del tranvía! \nFunciones: \n• 28/06 – 18:30 hs y 20:30 hs \n• 30/06 – 20:00 hs \n• 07/7 – 20:00 hs \n• 11/7 – 20:30 hs \nIdiomas: Castellano y Catalán \n¡No te quedes sin tu entrada! \nVení a vivir esta experiencia teatral que late\, respira y se transforma… como la vida misma. \n⸻ \nActúan (por orden alfabético): \nMaguie F Alzogaray \nJudit Ayala Martinez \nJulieta De Lorenzo \nAlejandro Gerlach Soria \nMaria Quinteiro \nDani Rubio \nNacho Estellés \nMiriam Varó
URL:https://teatrometamorfosis.com/event/un-tramvia-en-metamorfosi/2025-07-07/
ATTACH;FMTTYPE=image/jpeg:https://teatrometamorfosis.com/wp-content/uploads/2025/06/WhatsApp-Image-2025-05-30-at-13.52.18.jpeg
END:VEVENT
BEGIN:VEVENT
DTSTART;TZID=Europe/Madrid:20250708T190000
DTEND;TZID=Europe/Madrid:20250708T210000
DTSTAMP:20260425T182253
CREATED:20240826T113127Z
LAST-MODIFIED:20241007T201212Z
UID:10001865-1752001200-1752008400@teatrometamorfosis.com
SUMMARY:Curso de actuación
DESCRIPTION:Algunos Items a ver en el curso – Expresión Corporal– Herramientas de interpretación (Cuerpo y Voz)– Improvisación– Juegos Teatrales– Creación de Personaje– Estructura Dramática– Conflicto– ⁠Actitudes Humanas Escribenos para apuntarte +34 604 92 87 50
URL:https://teatrometamorfosis.com/event/curso-de-actuacion/2025-07-08/
LOCATION:Teatro Metamofosis\, Carrer de Tapioles 12\, Bajo\, Barcelona\, Barcelona\, 08004\, Spain
ATTACH;FMTTYPE=image/jpeg:https://teatrometamorfosis.com/wp-content/uploads/2024/08/WhatsApp-Image-2024-08-24-at-7.48.20-AM.jpeg
END:VEVENT
BEGIN:VEVENT
DTSTART;TZID=Europe/Madrid:20250711T080000
DTEND;TZID=Europe/Madrid:20250711T170000
DTSTAMP:20260425T182253
CREATED:20250603T113506Z
LAST-MODIFIED:20250603T113506Z
UID:10002205-1752220800-1752253200@teatrometamorfosis.com
SUMMARY:UN TRAMVIA EN METAMORFOSI
DESCRIPTION:UN TRAMVIA EN METAMORFOSI \nAdaptación\, dirección y puesta en escena: Julián Galli Guillen \nLuces y Sonido: Augusto Trapani Guillen y equipo Metamorfosis \nTeatro Metamorfosis – Tapioles 12 \nSINOPSIS E INVITACIÓN \n¿Te subirías a un tranvía donde las emociones\, la historia y el drama viajan al ritmo de una Barcelona herida pero vibrante? \nEn “Un tramvia en metamorfosi”\, una adaptación valiente y sensible del clásico “Un tranvía llamado deseo” de Tennessee Williams\, Julián Galli Guillen nos transporta a un conventillo catalán de la posguerra\, donde conviven migrantes\, pasiones ardientes\, tensiones sociales y mucha\, pero mucha vida. \nEste viaje teatral nos sumerge en un universo donde los límites entre deseo\, locura y supervivencia se diluyen. Todo se siente más cerca\, más humano y más potente… como una charla entre vecinos\, como un grito en medio del silencio\, como un tranvía que no se detiene. \nY sí\, además de emoción… ¡hay consumición incluida con tu entrada! \nIdeal para venir con amigxs\, en familia o por qué no\, ¡con esa persona con la que compartirías el último asiento del tranvía! \nFunciones: \n• 28/06 – 18:30 hs y 20:30 hs \n• 30/06 – 20:00 hs \n• 07/7 – 20:00 hs \n• 11/7 – 20:30 hs \nIdiomas: Castellano y Catalán \n¡No te quedes sin tu entrada! \nVení a vivir esta experiencia teatral que late\, respira y se transforma… como la vida misma. \n⸻ \nActúan (por orden alfabético): \nMaguie F Alzogaray \nJudit Ayala Martinez \nJulieta De Lorenzo \nAlejandro Gerlach Soria \nMaria Quinteiro \nDani Rubio \nNacho Estellés \nMiriam Varó
URL:https://teatrometamorfosis.com/event/un-tramvia-en-metamorfosi/2025-07-11/
ATTACH;FMTTYPE=image/jpeg:https://teatrometamorfosis.com/wp-content/uploads/2025/06/WhatsApp-Image-2025-05-30-at-13.52.18.jpeg
END:VEVENT
BEGIN:VEVENT
DTSTART;TZID=Europe/Madrid:20250715T190000
DTEND;TZID=Europe/Madrid:20250715T210000
DTSTAMP:20260425T182253
CREATED:20240826T113127Z
LAST-MODIFIED:20241007T201212Z
UID:10001866-1752606000-1752613200@teatrometamorfosis.com
SUMMARY:Curso de actuación
DESCRIPTION:Algunos Items a ver en el curso – Expresión Corporal– Herramientas de interpretación (Cuerpo y Voz)– Improvisación– Juegos Teatrales– Creación de Personaje– Estructura Dramática– Conflicto– ⁠Actitudes Humanas Escribenos para apuntarte +34 604 92 87 50
URL:https://teatrometamorfosis.com/event/curso-de-actuacion/2025-07-15/
LOCATION:Teatro Metamofosis\, Carrer de Tapioles 12\, Bajo\, Barcelona\, Barcelona\, 08004\, Spain
ATTACH;FMTTYPE=image/jpeg:https://teatrometamorfosis.com/wp-content/uploads/2024/08/WhatsApp-Image-2024-08-24-at-7.48.20-AM.jpeg
END:VEVENT
BEGIN:VEVENT
DTSTART;TZID=Europe/Madrid:20250718T210000
DTEND;TZID=Europe/Madrid:20250718T230000
DTSTAMP:20260425T182253
CREATED:20250620T125826Z
LAST-MODIFIED:20250620T125826Z
UID:10002216-1752872400-1752879600@teatrometamorfosis.com
SUMMARY:THE HUMAN FISH EN DIRECTE
DESCRIPTION:THE HUMAN FISH EN DIRECTO \nviernes 18 de julio (21h) en METAMORFOSIS (c/Tapioles 12 BCN) \nLa banda inclasificable fundada por el escritor Francesc Miralles y el doctor en biología Jordi Medianoche se presenta con una valiosa incorporación\, la batería punk Nue Roma\, con un show en el que participarán artistas amigos como Miguel Aranda\, Daniel Lumbreras y otras sorpresas. \nTHE HUMAN FISH EN DIRECTE \ndivendres 18 de juliol (21h) a METAMORFOSIS (c/Tapiols 12 BCN) \nLa banda inclassificable fundada per l’escriptor Francesc Miralles i el doctor en biologia Jordi Medianoche es presenta amb una valuosa incorporació\, la bateria punk Nue Roma\, amb un show en el que participaran artistes amics com Miguel Aranda\, Daniel Lumbreras i altres sorpreses. \nEntradas en taquilla el día del evento 20 euros.
URL:https://teatrometamorfosis.com/event/the-human-fish-en-directe/
ATTACH;FMTTYPE=image/jpeg:https://teatrometamorfosis.com/wp-content/uploads/2025/06/WhatsApp-Image-2025-06-19-at-18.30.39.jpeg
END:VEVENT
BEGIN:VEVENT
DTSTART;TZID=Europe/Madrid:20250719T210000
DTEND;TZID=Europe/Madrid:20250719T230000
DTSTAMP:20260425T182253
CREATED:20250618T011010Z
LAST-MODIFIED:20250626T121858Z
UID:10002215-1752958800-1752966000@teatrometamorfosis.com
SUMMARY:Ciclar la red
DESCRIPTION:CICLAR LA RED \nCanciones que alojan canciones que viajan \nEs un ciclo que convoca el encuentro de propuestas artisticas residentes en Barcelona con \naquellas que viajan y giran. Sembrando asi el intercambio y colaborando a sumar mas \nnodos a la urdimbre creativa. \nEn esta primera edicion: \nJuan Murua y Jose Di Bert \nEl dúo Argentino formado por Josefina Di Bert (voz y percusión) y Juan Murua (voz y \nguitarra) propone un concierto donde se entremezclan canciones propias con reversiones de \nclasicos del folclore. Juntos\, crean un espacio sonoro único que celebra la diversidad \nmusical del territorio latinoamericano. \nRecibe a: \nMelodias provincianas \nMelodías Provincianas es un dúo de vientos formado por los músicos argentinos Rocío \nGjurkan y Diego Cortez nacido en diciembre del 2022 en Unquillo\, Córdoba\, Argentina. \nEl dúo propone un viaje sonoro por diferentes regiones de Argentina interpretando músicas \ntradicionales de las provincias especialmente creadas para dúo de vientos. \nEl repertorio está formado por clásicos de la música popular argentina y composiciones \npropias sobre estilos tales como chacareras\, gatos\, tonadas cuyanas\, milongas\, vidalas\, \ntaquiraris\, rasguido doble\, entre otros. \nEntradas en taquilla el día del evento  12€ y 15€  con consumición.
URL:https://teatrometamorfosis.com/event/ciclar-la-red/
ATTACH;FMTTYPE=image/jpeg:https://teatrometamorfosis.com/wp-content/uploads/2025/06/WhatsApp-Image-2025-06-17-at-12.19.50.jpeg
END:VEVENT
BEGIN:VEVENT
DTSTART;TZID=Europe/Madrid:20250722T190000
DTEND;TZID=Europe/Madrid:20250722T210000
DTSTAMP:20260425T182253
CREATED:20240826T113127Z
LAST-MODIFIED:20241007T201212Z
UID:10001867-1753210800-1753218000@teatrometamorfosis.com
SUMMARY:Curso de actuación
DESCRIPTION:Algunos Items a ver en el curso – Expresión Corporal– Herramientas de interpretación (Cuerpo y Voz)– Improvisación– Juegos Teatrales– Creación de Personaje– Estructura Dramática– Conflicto– ⁠Actitudes Humanas Escribenos para apuntarte +34 604 92 87 50
URL:https://teatrometamorfosis.com/event/curso-de-actuacion/2025-07-22/
LOCATION:Teatro Metamofosis\, Carrer de Tapioles 12\, Bajo\, Barcelona\, Barcelona\, 08004\, Spain
ATTACH;FMTTYPE=image/jpeg:https://teatrometamorfosis.com/wp-content/uploads/2024/08/WhatsApp-Image-2024-08-24-at-7.48.20-AM.jpeg
END:VEVENT
BEGIN:VEVENT
DTSTART;TZID=Europe/Madrid:20250724T210000
DTEND;TZID=Europe/Madrid:20250724T223000
DTSTAMP:20260425T182253
CREATED:20250605T140209Z
LAST-MODIFIED:20250612T020126Z
UID:10002209-1753390800-1753396200@teatrometamorfosis.com
SUMMARY:Aquel noviembre
DESCRIPTION:Dos mujeres se reencuentran luego de haberse separado. Recorren un viaje a través de diferentes meses hablando de amor\, miedos\, causas de la separación; hasta llegar a entender que es lo que pasó Aquel Noviembre que cambió el destino de ambas. \nNombre de la obra: Aquel Noviembre \nProducción: Intensity \nDramaturgia/escritura: Andres Ribas Closa \nActrices: Angela Marin Duran y Mar Priegue Paradiso \nDirección: Ainhoa Martínez Batlle \nObra recomendada para mayores de 13 años y  lgtbiq+ friendly. \nLas puertas abren a las 20.30hs.
URL:https://teatrometamorfosis.com/event/aquel-noviembre/
ATTACH;FMTTYPE=image/png:https://teatrometamorfosis.com/wp-content/uploads/2025/06/Captura-de-pantalla-2025-06-05-a-las-10.53.54.png
END:VEVENT
BEGIN:VEVENT
DTSTART;TZID=Europe/Madrid:20250725T210000
DTEND;TZID=Europe/Madrid:20250725T230000
DTSTAMP:20260425T182253
CREATED:20250605T141645Z
LAST-MODIFIED:20260130T114021Z
UID:10002482-1753477200-1753484400@teatrometamorfosis.com
SUMMARY:Nenucha
DESCRIPTION:  \n\n\n\n\nTras la crisis económica argentina de 2001 Nenucha\, un ama de casa de Buenos Aires\, se exilia a Barcelona donde se asienta en el pintoresco barrio de l’Eixample junto a su único hijo\, Rodrigo.Transcurre el año 2005 y ya hace varios meses que Rodrigo ha viajado a Londres. Desde entonces\, su madre no hace más que esperarlo. Hermética en su soledad y casi sin contacto directo con él\, Nenucha recibe una noticia que agrava su amargura. En medio de su melodrama\, una ayuda no deseada y una confirmación muy temida la llevarán a abrir una carta\, desde hace tiempo\, cerrada. El desafío será cambiar la mirada y encontrar el camino hacia el verdadero retorno. \nRodrigo Garbarino \n(Autor y Director General) \nFIICHA TÉCNICA \nAutores: Rodrigo Garbarino\, Marcelo Andino\, Bettina Menegazzo. \nSobre textos originales de Rodrigo Garbarino. \nActúa: Rodrigo Garbarino. \nMaquillaje: Simona Mauggeri. \nFotografía y diseño gráfico: Martín Gonzalez Puig. \nMúsica original: Marcelo Andino. \nProducción general: Rodrigo Garbarino. \nAsistente de dirección: Julián Arenas \nDirección: Rodrigo Garbarino. \nLas opciones para la consumición incluída en la entrada serán : cerveza\, vino\, cava\, vermut o refresco. \nLa entrada comprada en puerta cuesta lo mismo pero SIN consumición \nLas entradas compradas con código de descuento NO incluyen bebidas
URL:https://teatrometamorfosis.com/event/nenucha/2025-07-25/
CATEGORIES:Improv
ATTACH;FMTTYPE=image/jpeg:https://teatrometamorfosis.com/wp-content/uploads/2025/06/WhatsApp-Image-2026-01-30-at-08.35.41.jpeg
END:VEVENT
BEGIN:VEVENT
DTSTART;TZID=Europe/Madrid:20250729T190000
DTEND;TZID=Europe/Madrid:20250729T210000
DTSTAMP:20260425T182253
CREATED:20240826T113127Z
LAST-MODIFIED:20241007T201212Z
UID:10001868-1753815600-1753822800@teatrometamorfosis.com
SUMMARY:Curso de actuación
DESCRIPTION:Algunos Items a ver en el curso – Expresión Corporal– Herramientas de interpretación (Cuerpo y Voz)– Improvisación– Juegos Teatrales– Creación de Personaje– Estructura Dramática– Conflicto– ⁠Actitudes Humanas Escribenos para apuntarte +34 604 92 87 50
URL:https://teatrometamorfosis.com/event/curso-de-actuacion/2025-07-29/
LOCATION:Teatro Metamofosis\, Carrer de Tapioles 12\, Bajo\, Barcelona\, Barcelona\, 08004\, Spain
ATTACH;FMTTYPE=image/jpeg:https://teatrometamorfosis.com/wp-content/uploads/2024/08/WhatsApp-Image-2024-08-24-at-7.48.20-AM.jpeg
END:VEVENT
BEGIN:VEVENT
DTSTART;TZID=Europe/Madrid:20250731T210000
DTEND;TZID=Europe/Madrid:20250731T230000
DTSTAMP:20260425T182253
CREATED:20250710T205341Z
LAST-MODIFIED:20250710T205341Z
UID:10002481-1753995600-1754002800@teatrometamorfosis.com
SUMMARY:Leo Mendes
DESCRIPTION:Leo Mendes es artista\, compositor\, cantante e intérprete brasileño. Su musicalidad oscila entre la tropicalidad de ritmos brasileños\, reggae y la música urbana. Ahora en Barcelona trabajando en su nuevo proyecto acompañado de su increíble Banda nos va a deleitar con un concierto imperdible y intimo. No te lo pierdas! \n\n\n\n12 Euros entradas en taquilla el día del evento.
URL:https://teatrometamorfosis.com/event/leo-mendes/
ATTACH;FMTTYPE=image/jpeg:https://teatrometamorfosis.com/wp-content/uploads/2025/07/WhatsApp-Image-2025-07-09-at-10.31.31.jpeg
END:VEVENT
END:VCALENDAR