BEGIN:VCALENDAR
VERSION:2.0
PRODID:-//Teatro Metamorfosis - ECPv6.15.20//NONSGML v1.0//EN
CALSCALE:GREGORIAN
METHOD:PUBLISH
X-ORIGINAL-URL:https://teatrometamorfosis.com
X-WR-CALDESC:Events for Teatro Metamorfosis
REFRESH-INTERVAL;VALUE=DURATION:PT1H
X-Robots-Tag:noindex
X-PUBLISHED-TTL:PT1H
BEGIN:VTIMEZONE
TZID:Europe/Madrid
BEGIN:DAYLIGHT
TZOFFSETFROM:+0100
TZOFFSETTO:+0200
TZNAME:CEST
DTSTART:20240331T010000
END:DAYLIGHT
BEGIN:STANDARD
TZOFFSETFROM:+0200
TZOFFSETTO:+0100
TZNAME:CET
DTSTART:20241027T010000
END:STANDARD
BEGIN:DAYLIGHT
TZOFFSETFROM:+0100
TZOFFSETTO:+0200
TZNAME:CEST
DTSTART:20250330T010000
END:DAYLIGHT
BEGIN:STANDARD
TZOFFSETFROM:+0200
TZOFFSETTO:+0100
TZNAME:CET
DTSTART:20251026T010000
END:STANDARD
BEGIN:DAYLIGHT
TZOFFSETFROM:+0100
TZOFFSETTO:+0200
TZNAME:CEST
DTSTART:20260329T010000
END:DAYLIGHT
BEGIN:STANDARD
TZOFFSETFROM:+0200
TZOFFSETTO:+0100
TZNAME:CET
DTSTART:20261025T010000
END:STANDARD
END:VTIMEZONE
BEGIN:VEVENT
DTSTART;TZID=Europe/Madrid:20250422T190000
DTEND;TZID=Europe/Madrid:20250422T210000
DTSTAMP:20260426T042740
CREATED:20240826T113127Z
LAST-MODIFIED:20241007T201212Z
UID:10001854-1745348400-1745355600@teatrometamorfosis.com
SUMMARY:Curso de actuación
DESCRIPTION:Algunos Items a ver en el curso – Expresión Corporal– Herramientas de interpretación (Cuerpo y Voz)– Improvisación– Juegos Teatrales– Creación de Personaje– Estructura Dramática– Conflicto– ⁠Actitudes Humanas Escribenos para apuntarte +34 604 92 87 50
URL:https://teatrometamorfosis.com/event/curso-de-actuacion/2025-04-22/
LOCATION:Teatro Metamofosis\, Carrer de Tapioles 12\, Bajo\, Barcelona\, Barcelona\, 08004\, Spain
ATTACH;FMTTYPE=image/jpeg:https://teatrometamorfosis.com/wp-content/uploads/2024/08/WhatsApp-Image-2024-08-24-at-7.48.20-AM.jpeg
END:VEVENT
BEGIN:VEVENT
DTSTART;TZID=Europe/Madrid:20250424T203000
DTEND;TZID=Europe/Madrid:20250424T213000
DTSTAMP:20260426T042740
CREATED:20250417T023814Z
LAST-MODIFIED:20250417T023930Z
UID:10002185-1745526600-1745530200@teatrometamorfosis.com
SUMMARY:Orquesta escuela de tango Tibidabo
DESCRIPTION:ENTRADAS AQUI  \nFormada en el año 2022\, la Orquesta Escuela de Tango Tibidabo\, como reza su nombre\, es un \nensamble donde los músicos aprenden los aspectos fundamentales del tango\, para convertirse \nen verdaderos especialistas del género\, con todo lo que eso implica. \nLos conciertos de la Orquesta son una muestra de todo lo que se trabaja cada semana\, con un \nenfoque profesional\, exigente y contundente… Continuando con los éxitos de los conciertos \ndel último año\, la Orquesta Escuela se presentará en el Teatro Metamorfosis; un concierto que \npasará por todas las épocas del tango\, con arreglos musicales originales y una puesta en \nescena potente. Fiesta musical asegurada. \nQuince artistas en escena (6 bandoneones\, 3 violines\, viola\, piano\, contrabajo\, 3 cantantes) \nLa magia de la Orquesta Típica de Tango. \nTodo esto y mucho más…. \nLos esperamos. \nentradas en boleteria el dia del evento 15 euros
URL:https://teatrometamorfosis.com/event/orquesta-escuela-de-tango-tibidabo-3/
ATTACH;FMTTYPE=image/jpeg:https://teatrometamorfosis.com/wp-content/uploads/2025/04/event_m_IMG-20250310-WA0001_2-1.jpg
END:VEVENT
BEGIN:VEVENT
DTSTART;TZID=Europe/Madrid:20250425T203000
DTEND;TZID=Europe/Madrid:20250425T220000
DTSTAMP:20260426T042740
CREATED:20250310T221136Z
LAST-MODIFIED:20250326T123857Z
UID:10002168-1745613000-1745618400@teatrometamorfosis.com
SUMMARY:Tribus
DESCRIPTION:TRIBUS – Un Viaje Musical que Conecta Culturas “Tribus” es un concierto que une raíces y sonidos del mundo en una experiencia vibrante y envolvente. Inspirado en la diversidad\, fusiona ritmos afroperuanos y andinos con influencias globales y percusiones de Kenia\, Jordania\, Singapur e Irlanda. La voz\, el saxofón y la guitarra se mezclan con secuencias electrónicas\, creando un paisaje sonoro único. En escena\, Carolina Araoz lidera una banda internacional de músicos excepcionales\, con invitados especiales como Ken Ichikawa en la batería y Daniella Ghersi en los coros. Además\, la artista María Gómez dibujará en vivo\, convirtiendo la música en imagen. Escucha Tribus aquí: https://ditto.fm/tribus Un espectáculo donde la música nos recuerda que todos somos parte de una gran tribu global. ¡Los espero!
URL:https://teatrometamorfosis.com/event/tribus/
ATTACH;FMTTYPE=image/jpeg:https://teatrometamorfosis.com/wp-content/uploads/2025/03/event_m_eb328fb7-8831-42d7-a53a-b820627428e9.jpeg
END:VEVENT
END:VCALENDAR