BEGIN:VCALENDAR
VERSION:2.0
PRODID:-//Teatro Metamorfosis - ECPv6.15.20//NONSGML v1.0//EN
CALSCALE:GREGORIAN
METHOD:PUBLISH
X-ORIGINAL-URL:https://teatrometamorfosis.com
X-WR-CALDESC:Events for Teatro Metamorfosis
REFRESH-INTERVAL;VALUE=DURATION:PT1H
X-Robots-Tag:noindex
X-PUBLISHED-TTL:PT1H
BEGIN:VTIMEZONE
TZID:Europe/Madrid
BEGIN:DAYLIGHT
TZOFFSETFROM:+0100
TZOFFSETTO:+0200
TZNAME:CEST
DTSTART:20240331T010000
END:DAYLIGHT
BEGIN:STANDARD
TZOFFSETFROM:+0200
TZOFFSETTO:+0100
TZNAME:CET
DTSTART:20241027T010000
END:STANDARD
BEGIN:DAYLIGHT
TZOFFSETFROM:+0100
TZOFFSETTO:+0200
TZNAME:CEST
DTSTART:20250330T010000
END:DAYLIGHT
BEGIN:STANDARD
TZOFFSETFROM:+0200
TZOFFSETTO:+0100
TZNAME:CET
DTSTART:20251026T010000
END:STANDARD
BEGIN:DAYLIGHT
TZOFFSETFROM:+0100
TZOFFSETTO:+0200
TZNAME:CEST
DTSTART:20260329T010000
END:DAYLIGHT
BEGIN:STANDARD
TZOFFSETFROM:+0200
TZOFFSETTO:+0100
TZNAME:CET
DTSTART:20261025T010000
END:STANDARD
END:VTIMEZONE
BEGIN:VEVENT
DTSTART;TZID=Europe/Madrid:20250429T190000
DTEND;TZID=Europe/Madrid:20250429T210000
DTSTAMP:20260426T012945
CREATED:20240826T113127Z
LAST-MODIFIED:20241007T201212Z
UID:10001855-1745953200-1745960400@teatrometamorfosis.com
SUMMARY:Curso de actuación
DESCRIPTION:Algunos Items a ver en el curso – Expresión Corporal– Herramientas de interpretación (Cuerpo y Voz)– Improvisación– Juegos Teatrales– Creación de Personaje– Estructura Dramática– Conflicto– ⁠Actitudes Humanas Escribenos para apuntarte +34 604 92 87 50
URL:https://teatrometamorfosis.com/event/curso-de-actuacion/2025-04-29/
LOCATION:Teatro Metamofosis\, Carrer de Tapioles 12\, Bajo\, Barcelona\, Barcelona\, 08004\, Spain
ATTACH;FMTTYPE=image/jpeg:https://teatrometamorfosis.com/wp-content/uploads/2024/08/WhatsApp-Image-2024-08-24-at-7.48.20-AM.jpeg
END:VEVENT
BEGIN:VEVENT
DTSTART;TZID=Europe/Madrid:20250502T210000
DTEND;TZID=Europe/Madrid:20250502T220000
DTSTAMP:20260426T012945
CREATED:20250412T183038Z
LAST-MODIFIED:20250412T183038Z
UID:10002184-1746219600-1746223200@teatrometamorfosis.com
SUMMARY:pepe arias
DESCRIPTION:anticipadas aqui“Sueños De Viajes» \, de Pepe Arias\, es una experiencia sensorial única que sumerge a la audiencia en un universo donde el sonido y la imagen se entrelazan armoniosamente\, creando la sensación de estar soñando y recordando momentos de la vida en bucles continuos. Cada nota de violonchelo y cada imagen proyectada buscan transportar al espectador a un reino de sueños\, donde las emociones se entrelazan y se expresan de manera única. Las películas en blanco y negro no solo son una representación visual de nuestras experiencias\, sino también una ventana a la profundidad emocional de nuestra narrativa. Proyecto musical y visual que utiliza el violonchelo como herramienta fundamental\, respaldado por innovadoras máquinas de pedales de pie. Este conjunto de elementos musicales se fusiona con películas en blanco y negro que encapsulan nuestro viaje de vida. La música en creación incorpora motivos repetitivos\, arpegios de improvisación y líneas de bajo misteriosas\, abarcando diversos estilos musicales como pop\, rock\, música clásica\, electroacústica y folklore. Desde Bach y Ligeti hasta Victor Jara y Violeta Parra. Es un placer compartir la evolución de su expresión artística a través de «The Cello and the Bath»\, lo que la ha inspirado a desarrollar su proyecto más reciente y actual\, “Sueños De Viajes”.\n\n\nEntradas en boleteria el dia del evento 12 euros.
URL:https://teatrometamorfosis.com/event/pepe-arias-2/
ATTACH;FMTTYPE=image/jpeg:https://teatrometamorfosis.com/wp-content/uploads/2025/04/WhatsApp-Image-2025-04-09-at-14.12.47.jpeg
END:VEVENT
BEGIN:VEVENT
DTSTART;TZID=Europe/Madrid:20250503T210000
DTEND;TZID=Europe/Madrid:20250503T223000
DTSTAMP:20260426T012945
CREATED:20250330T205801Z
LAST-MODIFIED:20250330T205804Z
UID:10002179-1746306000-1746311400@teatrometamorfosis.com
SUMMARY:Svetlana\, el hilo del destino
DESCRIPTION:¡Pasen y vean! El carromato de Svetlana ha llegado a la ciudad\, cargado de luces\, misterio y un toque magia. . Entre cortinas de terciopelo y el brillo de las cartas del Tarot\, Svetlana\, está lista para recibir a todo tipo de curiosos.   ¿Eres de los que busca respuestas para el mañana? ¿Vienes a husmear en los secretos de tu pasado? ¿O serás de esos raros caminantes\, que desean escribir su propia historia? . Entre risas y preguntas profundas Svetlana cuestiona los hilos que guían nuestras vidas. ¿Estamos atrapados en un guion invisible o tenemos el poder de cambiar el curso? Una experiencia vibrante que combina teatro\, Tarot y magia.  ¿Te atreves a tirar del hilo?  Una creación de Eva Lu EVA LU : Creativa y polifacética \,apasionada por el arte ritual y la psicomagia\, combina sus conocimientos de  Tarot con los arquetipos universales y el inconsciente personal y colectivo. Siempre en búsca de un sentido profundo de la realidad \,sigue comprometida con un arte sanadora y transformadora\, donde el ser humano\, con su cuerpo y alma\, es la verdadera obra de arte
URL:https://teatrometamorfosis.com/event/svetlana-el-hilo-del-destino-2/2025-05-03/
ATTACH;FMTTYPE=image/jpeg:https://teatrometamorfosis.com/wp-content/uploads/2025/03/event_m_IMG-20250306-WA0005.jpg
END:VEVENT
END:VCALENDAR