BEGIN:VCALENDAR
VERSION:2.0
PRODID:-//Teatro Metamorfosis - ECPv6.15.20//NONSGML v1.0//EN
CALSCALE:GREGORIAN
METHOD:PUBLISH
X-ORIGINAL-URL:https://teatrometamorfosis.com
X-WR-CALDESC:Events for Teatro Metamorfosis
REFRESH-INTERVAL;VALUE=DURATION:PT1H
X-Robots-Tag:noindex
X-PUBLISHED-TTL:PT1H
BEGIN:VTIMEZONE
TZID:Europe/Madrid
BEGIN:DAYLIGHT
TZOFFSETFROM:+0100
TZOFFSETTO:+0200
TZNAME:CEST
DTSTART:20240331T010000
END:DAYLIGHT
BEGIN:STANDARD
TZOFFSETFROM:+0200
TZOFFSETTO:+0100
TZNAME:CET
DTSTART:20241027T010000
END:STANDARD
BEGIN:DAYLIGHT
TZOFFSETFROM:+0100
TZOFFSETTO:+0200
TZNAME:CEST
DTSTART:20250330T010000
END:DAYLIGHT
BEGIN:STANDARD
TZOFFSETFROM:+0200
TZOFFSETTO:+0100
TZNAME:CET
DTSTART:20251026T010000
END:STANDARD
BEGIN:DAYLIGHT
TZOFFSETFROM:+0100
TZOFFSETTO:+0200
TZNAME:CEST
DTSTART:20260329T010000
END:DAYLIGHT
BEGIN:STANDARD
TZOFFSETFROM:+0200
TZOFFSETTO:+0100
TZNAME:CET
DTSTART:20261025T010000
END:STANDARD
END:VTIMEZONE
BEGIN:VEVENT
DTSTART;TZID=Europe/Madrid:20250922T200000
DTEND;TZID=Europe/Madrid:20250922T230000
DTSTAMP:20260425T182341
CREATED:20250813T211405Z
LAST-MODIFIED:20250813T211751Z
UID:10002495-1758571200-1758582000@teatrometamorfosis.com
SUMMARY:Poble Sec jam session
DESCRIPTION:Nueva Jam Session de Jazz en Poble Sec\, abierta al Jazz y otros estilos musicales. Un espacio para la improvisación y la creatividad. \nInvitamos a participar a todos los músicos y amantes de la música en directo! \nA las 20:00 en Teatro Metamorfosis Carrer Tapioles 12\, Poble Sec \nEntrada general 5€ \nMúsicos: 3€ con consumición
URL:https://teatrometamorfosis.com/event/poble-sec-jam-session-3/2025-09-22/
ATTACH;FMTTYPE=image/jpeg:https://teatrometamorfosis.com/wp-content/uploads/2025/08/WhatsApp-Image-2025-08-13-at-17.18.59.jpeg
END:VEVENT
BEGIN:VEVENT
DTSTART;TZID=Europe/Madrid:20250923T160000
DTEND;TZID=Europe/Madrid:20250923T180000
DTSTAMP:20260425T182341
CREATED:20250915T112203Z
LAST-MODIFIED:20250915T112203Z
UID:10002874-1758643200-1758650400@teatrometamorfosis.com
SUMMARY:Taller teatro musical
DESCRIPTION:Vive el teatro musical desde adentro. ¿Te gusta cantar\, bailar o actuar? ¿O simplemente tienes ganas de probar algo nuevo? \nEste taller de teatro musical está pensado para todas las personas con o sin experiencia previa. Durante 15 jornadas vamos a trabajar interpretación\, canto y movimiento de forma integrada\, y lo mejor de todo\, culminaremos con una muestra abierta al público. \nLo que vas a encontrar: ejercicios de voz cuerpo y actuación en armonía\, un espacio creativo colectivo apra expresarte\, acompañamiento artístico y dirección escénica\, la oportunidad de subirte a escena y compartir lo creado. \nAnimate a vivir el teatro musical.
URL:https://teatrometamorfosis.com/event/taller-teatro-musical/2025-09-23/
ATTACH;FMTTYPE=image/jpeg:https://teatrometamorfosis.com/wp-content/uploads/2025/09/WhatsApp-Image-2025-09-13-at-15.16.27.jpeg
END:VEVENT
BEGIN:VEVENT
DTSTART;TZID=Europe/Madrid:20250923T190000
DTEND;TZID=Europe/Madrid:20250923T210000
DTSTAMP:20260425T182341
CREATED:20240826T113127Z
LAST-MODIFIED:20241007T201212Z
UID:10001876-1758654000-1758661200@teatrometamorfosis.com
SUMMARY:Curso de actuación
DESCRIPTION:Algunos Items a ver en el curso – Expresión Corporal– Herramientas de interpretación (Cuerpo y Voz)– Improvisación– Juegos Teatrales– Creación de Personaje– Estructura Dramática– Conflicto– ⁠Actitudes Humanas Escribenos para apuntarte +34 604 92 87 50
URL:https://teatrometamorfosis.com/event/curso-de-actuacion/2025-09-23/
LOCATION:Teatro Metamofosis\, Carrer de Tapioles 12\, Bajo\, Barcelona\, Barcelona\, 08004\, Spain
ATTACH;FMTTYPE=image/jpeg:https://teatrometamorfosis.com/wp-content/uploads/2024/08/WhatsApp-Image-2024-08-24-at-7.48.20-AM.jpeg
END:VEVENT
BEGIN:VEVENT
DTSTART;TZID=Europe/Madrid:20250925T190000
DTEND;TZID=Europe/Madrid:20250925T210000
DTSTAMP:20260425T182341
CREATED:20250813T204632Z
LAST-MODIFIED:20250813T204632Z
UID:10002487-1758826800-1758834000@teatrometamorfosis.com
SUMMARY:Smut Slam
DESCRIPTION:Smut Slam Barcelona\nwhere steamy and storytelling collide\n\nThis exciting storytelling open mic based on real life\, real lust\, real sex returns to town on Thursday\, Sept 25.  The theme for this SMUT SLAM is “HOT MESS.” Here you can share your gigantic messes\, major miscommunications\, and events that changed your life and possibly traffic patterns in a 30-mile radius. \nCreated and hosted by professional perv Cameryn Moore\, Smut Slam features real-life\, first-person sex stories from the audience\, a panel of local judges\, sexy prizes\, and readings from THE FUCKBUCKET (anonymous questions and confessions)! \nIMPORTANT: Smut Slam is queer-friendly\, kink- AND vanilla-friendly\, fat-friendly\, sex worker-friendly\, virgin-friendly\, polyamory-friendly\, and really just friendly! We welcome people with all types and amounts of sexual experiences. We DO NOT welcome stories involving racism\, sexism\, homophobia\, transphobia\, or any other kind of discrimination or nonconsensual objectification or fetishization. CONSENT IS KEY. \nThis event will be in English.
URL:https://teatrometamorfosis.com/event/smut-slam-9/
ATTACH;FMTTYPE=image/png:https://teatrometamorfosis.com/wp-content/uploads/2025/08/Barcelona-09.2025-2.png
END:VEVENT
BEGIN:VEVENT
DTSTART;TZID=Europe/Madrid:20250926T204000
DTEND;TZID=Europe/Madrid:20250926T220000
DTSTAMP:20260425T182341
CREATED:20250909T144112Z
LAST-MODIFIED:20250909T144112Z
UID:10002809-1758919200-1758924000@teatrometamorfosis.com
SUMMARY:Full Meow
DESCRIPTION:Full Meow los invita a pasar una noche entre amigos y música en Teatro Metamorfosis. Con un espectáculo que combina la música\, el performance y la comedia\, la banda tiene un repertorio de canciones originales en distintos idiomas\, géneros y estilos. No es sólo un concierto\, sino un show completo. Acompañando la noche\, nuestro querido amigo chileno\, ERRE MECE\, va a pinchar con un set diverso y bailable orientado a los ritmos urbanos. Come dance and let your demons out! \nLas puertas se abrirán 15 minutos antes del horario de función. \nLas opciones para la \nconsumición incluída en la entrada serán : cerveza\, vino\, cava\, vermut o refresco. \nLa barra estará abierta durante todo el evento \nLas entradas compradas con código de descuento NO incluyen bebidas
URL:https://teatrometamorfosis.com/event/full-meow/
ATTACH;FMTTYPE=image/jpeg:https://teatrometamorfosis.com/wp-content/uploads/2025/09/WhatsApp-Image-2025-09-08-at-12.50.44.jpeg
END:VEVENT
END:VCALENDAR