BEGIN:VCALENDAR
VERSION:2.0
PRODID:-//Teatro Metamorfosis - ECPv6.15.20//NONSGML v1.0//EN
CALSCALE:GREGORIAN
METHOD:PUBLISH
X-ORIGINAL-URL:https://teatrometamorfosis.com
X-WR-CALDESC:Events for Teatro Metamorfosis
REFRESH-INTERVAL;VALUE=DURATION:PT1H
X-Robots-Tag:noindex
X-PUBLISHED-TTL:PT1H
BEGIN:VTIMEZONE
TZID:Europe/Madrid
BEGIN:DAYLIGHT
TZOFFSETFROM:+0100
TZOFFSETTO:+0200
TZNAME:CEST
DTSTART:20240331T010000
END:DAYLIGHT
BEGIN:STANDARD
TZOFFSETFROM:+0200
TZOFFSETTO:+0100
TZNAME:CET
DTSTART:20241027T010000
END:STANDARD
BEGIN:DAYLIGHT
TZOFFSETFROM:+0100
TZOFFSETTO:+0200
TZNAME:CEST
DTSTART:20250330T010000
END:DAYLIGHT
BEGIN:STANDARD
TZOFFSETFROM:+0200
TZOFFSETTO:+0100
TZNAME:CET
DTSTART:20251026T010000
END:STANDARD
BEGIN:DAYLIGHT
TZOFFSETFROM:+0100
TZOFFSETTO:+0200
TZNAME:CEST
DTSTART:20260329T010000
END:DAYLIGHT
BEGIN:STANDARD
TZOFFSETFROM:+0200
TZOFFSETTO:+0100
TZNAME:CET
DTSTART:20261025T010000
END:STANDARD
END:VTIMEZONE
BEGIN:VEVENT
DTSTART;TZID=Europe/Madrid:20251006T200000
DTEND;TZID=Europe/Madrid:20251006T230000
DTSTAMP:20260425T182303
CREATED:20250813T211405Z
LAST-MODIFIED:20250813T211751Z
UID:10002497-1759780800-1759791600@teatrometamorfosis.com
SUMMARY:Poble Sec jam session
DESCRIPTION:Nueva Jam Session de Jazz en Poble Sec\, abierta al Jazz y otros estilos musicales. Un espacio para la improvisación y la creatividad. \nInvitamos a participar a todos los músicos y amantes de la música en directo! \nA las 20:00 en Teatro Metamorfosis Carrer Tapioles 12\, Poble Sec \nEntrada general 5€ \nMúsicos: 3€ con consumición
URL:https://teatrometamorfosis.com/event/poble-sec-jam-session-3/2025-10-06/
ATTACH;FMTTYPE=image/jpeg:https://teatrometamorfosis.com/wp-content/uploads/2025/08/WhatsApp-Image-2025-08-13-at-17.18.59.jpeg
END:VEVENT
BEGIN:VEVENT
DTSTART;TZID=Europe/Madrid:20251007T160000
DTEND;TZID=Europe/Madrid:20251007T180000
DTSTAMP:20260425T182303
CREATED:20250915T112203Z
LAST-MODIFIED:20250915T112203Z
UID:10002876-1759852800-1759860000@teatrometamorfosis.com
SUMMARY:Taller teatro musical
DESCRIPTION:Vive el teatro musical desde adentro. ¿Te gusta cantar\, bailar o actuar? ¿O simplemente tienes ganas de probar algo nuevo? \nEste taller de teatro musical está pensado para todas las personas con o sin experiencia previa. Durante 15 jornadas vamos a trabajar interpretación\, canto y movimiento de forma integrada\, y lo mejor de todo\, culminaremos con una muestra abierta al público. \nLo que vas a encontrar: ejercicios de voz cuerpo y actuación en armonía\, un espacio creativo colectivo apra expresarte\, acompañamiento artístico y dirección escénica\, la oportunidad de subirte a escena y compartir lo creado. \nAnimate a vivir el teatro musical.
URL:https://teatrometamorfosis.com/event/taller-teatro-musical/2025-10-07/
ATTACH;FMTTYPE=image/jpeg:https://teatrometamorfosis.com/wp-content/uploads/2025/09/WhatsApp-Image-2025-09-13-at-15.16.27.jpeg
END:VEVENT
BEGIN:VEVENT
DTSTART;TZID=Europe/Madrid:20251007T190000
DTEND;TZID=Europe/Madrid:20251007T210000
DTSTAMP:20260425T182304
CREATED:20240826T113127Z
LAST-MODIFIED:20241007T201212Z
UID:10001878-1759863600-1759870800@teatrometamorfosis.com
SUMMARY:Curso de actuación
DESCRIPTION:Algunos Items a ver en el curso – Expresión Corporal– Herramientas de interpretación (Cuerpo y Voz)– Improvisación– Juegos Teatrales– Creación de Personaje– Estructura Dramática– Conflicto– ⁠Actitudes Humanas Escribenos para apuntarte +34 604 92 87 50
URL:https://teatrometamorfosis.com/event/curso-de-actuacion/2025-10-07/
LOCATION:Teatro Metamofosis\, Carrer de Tapioles 12\, Bajo\, Barcelona\, Barcelona\, 08004\, Spain
ATTACH;FMTTYPE=image/jpeg:https://teatrometamorfosis.com/wp-content/uploads/2024/08/WhatsApp-Image-2024-08-24-at-7.48.20-AM.jpeg
END:VEVENT
BEGIN:VEVENT
DTSTART;TZID=Europe/Madrid:20251009T200000
DTEND;TZID=Europe/Madrid:20251009T220000
DTSTAMP:20260425T182304
CREATED:20250911T151005Z
LAST-MODIFIED:20250911T151005Z
UID:10002871-1760040000-1760047200@teatrometamorfosis.com
SUMMARY:Live Music & Silent Cinema: The Last Laugh (1924)
DESCRIPTION:Live Music & Silent Cinema: The Last Laugh (1924) \nSilent cinema gets its voice in a live music performance \nMurnau’s classic comes alive with a live score that blends the organic and the digital\, the intimate and the expansive. The movie The Last Laugh (Der letzte Mann) tells a story of a doorman (Emil Jannings)\, who is laid off by his luxurious hotel for his senior age. It provokes a series of unfortunate events as we follow the protagonist in his struggle for respect and justice \nNastya Prigoda (vocals)\, Mario Preciado (cello)\, tur21t (DJ\, electronics) \nOctober 9th\, 8 p.m. (doors open at 7.30) \nEl Teatro Metamorfosis – Carrer de Tapioles\, 12 \nDon’t miss this unique fusion of classic cinema and contemporary sound. A rollercoaster of emotions on a night where silent film finds a new voice \nMúsica en directo y cine mudo: El último (1924) \nEl cine mudo se expresa en directo \nEl clásico de Murnau cobra vida con una banda sonora en directo que fusiona lo orgánico y lo digital\, lo íntimo y lo expansivo. La película El último (Der letzte Mann) narra la historia de un portero (Emil Jannings) que es despedido de su lujoso hotel por su avanzada edad. La película desencadena una serie de desafortunados sucesos mientras seguimos al protagonista en su lucha por el respeto y la justicia. \nNastya Prigoda (voz)\, Mario Preciado (violonchelo)\, tur21t (DJ\, electrónica) \n9 de octubre\, 20:00 h (apertura de puertas a las 19:30 h) \nEl Teatro Metamorfosis – Carrer de Tapioles\, 12 \nNo te pierdas esta fusión única de cine clásico y sonido contemporáneo. Una montaña rusa de emociones en una noche donde el cine mudo encuentra una nueva voz
URL:https://teatrometamorfosis.com/event/live-music-silent-cinema-the-last-laugh-1924/
ATTACH;FMTTYPE=image/jpeg:https://teatrometamorfosis.com/wp-content/uploads/2025/09/WhatsApp-Image-2025-09-10-at-15.29.36.jpeg
END:VEVENT
BEGIN:VEVENT
DTSTART;TZID=Europe/Madrid:20251010T210000
DTEND;TZID=Europe/Madrid:20251010T230000
DTSTAMP:20260425T182304
CREATED:20250922T110709Z
LAST-MODIFIED:20250922T110709Z
UID:10002888-1760130000-1760137200@teatrometamorfosis.com
SUMMARY:Dragatha Christie - “Death at St. Fanny’s Convent.”
DESCRIPTION:Everyone is welcome at St. Fanny’s Convent… but beware: a murderer is lurking in the cloisters\, and soon one of the sisters will kick the habit! \nJoin Dragatha Christie as she investigates the case of “Death at St. Fanny’s Convent.” \nTeatro Metamorfosis \n10th October – 9:00 PM \n11th October – 8:00 PM \nTickets available via profile link. \nThis is a Spanglish show — a fabulous mix of English and Spanish — so get ready for laughs\, gasps\, and a dragtastic mystery no matter your language! \nDon’t miss this interactive murder mystery where YOU will be taken on a wild ride to uncover whodunnit! \n⸻ \nTodos son bienvenidos en el Convento de Santa Fanny… pero cuidado: un asesino acecha en los claustros y pronto una de las hermanas ¡abandonará el hábito para siempre! \nAcompaña a Dragatha Christie en la investigación de “Muerte en el Convento de Santa Fanny.” \nTeatro Metamorfosis \n10 de octubre – 21:00 h \n11 de octubre – 20:00 h \nEntradas disponibles en el enlace del perfil. \nEste será un espectáculo en Spanglish — una mezcla divertidísima de inglés y español — así que prepárate para carcajadas\, sobresaltos y un misterio dragtástico ¡para todos los públicos! \nNo te pierdas este misterio interactivo donde vivirás una aventura salvaje para descubrir quién lo hizo.
URL:https://teatrometamorfosis.com/event/dragatha-christie-death-at-st-fannys-convent/2025-10-10/
ATTACH;FMTTYPE=image/jpeg:https://teatrometamorfosis.com/wp-content/uploads/2025/09/IMG_7640.jpg
END:VEVENT
BEGIN:VEVENT
DTSTART;TZID=Europe/Madrid:20251011T160000
DTEND;TZID=Europe/Madrid:20251011T180000
DTSTAMP:20260425T182304
CREATED:20250910T103406Z
LAST-MODIFIED:20250910T103536Z
UID:10002814-1760198400-1760205600@teatrometamorfosis.com
SUMMARY:Taller Planeta Poesía
DESCRIPTION:¿qué hacen estos marcianos? \nEl lenguaje que usamos cada día es un lenguaje incompleto. Utilizando una metafora que es exactamente el hechizo más poderoso de la poesia\, se podría decir que el lenguaje que utilizamos el 95% del tiempo\, hablando con colegas de trabajo\, amigos\, parientes\, con nuestra suegra y suegro\, y sobretodo con nosotros mismos mismas\, es como una cinta métrica que exija medir la temperatura del aire… o un barómetro que quiera saber qué hora es…\nson instrumentos extrínsecos\, que están afuera de la realidad que quisieran conocer\, y por ello mismo son instrumentos limitados…\nLa poesia es un utensilio\, por sus calidades intrínsecas\, más apropiado para sondear nuestras profundidades… es un lenguaje más cercano a nuestro inconsciente a nuestra esencia emotiva a nuestro cuerpo…\nA través del compartir charlas\, debates\, lecturas de poemas y ensayos\, actos poéticos y ejercicios de escrituras individuales y colectivos\, el fin de este círculo poético (si tiene fin) es que nos acerquemos diez centímetros más (hacia abajo) a Miss Poesia… que mucho antes de ser un género literario\, es una forma de relacionarnos con el universo y con nosotras mismas y nosotros mismos…
URL:https://teatrometamorfosis.com/event/taller-planeta-poesia/2025-10-11/
ATTACH;FMTTYPE=image/jpeg:https://teatrometamorfosis.com/wp-content/uploads/2025/09/WhatsApp-Image-2025-09-09-at-12.05.05.jpeg
END:VEVENT
BEGIN:VEVENT
DTSTART;TZID=Europe/Madrid:20251011T200000
DTEND;TZID=Europe/Madrid:20251011T220000
DTSTAMP:20260425T182304
CREATED:20250922T110709Z
LAST-MODIFIED:20250922T110709Z
UID:10002889-1760212800-1760220000@teatrometamorfosis.com
SUMMARY:Dragatha Christie - “Death at St. Fanny’s Convent.”
DESCRIPTION:Everyone is welcome at St. Fanny’s Convent… but beware: a murderer is lurking in the cloisters\, and soon one of the sisters will kick the habit! \nJoin Dragatha Christie as she investigates the case of “Death at St. Fanny’s Convent.” \nTeatro Metamorfosis \n10th October – 9:00 PM \n11th October – 8:00 PM \nTickets available via profile link. \nThis is a Spanglish show — a fabulous mix of English and Spanish — so get ready for laughs\, gasps\, and a dragtastic mystery no matter your language! \nDon’t miss this interactive murder mystery where YOU will be taken on a wild ride to uncover whodunnit! \n⸻ \nTodos son bienvenidos en el Convento de Santa Fanny… pero cuidado: un asesino acecha en los claustros y pronto una de las hermanas ¡abandonará el hábito para siempre! \nAcompaña a Dragatha Christie en la investigación de “Muerte en el Convento de Santa Fanny.” \nTeatro Metamorfosis \n10 de octubre – 21:00 h \n11 de octubre – 20:00 h \nEntradas disponibles en el enlace del perfil. \nEste será un espectáculo en Spanglish — una mezcla divertidísima de inglés y español — así que prepárate para carcajadas\, sobresaltos y un misterio dragtástico ¡para todos los públicos! \nNo te pierdas este misterio interactivo donde vivirás una aventura salvaje para descubrir quién lo hizo.
URL:https://teatrometamorfosis.com/event/dragatha-christie-death-at-st-fannys-convent/2025-10-11/
ATTACH;FMTTYPE=image/jpeg:https://teatrometamorfosis.com/wp-content/uploads/2025/09/IMG_7640.jpg
END:VEVENT
BEGIN:VEVENT
DTSTART;TZID=Europe/Madrid:20251012T130000
DTEND;TZID=Europe/Madrid:20251012T140000
DTSTAMP:20260425T182304
CREATED:20250922T111719Z
LAST-MODIFIED:20250922T112733Z
UID:10002890-1760274000-1760277600@teatrometamorfosis.com
SUMMARY:Micro-Vermut
DESCRIPTION:Un evento\, cuatro mundos.\nOs sugerimos un viaje teatral: cuatro microobras de 15 minutos\, tan intensas como diferentes entre sí.\nEscritas por Thais Cambray y dirigidas por María Voronkova\, estas piezas te harán transitar de la risa a la emoción más profunda en cuestión de segundos.\nUn actor y tres actrices dan vida a un mosaico escénico que abarca géneros muy distintos:\n·Una tragicomedia que oscila entre lo absurdo y lo cotidiano.\n·Un drama que habla de salud mental.\n·Una comedia en clave de clown que desarma con humor físico y frescura.\n·Un retrato de naturalismo que te enfrentará a la vida misma.\nCada pieza tiene su propio pulso: de un personaje en soledad a la energía de cuatro en escena.\nPara la experiencia\, te proponemos disfrutar el espectáculo con un buen vermut: porque el teatro también se saborea.\nUna cita imprescindible para amantes de las emociones intensas\, los cambios de registro y las historias que se viven a flor de piel.
URL:https://teatrometamorfosis.com/event/microteatre-i-vermut/2025-10-12/
ATTACH;FMTTYPE=image/jpeg:https://teatrometamorfosis.com/wp-content/uploads/2025/09/WhatsApp-Image-2025-09-22-at-07.26.31.jpeg
END:VEVENT
BEGIN:VEVENT
DTSTART;TZID=Europe/Madrid:20251012T193000
DTEND;TZID=Europe/Madrid:20251012T210000
DTSTAMP:20260425T182304
CREATED:20250605T141645Z
LAST-MODIFIED:20260130T114021Z
UID:10002489-1760297400-1760302800@teatrometamorfosis.com
SUMMARY:Nenucha
DESCRIPTION:  \n\n\n\n\nTras la crisis económica argentina de 2001 Nenucha\, un ama de casa de Buenos Aires\, se exilia a Barcelona donde se asienta en el pintoresco barrio de l’Eixample junto a su único hijo\, Rodrigo.Transcurre el año 2005 y ya hace varios meses que Rodrigo ha viajado a Londres. Desde entonces\, su madre no hace más que esperarlo. Hermética en su soledad y casi sin contacto directo con él\, Nenucha recibe una noticia que agrava su amargura. En medio de su melodrama\, una ayuda no deseada y una confirmación muy temida la llevarán a abrir una carta\, desde hace tiempo\, cerrada. El desafío será cambiar la mirada y encontrar el camino hacia el verdadero retorno. \nRodrigo Garbarino \n(Autor y Director General) \nFIICHA TÉCNICA \nAutores: Rodrigo Garbarino\, Marcelo Andino\, Bettina Menegazzo. \nSobre textos originales de Rodrigo Garbarino. \nActúa: Rodrigo Garbarino. \nMaquillaje: Simona Mauggeri. \nFotografía y diseño gráfico: Martín Gonzalez Puig. \nMúsica original: Marcelo Andino. \nProducción general: Rodrigo Garbarino. \nAsistente de dirección: Julián Arenas \nDirección: Rodrigo Garbarino. \nLas opciones para la consumición incluída en la entrada serán : cerveza\, vino\, cava\, vermut o refresco. \nLa entrada comprada en puerta cuesta lo mismo pero SIN consumición \nLas entradas compradas con código de descuento NO incluyen bebidas
URL:https://teatrometamorfosis.com/event/nenucha/2025-10-12/
CATEGORIES:Improv
ATTACH;FMTTYPE=image/jpeg:https://teatrometamorfosis.com/wp-content/uploads/2025/06/WhatsApp-Image-2026-01-30-at-08.35.41.jpeg
END:VEVENT
END:VCALENDAR