BEGIN:VCALENDAR
VERSION:2.0
PRODID:-//Teatro Metamorfosis - ECPv6.15.20//NONSGML v1.0//EN
CALSCALE:GREGORIAN
METHOD:PUBLISH
X-ORIGINAL-URL:https://teatrometamorfosis.com
X-WR-CALDESC:Events for Teatro Metamorfosis
REFRESH-INTERVAL;VALUE=DURATION:PT1H
X-Robots-Tag:noindex
X-PUBLISHED-TTL:PT1H
BEGIN:VTIMEZONE
TZID:Europe/Madrid
BEGIN:DAYLIGHT
TZOFFSETFROM:+0100
TZOFFSETTO:+0200
TZNAME:CEST
DTSTART:20240331T010000
END:DAYLIGHT
BEGIN:STANDARD
TZOFFSETFROM:+0200
TZOFFSETTO:+0100
TZNAME:CET
DTSTART:20241027T010000
END:STANDARD
BEGIN:DAYLIGHT
TZOFFSETFROM:+0100
TZOFFSETTO:+0200
TZNAME:CEST
DTSTART:20250330T010000
END:DAYLIGHT
BEGIN:STANDARD
TZOFFSETFROM:+0200
TZOFFSETTO:+0100
TZNAME:CET
DTSTART:20251026T010000
END:STANDARD
BEGIN:DAYLIGHT
TZOFFSETFROM:+0100
TZOFFSETTO:+0200
TZNAME:CEST
DTSTART:20260329T010000
END:DAYLIGHT
BEGIN:STANDARD
TZOFFSETFROM:+0200
TZOFFSETTO:+0100
TZNAME:CET
DTSTART:20261025T010000
END:STANDARD
END:VTIMEZONE
BEGIN:VEVENT
DTSTART;TZID=Europe/Madrid:20251104T160000
DTEND;TZID=Europe/Madrid:20251104T180000
DTSTAMP:20260425T154004
CREATED:20250915T112203Z
LAST-MODIFIED:20250915T112203Z
UID:10002880-1762272000-1762279200@teatrometamorfosis.com
SUMMARY:Taller teatro musical
DESCRIPTION:Vive el teatro musical desde adentro. ¿Te gusta cantar\, bailar o actuar? ¿O simplemente tienes ganas de probar algo nuevo? \nEste taller de teatro musical está pensado para todas las personas con o sin experiencia previa. Durante 15 jornadas vamos a trabajar interpretación\, canto y movimiento de forma integrada\, y lo mejor de todo\, culminaremos con una muestra abierta al público. \nLo que vas a encontrar: ejercicios de voz cuerpo y actuación en armonía\, un espacio creativo colectivo apra expresarte\, acompañamiento artístico y dirección escénica\, la oportunidad de subirte a escena y compartir lo creado. \nAnimate a vivir el teatro musical.
URL:https://teatrometamorfosis.com/event/taller-teatro-musical/2025-11-04/
ATTACH;FMTTYPE=image/jpeg:https://teatrometamorfosis.com/wp-content/uploads/2025/09/WhatsApp-Image-2025-09-13-at-15.16.27.jpeg
END:VEVENT
BEGIN:VEVENT
DTSTART;TZID=Europe/Madrid:20251104T190000
DTEND;TZID=Europe/Madrid:20251104T210000
DTSTAMP:20260425T154004
CREATED:20240826T113127Z
LAST-MODIFIED:20241007T201212Z
UID:10001882-1762282800-1762290000@teatrometamorfosis.com
SUMMARY:Curso de actuación
DESCRIPTION:Algunos Items a ver en el curso – Expresión Corporal– Herramientas de interpretación (Cuerpo y Voz)– Improvisación– Juegos Teatrales– Creación de Personaje– Estructura Dramática– Conflicto– ⁠Actitudes Humanas Escribenos para apuntarte +34 604 92 87 50
URL:https://teatrometamorfosis.com/event/curso-de-actuacion/2025-11-04/
LOCATION:Teatro Metamofosis\, Carrer de Tapioles 12\, Bajo\, Barcelona\, Barcelona\, 08004\, Spain
ATTACH;FMTTYPE=image/jpeg:https://teatrometamorfosis.com/wp-content/uploads/2024/08/WhatsApp-Image-2024-08-24-at-7.48.20-AM.jpeg
END:VEVENT
BEGIN:VEVENT
DTSTART;TZID=Europe/Madrid:20251105T170000
DTEND;TZID=Europe/Madrid:20251109T170000
DTSTAMP:20260425T154004
CREATED:20251029T165036Z
LAST-MODIFIED:20251103T114401Z
UID:10002908-1762362000-1762707600@teatrometamorfosis.com
SUMMARY:Fringe Festival
DESCRIPTION:¡Vuelve el Barcelona Fringe Festival!*\nTeatro Metamorfosis ha seleccionado unos shows increíbles para nuestro querido público. Este año: comedia\, teatro\, circo y poesía en catalán\, castellano e inglés 🌟\nIMPORTANTE: Reserva ya tu entrada. No hay venta en taquilla. Incluso los shows PWYW (Paga lo que Quieras) necesitan reserva previa. \nThe Barcelona Fringe Festival is back !*\nTeatro Metamorfosis has selected amazing shows for our beloved audience. This year: comedy\, theatre\, circus and spoken word in English\, Spanish and Catalan 🌟\nIMPORTANT: Book your tickets now. No tickets at the door. Even PWYW shows require advance booking.
URL:https://teatrometamorfosis.com/event/fringe-festival/
ATTACH;FMTTYPE=image/jpeg:https://teatrometamorfosis.com/wp-content/uploads/2025/10/2ae70f24-41aa-4777-9341-2b6f31afaf8f.jpg
END:VEVENT
BEGIN:VEVENT
DTSTART;TZID=Europe/Madrid:20251106T200000
DTEND;TZID=Europe/Madrid:20251106T210000
DTSTAMP:20260425T154004
CREATED:20251017T155113Z
LAST-MODIFIED:20251017T155113Z
UID:10002899-1762459200-1762462800@teatrometamorfosis.com
SUMMARY:Música en vivo y cine mudo: El hombre de la cámara (1929)
DESCRIPTION:Música en vivo y cine mudo: El hombre de la cámara (1929) \nPelícula vanguardista de Dziga Vertov\, acompañada de música en vivo de Tur y amigos. Hace un siglo\, este documental sobre la vida en una gran ciudad\, al ritmo de las máquinas y las fábricas\, no fue aceptado por los directores soviéticos contemporáneos de Vertov\, que evitaban el formalismo. Hoy en día\, el metraje de exposición múltiple\, que conecta Kiev\, Odesa\, Járkov y Moscú a través del objetivo de Mijaíl Kaufman\, se considera un clásico del cine. \n6 de noviembre\, 20:00 h (apertura de puertas a las 19:30 h) \nEl Teatro Metamorfosis – Carrer de Tapioles\, 12 \nNo te pierdas esta fusión única de cine clásico y sonido contemporáneo. La película no tiene diálogos ni intertítulos. \nLive Music & Silent Cinema: Man with a Movie Camera (1929) \nDziga Vertov’s avant-garde film accompanied by live music from tur and friends. A century ago\, this documentary about life in a big city\, dancing to the rhythm of machines and factories\, was not accepted by Vertov’s contemporaries\, Soviet directors who avoided formalism. Nowadays the multiple-exposure footage\, connecting Kyiv\, Odesa\, Kharkiv\, and Moscow through the lens of Mikhail Kaufman\, is considered a cinema classic \nNovember 6th\, 8 p.m. (doors open at 7.30) \nEl Teatro Metamorfosis – Carrer de Tapioles\, 12 \nDon’t miss this unique fusion of classic cinema and contemporary sound. There are no dialogues or intertitle in the movie
URL:https://teatrometamorfosis.com/event/musica-en-vivo-y-cine-mudo-el-hombre-de-la-camara-1929/
ATTACH;FMTTYPE=image/jpeg:https://teatrometamorfosis.com/wp-content/uploads/2025/10/WhatsApp-Image-2025-10-17-at-09.58.48.jpeg
END:VEVENT
BEGIN:VEVENT
DTSTART;TZID=Europe/Madrid:20251108T150000
DTEND;TZID=Europe/Madrid:20251108T170000
DTSTAMP:20260425T154004
CREATED:20250707T203208Z
LAST-MODIFIED:20251020T181036Z
UID:10002480-1762614000-1762621200@teatrometamorfosis.com
SUMMARY:Piñon Fijo
DESCRIPTION:El artista infantil más emblemático de Argentina \n36 años de trayectoria • +5.000 funciones • Premios Martín Fierro y Gardel • UNICEF • Película en cines \n“Un personaje que nació en una plaza\, llegó a la televisión\, cruzó fronteras… y hoy sigue emocionando generaciones.” \nPiñón Fijo es un artista argentino que desde hace más de tres décadas acompaña a la infancia con alegría\,canciones propias y humor blanco. Es mimo\, es clown\, es trovador y\, sobre todo\, un recreador que nunca dejó de jugar \nMiles de personas crecieron con Piñón Fijo. Hoy\,adultos\,lo reviven con sus hijos. \nEntradas en boletería el día del evento 30 euros.
URL:https://teatrometamorfosis.com/event/pinon-fijo/
ATTACH;FMTTYPE=image/jpeg:https://teatrometamorfosis.com/wp-content/uploads/2025/07/WhatsApp-Image-2025-07-03-at-11.08.20.jpeg
END:VEVENT
BEGIN:VEVENT
DTSTART;TZID=Europe/Madrid:20251108T190000
DTEND;TZID=Europe/Madrid:20251108T200000
DTSTAMP:20260425T154004
CREATED:20251014T152321Z
LAST-MODIFIED:20251014T152321Z
UID:10002897-1762628400-1762632000@teatrometamorfosis.com
SUMMARY:Dragatha Christie y el Envenenamiento en la Oficina
DESCRIPTION:Work Can Be MURDER! \nIt’s the annual Gala Event at “Slay”\, the biggest record company in the world — but not everyone in the office is celebrating. \nIn fact\, someone has murder on their mind and is ready to kill anyone who gets in their way! \n💀 Six suspects. Six weapons. Six motives. \nCan you help Dragatha Christie uncover the killer? \n🎭 Dragatha Christie & the Office Poisoning \n🗓️ 8th November \n🕖 19:00 & 21:30 \n📍 Teatro Metamorfosis \n⸻ \n¡Trabajar puede ser un ASESINATO! \nEs la gala anual de “Slay”\, la discográfica más grande del mundo… pero no todos en la oficina están de celebración. \nDe hecho\, alguien tiene el asesinato en mente y está dispuesto a eliminar a quien se cruce en su camino. \n💀 Seis sospechosos. Seis armas. Seis motivos. \n¿Podrás ayudar a Dragatha Christie a descubrir al culpable? \n🎭 Dragatha Christie y el Envenenamiento en la Oficina \n🗓️ 8 de noviembre \n🕖 19:00 y 21:30 \n📍 Teatro Metamorfosis \nEste será un espectáculo en Spanglish — una mezcla divertidísima de inglés y español —
URL:https://teatrometamorfosis.com/event/dragatha-christie-y-el-envenenamiento-en-la-oficina/2025-11-08/1/
ATTACH;FMTTYPE=image/jpeg:https://teatrometamorfosis.com/wp-content/uploads/2025/10/WhatsApp-Image-2025-10-13-at-10.03.39.jpeg
END:VEVENT
BEGIN:VEVENT
DTSTART;TZID=Europe/Madrid:20251108T213000
DTEND;TZID=Europe/Madrid:20251108T230000
DTSTAMP:20260425T154004
CREATED:20251014T152321Z
LAST-MODIFIED:20251014T152321Z
UID:10002898-1762637400-1762642800@teatrometamorfosis.com
SUMMARY:Dragatha Christie y el Envenenamiento en la Oficina
DESCRIPTION:Work Can Be MURDER! \nIt’s the annual Gala Event at “Slay”\, the biggest record company in the world — but not everyone in the office is celebrating. \nIn fact\, someone has murder on their mind and is ready to kill anyone who gets in their way! \n💀 Six suspects. Six weapons. Six motives. \nCan you help Dragatha Christie uncover the killer? \n🎭 Dragatha Christie & the Office Poisoning \n🗓️ 8th November \n🕖 19:00 & 21:30 \n📍 Teatro Metamorfosis \n⸻ \n¡Trabajar puede ser un ASESINATO! \nEs la gala anual de “Slay”\, la discográfica más grande del mundo… pero no todos en la oficina están de celebración. \nDe hecho\, alguien tiene el asesinato en mente y está dispuesto a eliminar a quien se cruce en su camino. \n💀 Seis sospechosos. Seis armas. Seis motivos. \n¿Podrás ayudar a Dragatha Christie a descubrir al culpable? \n🎭 Dragatha Christie y el Envenenamiento en la Oficina \n🗓️ 8 de noviembre \n🕖 19:00 y 21:30 \n📍 Teatro Metamorfosis \nEste será un espectáculo en Spanglish — una mezcla divertidísima de inglés y español —
URL:https://teatrometamorfosis.com/event/dragatha-christie-y-el-envenenamiento-en-la-oficina/2025-11-08/2/
ATTACH;FMTTYPE=image/jpeg:https://teatrometamorfosis.com/wp-content/uploads/2025/10/WhatsApp-Image-2025-10-13-at-10.03.39.jpeg
END:VEVENT
END:VCALENDAR