BEGIN:VCALENDAR
VERSION:2.0
PRODID:-//Teatro Metamorfosis - ECPv6.15.20//NONSGML v1.0//EN
CALSCALE:GREGORIAN
METHOD:PUBLISH
X-WR-CALNAME:Teatro Metamorfosis
X-ORIGINAL-URL:https://teatrometamorfosis.com
X-WR-CALDESC:Events for Teatro Metamorfosis
REFRESH-INTERVAL;VALUE=DURATION:PT1H
X-Robots-Tag:noindex
X-PUBLISHED-TTL:PT1H
BEGIN:VTIMEZONE
TZID:Europe/Madrid
BEGIN:DAYLIGHT
TZOFFSETFROM:+0100
TZOFFSETTO:+0200
TZNAME:CEST
DTSTART:20240331T010000
END:DAYLIGHT
BEGIN:STANDARD
TZOFFSETFROM:+0200
TZOFFSETTO:+0100
TZNAME:CET
DTSTART:20241027T010000
END:STANDARD
BEGIN:DAYLIGHT
TZOFFSETFROM:+0100
TZOFFSETTO:+0200
TZNAME:CEST
DTSTART:20250330T010000
END:DAYLIGHT
BEGIN:STANDARD
TZOFFSETFROM:+0200
TZOFFSETTO:+0100
TZNAME:CET
DTSTART:20251026T010000
END:STANDARD
BEGIN:DAYLIGHT
TZOFFSETFROM:+0100
TZOFFSETTO:+0200
TZNAME:CEST
DTSTART:20260329T010000
END:DAYLIGHT
BEGIN:STANDARD
TZOFFSETFROM:+0200
TZOFFSETTO:+0100
TZNAME:CET
DTSTART:20261025T010000
END:STANDARD
END:VTIMEZONE
BEGIN:VEVENT
DTSTART;TZID=Europe/Madrid:20251117T190000
DTEND;TZID=Europe/Madrid:20251117T200000
DTSTAMP:20260425T141648
CREATED:20251112T213456Z
LAST-MODIFIED:20251112T213512Z
UID:10002911-1763406000-1763409600@teatrometamorfosis.com
SUMMARY:YAMILE BURICH & Ornella Contreras
DESCRIPTION:La saxofonista y compositora argentina Yamile Burich\, una de las figuras más destacadas del jazz contemporáneo\, presenta su nuevo proyecto en formato dúo junto a la pianista Ornella Contreras. \nEn esta propuesta\, ambas artistas exploran los puentes entre el jazz\, el tango y el folclore argentino\, combinando composiciones originales con versiones del cancionero nacional en un encuentro íntimo y poderoso. \nCon diez discos editados\, dos nominaciones a los Premios Gardel y el reconocimiento de la Fundación Konex 2025 como Personalidad Destacada del Jazz\, Yamile Burich reafirma su lugar como una de las artistas más influyentes de la música argentina actual. \nDurante el concierto\, el público podrá además adquirir el vinilo Agosto de Yamile Burich\, con un descuento especial. \nLas entradas habilitan la permanencia a la Poble Sec Jam Session a realizarse a continuación del concierto. \nLas puertas se abrirán a las 18:45 h \nLa barra estará abierta durante todo el evento. \nLas opciones para la consumición incluida en la entrada serán: cerveza\, vino\, cava\, vermut o refresco. \nLas entradas con tarifa de PRE-VENTA NO incluyen bebidas
URL:https://teatrometamorfosis.com/event/yamile-burich-ornella-contreras/
ATTACH;FMTTYPE=image/jpeg:https://teatrometamorfosis.com/wp-content/uploads/2025/11/WhatsApp-Image-2025-11-10-at-08.49.38-1.jpeg
END:VEVENT
BEGIN:VEVENT
DTSTART;TZID=Europe/Madrid:20251118T160000
DTEND;TZID=Europe/Madrid:20251118T180000
DTSTAMP:20260425T141648
CREATED:20250915T112203Z
LAST-MODIFIED:20250915T112203Z
UID:10002882-1763481600-1763488800@teatrometamorfosis.com
SUMMARY:Taller teatro musical
DESCRIPTION:Vive el teatro musical desde adentro. ¿Te gusta cantar\, bailar o actuar? ¿O simplemente tienes ganas de probar algo nuevo? \nEste taller de teatro musical está pensado para todas las personas con o sin experiencia previa. Durante 15 jornadas vamos a trabajar interpretación\, canto y movimiento de forma integrada\, y lo mejor de todo\, culminaremos con una muestra abierta al público. \nLo que vas a encontrar: ejercicios de voz cuerpo y actuación en armonía\, un espacio creativo colectivo apra expresarte\, acompañamiento artístico y dirección escénica\, la oportunidad de subirte a escena y compartir lo creado. \nAnimate a vivir el teatro musical.
URL:https://teatrometamorfosis.com/event/taller-teatro-musical/2025-11-18/
ATTACH;FMTTYPE=image/jpeg:https://teatrometamorfosis.com/wp-content/uploads/2025/09/WhatsApp-Image-2025-09-13-at-15.16.27.jpeg
END:VEVENT
BEGIN:VEVENT
DTSTART;TZID=Europe/Madrid:20251118T190000
DTEND;TZID=Europe/Madrid:20251118T210000
DTSTAMP:20260425T141648
CREATED:20240826T113127Z
LAST-MODIFIED:20241007T201212Z
UID:10001884-1763492400-1763499600@teatrometamorfosis.com
SUMMARY:Curso de actuación
DESCRIPTION:Algunos Items a ver en el curso – Expresión Corporal– Herramientas de interpretación (Cuerpo y Voz)– Improvisación– Juegos Teatrales– Creación de Personaje– Estructura Dramática– Conflicto– ⁠Actitudes Humanas Escribenos para apuntarte +34 604 92 87 50
URL:https://teatrometamorfosis.com/event/curso-de-actuacion/2025-11-18/
LOCATION:Teatro Metamofosis\, Carrer de Tapioles 12\, Bajo\, Barcelona\, Barcelona\, 08004\, Spain
ATTACH;FMTTYPE=image/jpeg:https://teatrometamorfosis.com/wp-content/uploads/2024/08/WhatsApp-Image-2024-08-24-at-7.48.20-AM.jpeg
END:VEVENT
BEGIN:VEVENT
DTSTART;TZID=Europe/Madrid:20251119T200000
DTEND;TZID=Europe/Madrid:20251119T220000
DTSTAMP:20260425T141648
CREATED:20251027T120527Z
LAST-MODIFIED:20251031T094420Z
UID:10002906-1763582400-1763589600@teatrometamorfosis.com
SUMMARY:“Hablemos de Chuches”
DESCRIPTION:Parlem de Chuches \nQuè passa quan el plaer es barreja amb una miqueta de risc (i unes quantes chuches de\nmés)?\n“Parlem de Chuches” és una acció comunitària de BCN Checkpoint: una trobada\níntima\, honest i amb molt glitter per a parlar del chemsex\, el sexe\, les drogues i tot el que\npassa entre mig. Els plaers\, les pors\, els riures i les veritats que no sempre s’expliquen.\nAmb la guia brillant d’Estrella Xtravaganza i l’acompanyament de l’equip de BCN\nCheckpoint\, obrim un espai d’informació\, sense udicis\, escoltar sense por i celebrar\namb consciència. \nEntrades:\nVolem que totes les persones puguin participar\, per això oferim diferents opcions segons\nles teves possibilitats recolzar el projecte segons vulguis:\n– Entrada Gratuïta\nPerquè ningú es quedi fora. La informació i la cura són drets\, no privilegis\, així\nque aquesta entrada garanteix que el show sigui accessible per a totis.\n– Entrada Solidària (7\,5 €)\nPer als qui poden contribuir amb una quantitat simbòlica que ajuda a cobrir els\ncostos bàsics del show. Cada entrada solidària manté viva la possibilitat de\ncontinuar creant espais segurs i educatius.\n– Entrada Aliadx (12 €)\nAmb una petita diferència\, el teu suport impulsa noves activitats\, tallers i accions\ncomunitàries. És una manera de multiplicar l’esperit d’aquesta trobada i fer-lo\ncréixer. \nPerquè parlar també és una manera de cuidar-nos.\nVine\, comparteix\, riu i reflexiona: sigues part d’una cosa important. \n______________________________________________________________________\nHablemos de Chuches \n¿Qué pasa cuando el placer se mezcla con un poquito de riesgo (y unas cuantas chuches\nde más)?\n“Hablemos de Chuches” es una acción comunitaria de BCN Checkpoint: un encuentro\níntimo\, honesto y con mucho glitter para hablar del chemsex\, el sexo\, las drogas y todo\nlo que sucede entre medio. Los placeres\, los miedos\, las risas y las verdades que no\nsiempre se cuentan. \nCon la guía brillante de Estrella Xtravaganza y el acompañamiento del equipo de BCN\nCheckpoint\, abrimos un espacio para informar sin juzgar\, escuchar sin miedo y\ncelebrar con conciencia. \nEntradas:\nQueremos que todas las personas puedan participar\, por eso ofrecemos distintas opciones\nsegún tus posibilidades y cómo quieras apoyar el proyecto:\n– Entrada Gratuita\nPara que nadie se quede fuera. La información y el cuidado son derechos\, no\nprivilegios\, así que esta entrada garantiza que el evento sea accesible para todes.\n– Entrada Solidaria (7\,5 €)\nPara quienes pueden contribuir con una cantidad simbólica que ayuda a cubrir\nlos costes básicos del evento. Cada entrada solidaria mantiene viva la\nposibilidad de seguir creando espacios seguros y educativos.\n– Entrada Aliadx (12 €)\nCon una pequeña diferencia\, tu apoyo impulsa nuevas actividades\, talleres y\nacciones comunitarias. Es una forma de multiplicar el espíritu de este encuentro\ny hacerlo crecer. \nPorque hablar también es una forma de cuidarnos.\nVen\, comparte\, ríe y reflexiona: sé parte de algo importante.
URL:https://teatrometamorfosis.com/event/hablemos-de-chuches/
ATTACH;FMTTYPE=image/jpeg:https://teatrometamorfosis.com/wp-content/uploads/2025/10/WhatsApp-Image-2025-10-26-at-20.14.00.jpeg
END:VEVENT
BEGIN:VEVENT
DTSTART;TZID=Europe/Madrid:20251123T210000
DTEND;TZID=Europe/Madrid:20251123T230000
DTSTAMP:20260425T141648
CREATED:20251027T123915Z
LAST-MODIFIED:20251027T123915Z
UID:10002907-1763931600-1763938800@teatrometamorfosis.com
SUMMARY:waw!
DESCRIPTION:Bienvenidos a WAW — el show donde todo pasa aquí y ahora. \nDos actores\, mil emociones\, música\, parodias\, juego con el público… y ni un segundo de calma. \nNo es teatro\, es pura chispa\, un caos delicioso donde el humor\, la improvisación y el deseo se mezclan sin pedir permiso. \nWAW es como una copa de cava que estalla en mitad del público: risas\, sorpresas y ese momento mágico en que todo puede pasar. \nAquí nadie se queda quieto — todos entran en el juego\, porque la noche vibra y la energía es contagiosa. \nWAW — tres letras\, una reacción: ¡guau! \nLas 10 primeras entradas Early Bird a 10€
URL:https://teatrometamorfosis.com/event/waw/
ATTACH;FMTTYPE=image/jpeg:https://teatrometamorfosis.com/wp-content/uploads/2025/10/WhatsApp-Image-2025-10-27-at-08.35.02.jpeg
END:VEVENT
END:VCALENDAR