BEGIN:VCALENDAR
VERSION:2.0
PRODID:-//Teatro Metamorfosis - ECPv6.15.20//NONSGML v1.0//EN
CALSCALE:GREGORIAN
METHOD:PUBLISH
X-ORIGINAL-URL:https://teatrometamorfosis.com
X-WR-CALDESC:Events for Teatro Metamorfosis
REFRESH-INTERVAL;VALUE=DURATION:PT1H
X-Robots-Tag:noindex
X-PUBLISHED-TTL:PT1H
BEGIN:VTIMEZONE
TZID:Europe/Madrid
BEGIN:DAYLIGHT
TZOFFSETFROM:+0100
TZOFFSETTO:+0200
TZNAME:CEST
DTSTART:20240331T010000
END:DAYLIGHT
BEGIN:STANDARD
TZOFFSETFROM:+0200
TZOFFSETTO:+0100
TZNAME:CET
DTSTART:20241027T010000
END:STANDARD
BEGIN:DAYLIGHT
TZOFFSETFROM:+0100
TZOFFSETTO:+0200
TZNAME:CEST
DTSTART:20250330T010000
END:DAYLIGHT
BEGIN:STANDARD
TZOFFSETFROM:+0200
TZOFFSETTO:+0100
TZNAME:CET
DTSTART:20251026T010000
END:STANDARD
BEGIN:DAYLIGHT
TZOFFSETFROM:+0100
TZOFFSETTO:+0200
TZNAME:CEST
DTSTART:20260329T010000
END:DAYLIGHT
BEGIN:STANDARD
TZOFFSETFROM:+0200
TZOFFSETTO:+0100
TZNAME:CET
DTSTART:20261025T010000
END:STANDARD
END:VTIMEZONE
BEGIN:VEVENT
DTSTART;TZID=Europe/Madrid:20251202T160000
DTEND;TZID=Europe/Madrid:20251202T180000
DTSTAMP:20260425T124602
CREATED:20250915T112203Z
LAST-MODIFIED:20250915T112203Z
UID:10002884-1764691200-1764698400@teatrometamorfosis.com
SUMMARY:Taller teatro musical
DESCRIPTION:Vive el teatro musical desde adentro. ¿Te gusta cantar\, bailar o actuar? ¿O simplemente tienes ganas de probar algo nuevo? \nEste taller de teatro musical está pensado para todas las personas con o sin experiencia previa. Durante 15 jornadas vamos a trabajar interpretación\, canto y movimiento de forma integrada\, y lo mejor de todo\, culminaremos con una muestra abierta al público. \nLo que vas a encontrar: ejercicios de voz cuerpo y actuación en armonía\, un espacio creativo colectivo apra expresarte\, acompañamiento artístico y dirección escénica\, la oportunidad de subirte a escena y compartir lo creado. \nAnimate a vivir el teatro musical.
URL:https://teatrometamorfosis.com/event/taller-teatro-musical/2025-12-02/
ATTACH;FMTTYPE=image/jpeg:https://teatrometamorfosis.com/wp-content/uploads/2025/09/WhatsApp-Image-2025-09-13-at-15.16.27.jpeg
END:VEVENT
BEGIN:VEVENT
DTSTART;TZID=Europe/Madrid:20251202T190000
DTEND;TZID=Europe/Madrid:20251202T210000
DTSTAMP:20260425T124602
CREATED:20240826T113127Z
LAST-MODIFIED:20241007T201212Z
UID:10001886-1764702000-1764709200@teatrometamorfosis.com
SUMMARY:Curso de actuación
DESCRIPTION:Algunos Items a ver en el curso – Expresión Corporal– Herramientas de interpretación (Cuerpo y Voz)– Improvisación– Juegos Teatrales– Creación de Personaje– Estructura Dramática– Conflicto– ⁠Actitudes Humanas Escribenos para apuntarte +34 604 92 87 50
URL:https://teatrometamorfosis.com/event/curso-de-actuacion/2025-12-02/
LOCATION:Teatro Metamofosis\, Carrer de Tapioles 12\, Bajo\, Barcelona\, Barcelona\, 08004\, Spain
ATTACH;FMTTYPE=image/jpeg:https://teatrometamorfosis.com/wp-content/uploads/2024/08/WhatsApp-Image-2024-08-24-at-7.48.20-AM.jpeg
END:VEVENT
BEGIN:VEVENT
DTSTART;TZID=Europe/Madrid:20251203T190000
DTEND;TZID=Europe/Madrid:20251203T200000
DTSTAMP:20260425T124602
CREATED:20251117T171004Z
LAST-MODIFIED:20251117T171018Z
UID:10002914-1764788400-1764792000@teatrometamorfosis.com
SUMMARY:Francesc Miralles & Ferran Cases son DOS TIPOS FELICES
DESCRIPTION:Francesc Miralles & Ferran Cases son \nDOS TIPOS FELICES \nUn cabaret filosófico lleno de sorpresas de la mano de Francesc Miralles & Ferran Cases\, dos expertos en desarrollo personal que en cada sesión abordarán un tema distinto con amor y humor\, aderezado con revelaciones personales\, anécdotas\, música\, canciones\, recomendaciones literarias\, así como consultas del público en directo. Una velada mágica para recargar las pilas de la esperanza y la creatividad. \nEn este primer espectáculo\, que tiene el propósito de ser mensual\, el tema será «los greatest hits de la felicidad». \nFRANCESC MIRALLES es un referente internacional del desarrollo personal. Sus libros se publican en todo el mundo\, recomendados por figuras como Oprah Winfrey\, Chris Evans o Marie Kondo. Sus inicios artísticos fueron en el teatro. \nFERRAN CASES es el autor más exitoso en lengua castellana sobre temas relacionados con la ansiedad. Sus libros han sido traducidos a más de 20 idiomas\, y lleva años trabajando estos contenidos sanadores a través de la Stand Up Comedy. \nPrecio de las entradas \nEARLY BIRD (primeras 15): 15€ \nENTRADA NORMAL: 18€ \nENTRADA EN TAQUILLA (mismo \ndía): 20€ \nLas puertas se abrirán a las 18:45 hs \nLa barra de bebidas estará abierta durante todo el evento.
URL:https://teatrometamorfosis.com/event/francesc-miralles-ferran-cases-son-dos-tipos-felices-2/
ATTACH;FMTTYPE=image/jpeg:https://teatrometamorfosis.com/wp-content/uploads/2025/11/WhatsApp-Image-2025-11-17-at-13.54.59.jpeg
END:VEVENT
BEGIN:VEVENT
DTSTART;TZID=Europe/Madrid:20251204T200000
DTEND;TZID=Europe/Madrid:20251204T200000
DTSTAMP:20260425T124602
CREATED:20251112T215435Z
LAST-MODIFIED:20251112T215457Z
UID:10002912-1764878400-1764878400@teatrometamorfosis.com
SUMMARY:Live Music & Silent Cinema: The Freshman (1925)
DESCRIPTION:Harold Lloyd starring in a beloved comedy about a naive college boy desperate to fit in. His clumsy attempts to become a football hero make him both the campus joke and its unexpected star. A lighthearted satire of 1920s college life\, full of charm\, slapstick\, and heart. \nJason Patrick Owens (saxophone)\, and tur21t (DJ\, electric guitar) craft an immersive sonic landscape of live accompaniment for a joyful blend of humor\, rhythm\, and vintage Americana. \nDecember 4th\, 8 p.m. (doors open at 7.30) \nEl Teatro Metamorfosis – Carrer de Tapioles\, 12 \nMúsica en vivo y cine mudo: El Novato (1925) \nHarold Lloyd protagoniza esta entrañable comedia sobre un joven universitario ingenuo que anhela integrarse. Sus torpes intentos por convertirse en un héroe del fútbol americano lo convierten tanto en el hazmerreír del campus como en su estrella inesperada. Una sátira desenfadada de la vida universitaria de los años 20\, llena de encanto\, humor físico y emotividad. \nJason Patrick Owens (saxofón) y tur21t (DJ\, guitarra eléctrica) crean un paisaje sonoro envolvente con acompañamiento en vivo para una alegre fusión de humor\, ritmo y la estética americana clásica. \n4 de diciembre\, 20:00 h (apertura de puertas a las 19:30 h) \nEl Teatro Metamorfosis – Carrer de Tapioles\, 12
URL:https://teatrometamorfosis.com/event/live-music-silent-cinema-the-freshman-1925/
ATTACH;FMTTYPE=image/png:https://teatrometamorfosis.com/wp-content/uploads/2025/11/The-Freshman-1925-Ig.png
END:VEVENT
BEGIN:VEVENT
DTSTART;TZID=Europe/Madrid:20251205T210000
DTEND;TZID=Europe/Madrid:20251205T220000
DTSTAMP:20260425T124602
CREATED:20250909T143444Z
LAST-MODIFIED:20250909T150039Z
UID:10002811-1764968400-1764972000@teatrometamorfosis.com
SUMMARY:Cuando el tiempo canta
DESCRIPTION:CUANDO EL TIEMPO CANTA \nUn Café Concierto escrito por Carolina Román para Mónica Pelay \n¿Cuánto tiempo nos queda si no lo habitamos? \nEntre lo que fue y lo que aún no es\, Cuando el Tiempo Canta nos invita a un viaje escénico por las distintas formas de habitar —o desperdiciar— nuestra existencia. \nCon humor sutil\, poesía y música en vivo\, la obra explora cuatro dimensiones del tiempo: \nEl olvidado\, ese que dejamos escapar sin darnos cuenta; \nEl atrapado en la memoria\, que a veces duele\, a veces ilumina; \nEl que se escapa\, ese que corre más rápido que nosotros; \nEl tiempo consciente\, donde todo finalmente se aquieta y revela su sentido. \nEn escena\, Mónica Pelay transita estos paisajes temporales a través de diálogos íntimos\, silencios que dicen\, y canciones que no interrumpen\, sino que respiran con el texto. Acompañada por el músico y guitarrista Martín Piragino. \nLa propuesta\, escrita especialmente por la reconocida dramaturga Carolina Román (IG: @carolinanamor)\, es una invitación a recordar que no somos víctimas del tiempo\, sino artesanos de cómo lo vivimos. \n  \nFunción \nsábado 4 de octubre a las 21:00 \nTeatro Metamorfosis – Carrer de Tapioles 12\, Poble Sec\, Barcelona \n  \nFicha técnica \n● Concierto narrativo escrito por: Carolina Román IG: @carolinanamor / www.carolinaroman.es \n● Idea Original: Monica Pelay https://linktr.ee/monicapelay \n● Guitarra: Martín Piragino IG: @martinpiragino \n● Colaboración en dirección: Joaquín Daniel \n● Visual Art: Analía Das Vinhas / https://linktr.ee/analiadv.art \n● Producción general: Mónica Pelay y Analía Das Vinhas
URL:https://teatrometamorfosis.com/event/cuando-el-tiempo-canta-2/2025-12-05/
ATTACH;FMTTYPE=image/jpeg:https://teatrometamorfosis.com/wp-content/uploads/2025/09/WhatsApp-Image-2025-09-08-at-12.45.17.jpeg
END:VEVENT
BEGIN:VEVENT
DTSTART;TZID=Europe/Madrid:20251206T200000
DTEND;TZID=Europe/Madrid:20251206T220000
DTSTAMP:20260425T124602
CREATED:20251125T235311Z
LAST-MODIFIED:20251125T235311Z
UID:10002918-1765051200-1765058400@teatrometamorfosis.com
SUMMARY:Sola en Casa
DESCRIPTION:“Eva en escena\, una travesti absolutamente escéptica del espíritu navideño\, se queda sola en casa en vísperas del día más feliz del año… o al menos eso cree. Su tranquila noche festiva se complica cuando comienzan a aparecer los fantasmas de la sauna pasada\, Rodolfo\, el reno de Popper Noel o el temido Cringe de la Navidad.” \nLas puertas se abrirán a las 19:45 hs\nLa barra estará abierta durante todo el evento.\nLas opciones para la consumición incluída en la entrada serán : cerveza\, vino\, cava\, vermut o refresco. \nLas entradas compradas con código de descuento NO incluyen bebidas
URL:https://teatrometamorfosis.com/event/sola-en-casa/
ATTACH;FMTTYPE=image/jpeg:https://teatrometamorfosis.com/wp-content/uploads/2025/11/WhatsApp-Image-2025-11-24-at-10.35.11.jpeg
END:VEVENT
BEGIN:VEVENT
DTSTART;TZID=Europe/Madrid:20251207T160000
DTEND;TZID=Europe/Madrid:20251207T180000
DTSTAMP:20260425T124602
CREATED:20251126T000316Z
LAST-MODIFIED:20251126T000316Z
UID:10002919-1765123200-1765130400@teatrometamorfosis.com
SUMMARY:Día de las Velitas
DESCRIPTION:Vení a disfrutar de un día lleno de sensibilización musical\, conciertos\, Jam de poesía\, rueda de currulao\, rueda de cumbia\, buena comida\, amigos\, velitas y pura energía bonita Música en vivo con Caldo Parao (Cumbia Psicodélica)\, Victoria Laverde\, Nando Lumbalú\, y más artistas que te van a poner a vibrar sabroso. \nUn espacio pa’ compartir\, sentir\, mover el cuerpo y celebrar la vida juntos.\n¡Caé pues y encendamos la noche! \nLa barra de bebidas estará abierta durante todo el evento.\nLas opciones para la consumición incluída en la entrada serán : cerveza\, vino\, cava\, vermut o refresco.
URL:https://teatrometamorfosis.com/event/dia-de-las-velitas/
ATTACH;FMTTYPE=image/jpeg:https://teatrometamorfosis.com/wp-content/uploads/2025/11/WhatsApp-Image-2025-11-24-at-10.37.49.jpeg
END:VEVENT
END:VCALENDAR