BEGIN:VCALENDAR
VERSION:2.0
PRODID:-//Teatro Metamorfosis - ECPv6.15.20//NONSGML v1.0//EN
CALSCALE:GREGORIAN
METHOD:PUBLISH
X-WR-CALNAME:Teatro Metamorfosis
X-ORIGINAL-URL:https://teatrometamorfosis.com
X-WR-CALDESC:Events for Teatro Metamorfosis
REFRESH-INTERVAL;VALUE=DURATION:PT1H
X-Robots-Tag:noindex
X-PUBLISHED-TTL:PT1H
BEGIN:VTIMEZONE
TZID:Europe/Madrid
BEGIN:DAYLIGHT
TZOFFSETFROM:+0100
TZOFFSETTO:+0200
TZNAME:CEST
DTSTART:20240331T010000
END:DAYLIGHT
BEGIN:STANDARD
TZOFFSETFROM:+0200
TZOFFSETTO:+0100
TZNAME:CET
DTSTART:20241027T010000
END:STANDARD
BEGIN:DAYLIGHT
TZOFFSETFROM:+0100
TZOFFSETTO:+0200
TZNAME:CEST
DTSTART:20250330T010000
END:DAYLIGHT
BEGIN:STANDARD
TZOFFSETFROM:+0200
TZOFFSETTO:+0100
TZNAME:CET
DTSTART:20251026T010000
END:STANDARD
BEGIN:DAYLIGHT
TZOFFSETFROM:+0100
TZOFFSETTO:+0200
TZNAME:CEST
DTSTART:20260329T010000
END:DAYLIGHT
BEGIN:STANDARD
TZOFFSETFROM:+0200
TZOFFSETTO:+0100
TZNAME:CET
DTSTART:20261025T010000
END:STANDARD
END:VTIMEZONE
BEGIN:VEVENT
DTSTART;TZID=Europe/Madrid:20251209T160000
DTEND;TZID=Europe/Madrid:20251209T180000
DTSTAMP:20260425T182159
CREATED:20250915T112203Z
LAST-MODIFIED:20250915T112203Z
UID:10002885-1765296000-1765303200@teatrometamorfosis.com
SUMMARY:Taller teatro musical
DESCRIPTION:Vive el teatro musical desde adentro. ¿Te gusta cantar\, bailar o actuar? ¿O simplemente tienes ganas de probar algo nuevo? \nEste taller de teatro musical está pensado para todas las personas con o sin experiencia previa. Durante 15 jornadas vamos a trabajar interpretación\, canto y movimiento de forma integrada\, y lo mejor de todo\, culminaremos con una muestra abierta al público. \nLo que vas a encontrar: ejercicios de voz cuerpo y actuación en armonía\, un espacio creativo colectivo apra expresarte\, acompañamiento artístico y dirección escénica\, la oportunidad de subirte a escena y compartir lo creado. \nAnimate a vivir el teatro musical.
URL:https://teatrometamorfosis.com/event/taller-teatro-musical/2025-12-09/
ATTACH;FMTTYPE=image/jpeg:https://teatrometamorfosis.com/wp-content/uploads/2025/09/WhatsApp-Image-2025-09-13-at-15.16.27.jpeg
END:VEVENT
BEGIN:VEVENT
DTSTART;TZID=Europe/Madrid:20251209T190000
DTEND;TZID=Europe/Madrid:20251209T210000
DTSTAMP:20260425T182159
CREATED:20240826T113127Z
LAST-MODIFIED:20241007T201212Z
UID:10001887-1765306800-1765314000@teatrometamorfosis.com
SUMMARY:Curso de actuación
DESCRIPTION:Algunos Items a ver en el curso – Expresión Corporal– Herramientas de interpretación (Cuerpo y Voz)– Improvisación– Juegos Teatrales– Creación de Personaje– Estructura Dramática– Conflicto– ⁠Actitudes Humanas Escribenos para apuntarte +34 604 92 87 50
URL:https://teatrometamorfosis.com/event/curso-de-actuacion/2025-12-09/
LOCATION:Teatro Metamofosis\, Carrer de Tapioles 12\, Bajo\, Barcelona\, Barcelona\, 08004\, Spain
ATTACH;FMTTYPE=image/jpeg:https://teatrometamorfosis.com/wp-content/uploads/2024/08/WhatsApp-Image-2024-08-24-at-7.48.20-AM.jpeg
END:VEVENT
BEGIN:VEVENT
DTSTART;TZID=Europe/Madrid:20251210T200000
DTEND;TZID=Europe/Madrid:20251210T210000
DTSTAMP:20260425T182159
CREATED:20251120T183809Z
LAST-MODIFIED:20251120T183809Z
UID:10002915-1765396800-1765400400@teatrometamorfosis.com
SUMMARY:GABBIA DI MATTI Monologhi a ruota libera
DESCRIPTION:Il 10 dicembre\, al Teatro Metamorfosis\, vi aspetta “Gabbia di Matti”. Un viaggio tra monologhi e atmosfere surreali\, dove il confine tra il serio e l’assurdo si fa sottile. Lasciatevi sorprendere da una serata che sfida le aspettative. \nL'”open mic” dei monologhi\, uno spazio aperto per chi ha deciso di sfidarsi. \nPresto la line up dei partecipanti!\nVenite a sentirvi a casa. \nLas puertas se abrirán a las 19:30\nLa barra estará abierta durante todo el evento.\nLas opciones para la consumición incluida en la entrada serán: cerveza\, vino\, cava\, vermut o refresco. \nLas entradas compradas con código de descuento NO incluyen bebidas\nentradas anticipadas\, 7 €sin consumición\, 10€ con consumición\, y 12 € a la puerta con consumición.
URL:https://teatrometamorfosis.com/event/gabbia-di-matti-monologhi-a-ruota-libera/
ATTACH;FMTTYPE=image/jpeg:https://teatrometamorfosis.com/wp-content/uploads/2025/11/WhatsApp-Image-2025-11-20-at-09.28.50.jpeg
END:VEVENT
BEGIN:VEVENT
DTSTART;TZID=Europe/Madrid:20251211T200000
DTEND;TZID=Europe/Madrid:20251211T210000
DTSTAMP:20260425T182159
CREATED:20251112T221043Z
LAST-MODIFIED:20251113T173311Z
UID:10002913-1765483200-1765486800@teatrometamorfosis.com
SUMMARY:Nacen EstrELLAS
DESCRIPTION:Una historia de liberación a través de la danza \nVidas grises\, rutinarias y sin emoción. Así son las vidas de ELLAS\, las protagonistas de “Nacen EstrELLAS”\, una obra sin diálogos y contada íntegramente a través de la música y el movimiento. \nLa llegada de una excéntrica profesora de danza al pueblo transformará sus días: un grupo de siete mujeres\, muy diferentes entre sí\, encontrará entre risas\, torpeza y valentía una nueva forma de expresarse y reconciliarse con su deseo genuino de ser. \nEsta pieza está protagonizada por vecinas del pueblo de Arenys de Mar\, mujeres totalmente amateur que se animan a subirse al escenario para compartir con el público este viaje sensorial\, emotivo y luminoso\, impulsado por la fuerza del arte y el poder de brillar juntas . \nEscrita y dirigida por: Ana Grazia — MOMSON Producciones\nLas puertas se abrirán a las 19:45 hs\nLa barra estará abierta durante todo el evento. \nLas opciones para la consumición incluída en la entrada serán : cerveza\, vino\, cava\, vermut o refresco.\nLas entradas compradas con código de descuento NO incluyen bebidas \nA story of liberation through dance \nA story of liberation through dance \nGrey\, monotonous\, emotionless lives. Such are the lives of the protagonists of ” Nacen EstrELLAS “\, a wordless performance told entirely through music and movement. \nThe arrival of an eccentric dance teacher in town changes everything: seven very different women discover\, through laughter\, awkwardness\, and courage\, a new way to express themselves and reconnect with their genuine desire to be themselves. \nPerformed by local women from Arenys de Mar\, these totally amateur actresses invite the audience to experience a sensory\, emotional\, and luminous journey about the healing power of art and the joy of shining together. \nWritten and directed by: Ana Grazia — MOMSON Producciones
URL:https://teatrometamorfosis.com/event/nacen-estrellas/
ATTACH;FMTTYPE=image/jpeg:https://teatrometamorfosis.com/wp-content/uploads/2025/11/WhatsApp-Image-2025-11-12-at-14.30.05.jpeg
END:VEVENT
BEGIN:VEVENT
DTSTART;TZID=Europe/Madrid:20251214T193000
DTEND;TZID=Europe/Madrid:20251214T210000
DTSTAMP:20260425T182159
CREATED:20251121T120453Z
LAST-MODIFIED:20251121T120453Z
UID:10002917-1765740600-1765746000@teatrometamorfosis.com
SUMMARY:Turkish Hairlines
DESCRIPTION:Únete a la sensación drag internacional de Barcelona\, Unique Horn\, mientras te lleva en un viaje turbulento\, divertidísimo y sorprendentemente honesto a bordo del Vuelo UH-404 de Turkish Hairlines. \nNo es solo un espectáculo sobre la caída del pelo; es un cabaret teatral de actos sobre ganar confianza—pasando por el quirófano en Estambul. Combinando comedia con interacción espontánea con el público\, Unique Horn utiliza su saga personal en busca de la línea capilar perfecta para diseccionar la identidad cultural\, la experiencia migratoria y las presiones absurdas del género y los estándares de belleza del siglo XXI. \nDesde los anuncios de seguridad pre-vuelo hasta la agonizante recuperación post-operatoria\, Turkish Hairlines es una mirada audaz\, divertida e inolvidable a lo que se necesita para amar la piel (y el cuero cabelludo) que tienes. ¡Abróchense los cinturones\, porque este viaje va a ser movido… y hermoso! \n———————– \nJoin Barcelona’s own international drag sensation\, Unique Horn\, as she takes you on a turbulent\, hilarious\, and surprisingly honest journey aboard Turkish Hairlines Flight UH-404. \nThis is not just a show about losing hair; it’s a theatrical cabaret about gaining confidence—by going under the knife in Istanbul. Blending scripted comedy with spontaneous audience interaction\, Unique Horn uses her personal saga of seeking the perfect hairline to hilariously dissect cultural identity\, the immigrant experience\, and the absurd pressures of gender and beauty standards in the 21st century. \nFrom absurd pre-flight safety announcements to the agonizing post-op recovery\, Turkish Hairlines is a fierce\, funny\, and unforgettable look at what it takes to love the skin (and scalp) you’re in. Fasten your seatbelts\, because this trip is going to be bumpy… and beautiful! \n!NOTA IMPORTANTE SOBRE EL IDIOMA!\nEl espectáculo se desarrolla principalmente en inglés y Castellano\, con una gran cantidad de Spanglish y algunos toques de Turco. La comprensión de ambos idiomas principales mejorará significativamente su experiencia\, ¡pero el lenguaje de la risa es universal! \nLas puertas se abrirán a las 19:15hs\nLa barra estará abierta durante todo el evento.\nLas opciones para la consumición incluida en la entrada serán: cerveza\, vino\, cava\, vermut o refresco. \nLas entradas compradas con código de descuento NO incluyen bebidas
URL:https://teatrometamorfosis.com/event/turkish-hairlines/
ATTACH;FMTTYPE=image/jpeg:https://teatrometamorfosis.com/wp-content/uploads/2025/11/WhatsApp-Image-2025-11-20-at-16.25.06.jpeg
END:VEVENT
END:VCALENDAR