BEGIN:VCALENDAR
VERSION:2.0
PRODID:-//Teatro Metamorfosis - ECPv6.15.20//NONSGML v1.0//EN
CALSCALE:GREGORIAN
METHOD:PUBLISH
X-WR-CALNAME:Teatro Metamorfosis
X-ORIGINAL-URL:https://teatrometamorfosis.com
X-WR-CALDESC:Events for Teatro Metamorfosis
REFRESH-INTERVAL;VALUE=DURATION:PT1H
X-Robots-Tag:noindex
X-PUBLISHED-TTL:PT1H
BEGIN:VTIMEZONE
TZID:Europe/Madrid
BEGIN:DAYLIGHT
TZOFFSETFROM:+0100
TZOFFSETTO:+0200
TZNAME:CEST
DTSTART:20240331T010000
END:DAYLIGHT
BEGIN:STANDARD
TZOFFSETFROM:+0200
TZOFFSETTO:+0100
TZNAME:CET
DTSTART:20241027T010000
END:STANDARD
BEGIN:DAYLIGHT
TZOFFSETFROM:+0100
TZOFFSETTO:+0200
TZNAME:CEST
DTSTART:20250330T010000
END:DAYLIGHT
BEGIN:STANDARD
TZOFFSETFROM:+0200
TZOFFSETTO:+0100
TZNAME:CET
DTSTART:20251026T010000
END:STANDARD
BEGIN:DAYLIGHT
TZOFFSETFROM:+0100
TZOFFSETTO:+0200
TZNAME:CEST
DTSTART:20260329T010000
END:DAYLIGHT
BEGIN:STANDARD
TZOFFSETFROM:+0200
TZOFFSETTO:+0100
TZNAME:CET
DTSTART:20261025T010000
END:STANDARD
END:VTIMEZONE
BEGIN:VEVENT
DTSTART;TZID=Europe/Madrid:20251215T190000
DTEND;TZID=Europe/Madrid:20251215T200000
DTSTAMP:20260425T141717
CREATED:20251203T102039Z
LAST-MODIFIED:20251203T102039Z
UID:10002920-1765825200-1765828800@teatrometamorfosis.com
SUMMARY:2-DUAL Danza + Concierto.
DESCRIPTION:En este segundo encuentro\, la sesión de música improvisada irá acompañada de danza contemporánea. \nEl trio formado por Tomàs Becket (piano y sintetizador)\, Joao Vieira (batería y vieirófono)\, y Jordi Rabascall (voz y efectos) junto con Josephine Grundy (danza butoh y voz). \nLa entrada habilita a asistir a la Poble sec Jam Session que se realizará a continuación de este espectaculo  \nLas puertas se abrirán a las 18:45 hs \nLa barra estará abierta durante todo el evento\nLas opciones para la consumición incluída en la entrada serán : cerveza\, vino\, cava\, vermut o refresco.
URL:https://teatrometamorfosis.com/event/2-dual-danza-concierto/
ATTACH;FMTTYPE=image/jpeg:https://teatrometamorfosis.com/wp-content/uploads/2025/12/WhatsApp-Image-2025-12-02-at-09.10.18.jpeg
END:VEVENT
BEGIN:VEVENT
DTSTART;TZID=Europe/Madrid:20251216T160000
DTEND;TZID=Europe/Madrid:20251216T180000
DTSTAMP:20260425T141717
CREATED:20250915T112203Z
LAST-MODIFIED:20250915T112203Z
UID:10002886-1765900800-1765908000@teatrometamorfosis.com
SUMMARY:Taller teatro musical
DESCRIPTION:Vive el teatro musical desde adentro. ¿Te gusta cantar\, bailar o actuar? ¿O simplemente tienes ganas de probar algo nuevo? \nEste taller de teatro musical está pensado para todas las personas con o sin experiencia previa. Durante 15 jornadas vamos a trabajar interpretación\, canto y movimiento de forma integrada\, y lo mejor de todo\, culminaremos con una muestra abierta al público. \nLo que vas a encontrar: ejercicios de voz cuerpo y actuación en armonía\, un espacio creativo colectivo apra expresarte\, acompañamiento artístico y dirección escénica\, la oportunidad de subirte a escena y compartir lo creado. \nAnimate a vivir el teatro musical.
URL:https://teatrometamorfosis.com/event/taller-teatro-musical/2025-12-16/
ATTACH;FMTTYPE=image/jpeg:https://teatrometamorfosis.com/wp-content/uploads/2025/09/WhatsApp-Image-2025-09-13-at-15.16.27.jpeg
END:VEVENT
BEGIN:VEVENT
DTSTART;TZID=Europe/Madrid:20251216T190000
DTEND;TZID=Europe/Madrid:20251216T210000
DTSTAMP:20260425T141717
CREATED:20240826T113127Z
LAST-MODIFIED:20241007T201212Z
UID:10001888-1765911600-1765918800@teatrometamorfosis.com
SUMMARY:Curso de actuación
DESCRIPTION:Algunos Items a ver en el curso – Expresión Corporal– Herramientas de interpretación (Cuerpo y Voz)– Improvisación– Juegos Teatrales– Creación de Personaje– Estructura Dramática– Conflicto– ⁠Actitudes Humanas Escribenos para apuntarte +34 604 92 87 50
URL:https://teatrometamorfosis.com/event/curso-de-actuacion/2025-12-16/
LOCATION:Teatro Metamofosis\, Carrer de Tapioles 12\, Bajo\, Barcelona\, Barcelona\, 08004\, Spain
ATTACH;FMTTYPE=image/jpeg:https://teatrometamorfosis.com/wp-content/uploads/2024/08/WhatsApp-Image-2024-08-24-at-7.48.20-AM.jpeg
END:VEVENT
BEGIN:VEVENT
DTSTART;TZID=Europe/Madrid:20251217T203000
DTEND;TZID=Europe/Madrid:20251217T220000
DTSTAMP:20260425T141717
CREATED:20251203T103259Z
LAST-MODIFIED:20251203T103259Z
UID:10002921-1766003400-1766008800@teatrometamorfosis.com
SUMMARY:MoltoDiQuelloChe
DESCRIPTION:Podríamos haberlo definido creativamente como un happening\, un encuentro entre los dos protagonistas que “hacen teatro”\, aquellos sobre los que se sostiene todo el hechizo. \nCon un lenguaje más moderno\, un “formato” poliédrico\, que nace de la interacción entre las propuestas del conductor en escena (monólogos\, anécdotas\, revelaciones\, curiosidades\, recuerdos\, lecturas dramatizadas…) y las reacciones activas de los espectadores\, de sus preguntas y de su participación. \nUn espacio y un momento en los que los espectadores pueden plantear al director las preguntas que normalmente hacen a los amigos que hacen teatro\, y recibir respuestas acompañadas de ejemplos interpretados en el momento. \nUn espacio y un momento en los que quien lo desee puede aprender “píldoras” de interpretación\, como en un laboratorio. \nUn lugar donde aprovechar los propios conocimientos de las obras teatrales en el concurso asociado al espectáculo (*). \n(*) Durante la velada se interpretarán varios fragmentos extraídos de guiones\, así como citas de personajes significativos. El espectador que reconozca más recibirá como premio dos entradas para el próximo espectáculo del TsB. \n** El espectáculo será en Italiano \nLas puertas se abrirán a las 20:15\nLa barra estará abierta durante todo el evento.\nLas opciones para la consumición incluida en la entrada serán: cerveza\, vino\, cava\, vermut o refresco. \nLas entradas compradas con código de descuento NO incluyen bebidas \n———————————————————————————- \nl’avremmo potuto definire\, creativamente\, un happening\, un incontro tra i due protagonisti che “fanno il teatro”\, quelli su cui si regge tutto l’incantesimo. \nCon linguaggio moderno\, un “format” poliedrico\, che nasce dall’interazione tra le proposte del conduttore in scena (monologhi\, aneddoti\, rivelazioni\, curiosità\, ricordi\, letture drammatizzate …) e le reazioni attive degli spettatori\, dalle loro domande\, dalla loro partecipazione. \nSpazio e momento nel quale gli spettatori possono rivolgere al regista le domande che solitamente pongono agli amici che fanno teatro\, e ricevere risposte corroborate da esempi interpretati sul momento. \nUno spazio ed un momento in cui chi vuole può apprendere “pillole” di recitazione\, come in un laboratorio. \nIn cui approfittare delle proprie conoscenze delle opere teatrali nel concorso abbinato allo spettacolo (*). \n(*) Nel corso della serata verranno interpretati diversi brani tratti da copioni\, così come citazioni di personaggi significativi. Lo spettatore che ne riconoscerà di più riceverà in premio due biglietti per il prossimo spettacolo del TsB
URL:https://teatrometamorfosis.com/event/moltodiquelloche/
ATTACH;FMTTYPE=image/jpeg:https://teatrometamorfosis.com/wp-content/uploads/2025/12/WhatsApp-Image-2025-12-02-at-13.01.24.jpeg
END:VEVENT
BEGIN:VEVENT
DTSTART;TZID=Europe/Madrid:20251220T210000
DTEND;TZID=Europe/Madrid:20251220T230000
DTSTAMP:20260425T141717
CREATED:20251209T212725Z
LAST-MODIFIED:20251210T144645Z
UID:10002922-1766264400-1766271600@teatrometamorfosis.com
SUMMARY:TALES OF A DRAMA QUEEN
DESCRIPTION:New stories. New season. Same Drama Queen. \nTales of a Drama Queen returns with a special Holiday Edition\, featuring a completely new lineup of true tales\, sharp comedy\, and the confessions you’ve come to expect from Tye. \nFresh drama wrapped in a festive glow. \nLas puertas se abrirán a las 20:45\nLa barra estará abierta durante todo el evento. \nLas opciones para la consumición incluída en la entrada serán : cerveza\, vino\, cava\, vermut o refresco.\nLas entradas compradas con código de descuento NO incluyen bebidas
URL:https://teatrometamorfosis.com/event/tales-of-a-drama-queen/
ATTACH;FMTTYPE=image/jpeg:https://teatrometamorfosis.com/wp-content/uploads/2025/12/WhatsApp-Image-2025-12-09-at-14.18.48.jpeg
END:VEVENT
END:VCALENDAR