BEGIN:VCALENDAR
VERSION:2.0
PRODID:-//Teatro Metamorfosis - ECPv6.15.18//NONSGML v1.0//EN
CALSCALE:GREGORIAN
METHOD:PUBLISH
X-ORIGINAL-URL:https://teatrometamorfosis.com
X-WR-CALDESC:Events for Teatro Metamorfosis
REFRESH-INTERVAL;VALUE=DURATION:PT1H
X-Robots-Tag:noindex
X-PUBLISHED-TTL:PT1H
BEGIN:VTIMEZONE
TZID:Europe/Madrid
BEGIN:DAYLIGHT
TZOFFSETFROM:+0100
TZOFFSETTO:+0200
TZNAME:CEST
DTSTART:20220327T010000
END:DAYLIGHT
BEGIN:STANDARD
TZOFFSETFROM:+0200
TZOFFSETTO:+0100
TZNAME:CET
DTSTART:20221030T010000
END:STANDARD
BEGIN:DAYLIGHT
TZOFFSETFROM:+0100
TZOFFSETTO:+0200
TZNAME:CEST
DTSTART:20230326T010000
END:DAYLIGHT
BEGIN:STANDARD
TZOFFSETFROM:+0200
TZOFFSETTO:+0100
TZNAME:CET
DTSTART:20231029T010000
END:STANDARD
BEGIN:DAYLIGHT
TZOFFSETFROM:+0100
TZOFFSETTO:+0200
TZNAME:CEST
DTSTART:20240331T010000
END:DAYLIGHT
BEGIN:STANDARD
TZOFFSETFROM:+0200
TZOFFSETTO:+0100
TZNAME:CET
DTSTART:20241027T010000
END:STANDARD
END:VTIMEZONE
BEGIN:VEVENT
DTSTART;TZID=Europe/Madrid:20230611T190000
DTEND;TZID=Europe/Madrid:20230611T210000
DTSTAMP:20260420T071155
CREATED:20230516T183651Z
LAST-MODIFIED:20230519T200112Z
UID:10000065-1686510000-1686517200@teatrometamorfosis.com
SUMMARY:Yorick\, ¿Ophelia merece morir?
DESCRIPTION:Yorick\, does Ophelia deserve to die?-SPANISH EDITION--SPANISH EDITION-Ofelia deserves to die?Yorick is one of the characters in William Shakespeare’s Hamlet\, more specifically the king’s jester\, who appears already dead in the play\, in the form of a skull\, and evokes freedom. The jester always tells the truth\, he allows himself to say what nobody dares to say and\, with laughter and irony\, he reaches the heart of those who listen attentively.This is a free adaptation of this character.In this proposal\, Yorick-woman rebels against the old customs that do not bring any change\, she laughs at the eternal wait in which we fell without ever leaving the place and invites us to kill in cold blood the too good Ofelia that we carry inside. She defends that this is no longer useful for us\, but we continue to drag her down with grief so that the mask we wear is released and she encourages us to be more honest with ourselves. In the end\, he invites us to a ritual to dynamite the old paths and to finally be able to urgently ask for Love. \nentrance door €15Creado y dirigido porAndreia Moreira@kamalateatro Versión inglesa.Ven y vive la EXPERIENCIAilusión maya
URL:https://teatrometamorfosis.com/event/yorick-ophelia-merece-morir/
LOCATION:Teatro Metamorfosis\, Carrer de Tapioles\, 12\, Bajo\, Barcelona\, Barcelona\, 08004\, Spain
ATTACH;FMTTYPE=image/jpeg:https://teatrometamorfosis.com/wp-content/uploads/2023/04/YORICK.jpg
END:VEVENT
BEGIN:VEVENT
DTSTART;TZID=Europe/Madrid:20230602T203000
DTEND;TZID=Europe/Madrid:20230602T223000
DTSTAMP:20260420T071155
CREATED:20230526T181757Z
LAST-MODIFIED:20230526T182508Z
UID:10000080-1685737800-1685745000@teatrometamorfosis.com
SUMMARY:La peticion
DESCRIPTION:  The public attends a neighborhood meeting where it must be decided whether to install a new elevator in the building (or not) as the current one\, once again\, has broken down. The majority want it\, but a vote is necessary to finalize it. During the meeting\, the staircase presidents will receive an unexpected visit\, in which the following question arises: Are we owners\, or are we not owners? “The Request” is a creative work based on a short text by playwright Nelson Valente\, who has presented his works in theaters such as Romea and Villarroel. With his permission and support\, we have developed the text\, trying to find out what could have happened after the original ending. Paula Marques\, Àlex Cortés\, and Xavi Garrido act\, directed by Raimundo Morte and costume design by Marta Torra. Languages: Catalan and Spanish Duration: 50 minutes.
URL:https://teatrometamorfosis.com/event/la-peticion/
LOCATION:Teatro Metamorfosis\, Carrer de Tapioles\, 12\, Bajo\, Barcelona\, Barcelona\, 08004\, Spain
ATTACH;FMTTYPE=image/jpeg:https://teatrometamorfosis.com/wp-content/uploads/2023/05/la-peticio.jpg
END:VEVENT
BEGIN:VEVENT
DTSTART;TZID=Europe/Madrid:20230601T220000
DTEND;TZID=Europe/Madrid:20230601T230000
DTSTAMP:20260420T071155
CREATED:20230526T181301Z
LAST-MODIFIED:20230526T181357Z
UID:10000079-1685656800-1685660400@teatrometamorfosis.com
SUMMARY:Coñosplaining! Stand up de mujeres - show in spanish-
DESCRIPTION:¡Prepárate para una noche de risas sin fin con algunas de las mujeres más divertidas del circuito de stand up! Nuestro show cuenta con un elenco de comediantes femeninas talentosas y empoderadas\, que te dejarán sin aliento con sus chistes y observaciones ingeniosas. Desde el humor inteligente hasta el sarcasmo más descarado\, nuestro espectáculo presenta una amplia variedad de estilos cómicos\, que abarcan desde el humor político hasta los chistes sobre la vida cotidiana. No importa cuál sea tu sentido del humor\, estamos seguros de que encontrarás algo que te hará reír. ENTRADA LIBRE  [This show is in Spanish]
URL:https://teatrometamorfosis.com/event/conosplaining-stand-up-de-mujeres-show-in-spanish/
LOCATION:Teatro Metamorfosis\, Carrer de Tapioles\, 12\, Bajo\, Barcelona\, Barcelona\, 08004\, Spain
ATTACH;FMTTYPE=image/jpeg:https://teatrometamorfosis.com/wp-content/uploads/2023/04/CONO.jpg
END:VEVENT
BEGIN:VEVENT
DTSTART;TZID=Europe/Madrid:20230526T203000
DTEND;TZID=Europe/Madrid:20230526T223000
DTSTAMP:20260420T071155
CREATED:20230516T181800Z
LAST-MODIFIED:20230517T130352Z
UID:10000052-1685133000-1685140200@teatrometamorfosis.com
SUMMARY:Hush
DESCRIPTION:Teatro Metamorfosis is super excited to bring you the third event of HUSH Sessions\, a gathering of top-notch jazz musicians who will take you on a journey of musical pleasure. Our hosts for the night are the super talented August Jakobsen and Audun Waage\, recognized for their performances in contemporary electronic jazz. You never know\, there might even be a dub twist thrown in for good measure… HUSH presents Cosyrosi & Da Fabi Cosyrosi is preparing to release her debut soloalbum\, called “Simplicated”. She is currently workingwith an amazing artist and producer FabianSantacruz founder of Green Music Studio. Thisalbum is sure to showcase her ability to craft deeplypersonal and emotionally resonant songs. Cosyrosi’smusic draws from a wide range of genres andinfluences\, making her a truly unique and excitingtalent to discover. Doors open at 8:30 PM and the show starts at 9:00 PM. We have limited seating\, so make sure you secure your spot as soon as possible! Tickets are 10€ for pre-sale and 12€ at the box office until we reach capacity.
URL:https://teatrometamorfosis.com/event/hush/
LOCATION:Teatro Metamorfosis\, Carrer de Tapioles\, 12\, Bajo\, Barcelona\, Barcelona\, 08004\, Spain
ATTACH;FMTTYPE=image/jpeg:https://teatrometamorfosis.com/wp-content/uploads/2023/05/hush-live-jazz.jpg
END:VEVENT
BEGIN:VEVENT
DTSTART;TZID=Europe/Madrid:20230524T193000
DTEND;TZID=Europe/Madrid:20230524T223000
DTSTAMP:20260420T071155
CREATED:20230501T140344Z
LAST-MODIFIED:20230517T142542Z
UID:10000040-1684956600-1684967400@teatrometamorfosis.com
SUMMARY:independent film cycle
DESCRIPTION:Don’t miss the opportunity to see “Zuckerbaby\,” the film by acclaimed director Percy Adlon\, famous for his iconic production “Bagdad Café”! In “Zuckerbaby\,” Adlon brings us another gem of German cinema\, with a touching story and an 80s neon aesthetic that reflects loneliness and the search for love in big cities. Marianne Saegebrecht captivates us with her incredible portrayal of a lonely woman in love with the voice of a subway driver. Don’t miss this dark comedy that will make you laugh and be moved at the same time! Additionally\, the film features the iconic song “Zuckerbaby” by Peter Kraus. Come and let yourself be carried away by the magic of cinema!
URL:https://teatrometamorfosis.com/event/ciclo-de-cine-independiente/
LOCATION:Teatro Metamorfosis\, Carrer de Tapioles\, 12\, Bajo\, Barcelona\, Barcelona\, 08004\, Spain
ATTACH;FMTTYPE=image/jpeg:https://teatrometamorfosis.com/wp-content/uploads/2023/03/Teatro-Metamorfosis-Popcorn-w-black-logo-for-Movie-Nights-Square.jpg
END:VEVENT
BEGIN:VEVENT
DTSTART;TZID=Europe/Madrid:20230524T163000
DTEND;TZID=Europe/Madrid:20230524T183000
DTSTAMP:20260420T071155
CREATED:20230430T144136Z
LAST-MODIFIED:20230516T162618Z
UID:10000048-1684945800-1684953000@teatrometamorfosis.com
SUMMARY:Workshop: Impara a fare stand up in italiano
DESCRIPTION:Hai mai pensato di diventare un comico? Vuoi imparare a muoverti con sicurezza e disinvoltura sul palco? Il Workshop di Stand Up con Wendy è perfetto per te! Inizia mercoledì 10 Maggio\, dalle 16.30 alle 18.30. Preparati per far scoppiare le risate! (Il workshop sarà in Italiano).Per ulteriori informazioni contattaci per email (info@teatrometamorfosis.com) o su Instagram (@WENDYLAFORTU) ¿Alguna vez has pensado en convertirte en comediante? ¿Quieres aprender a moverte con confianza y soltura en el escenario? ¡El taller de Stand Up con Wendy es perfecto para ti! Comienza el miércoles 10 de mayo\, de 4:30 pm a 6:30 pm. ¡Prepárate para hacer estallar de risa! (El taller será en italiano). Para obtener más información\, contáctanos por correo electrónico (info@teatrometamorfosis.com) o en Instagram (@WENDYLAFORTU). Have you ever thought about becoming a comedian? Do you want to learn how to move confidently and effortlessly on stage? The Stand Up Workshop with Wendy is perfect for you! It starts on Wednesday\, May 10th\, from 4:30pm to 6:30pm. Get ready to make people laugh! (The workshop will be in Italian). For more information\, contact us by email (info@teatrometamorfosis.com) or on Instagram (@WENDYLAFORTU).
URL:https://teatrometamorfosis.com/event/workshop-impara-a-fare-stand-up-in-italiano-aprende-a-hacer-stand-up-en-italiano/2023-05-24/
LOCATION:Teatro Metamorfosis\, Carrer de Tapioles\, 12\, Bajo\, Barcelona\, Barcelona\, 08004\, Spain
ATTACH;FMTTYPE=image/jpeg:https://teatrometamorfosis.com/wp-content/uploads/2023/04/IMG-20230425-WA0000.jpg
ORGANIZER;CN="wendy la fortu":MAILTO:info@teatrometamorfosis.com
END:VEVENT
BEGIN:VEVENT
DTSTART;TZID=Europe/Madrid:20230520T183000
DTEND;TZID=Europe/Madrid:20230520T200000
DTSTAMP:20260420T071155
CREATED:20230516T175516Z
LAST-MODIFIED:20230517T142753Z
UID:10000049-1684607400-1684612800@teatrometamorfosis.com
SUMMARY:Bad boy - magic show
DESCRIPTION:LYNCH is the most underground illusionist you can find in Barcelona\, bringing ‘BAD BOY’ to Teatro Metamorfosis\, a salon show for those who want to experience magic from a different angle than what we’re used to. This show presents a character and his relationship with magic; through his learning\, creative processes\, and personal experiences. It aims to be an ode to spontaneity and the beauty of simplicity\, using magic and fiction to create beautiful illusions and uncommon stories.
URL:https://teatrometamorfosis.com/event/bad-boy-show-de-magia/
LOCATION:Teatro Metamorfosis\, Carrer de Tapioles\, 12\, Bajo\, Barcelona\, Barcelona\, 08004\, Spain
ATTACH;FMTTYPE=image/jpeg:https://teatrometamorfosis.com/wp-content/uploads/2023/04/lynch.jpeg
END:VEVENT
BEGIN:VEVENT
DTSTART;TZID=Europe/Madrid:20230518T210000
DTEND;TZID=Europe/Madrid:20230518T233000
DTSTAMP:20260420T071155
CREATED:20230501T135439Z
LAST-MODIFIED:20230518T145556Z
UID:10000039-1684443600-1684452600@teatrometamorfosis.com
SUMMARY:Burning Barcelona monthly meeting
DESCRIPTION:Come celebrate creativity with us and meet the vibrant Barcelona Burners community. Not a “Burner” yet? Don’t know what we’re talking about? Come meet amazing people and discover everything about Burning Man and Nowhere. We gather every third Thursday of the month for talks\, activities\, and to share ideas. Come have a drink with old and new friends! If you haven’t heard of the 10 principles of Burning Man\, this is a great opportunity to find out what it’s all about. In any case\, there will be charming people\, special drinks\, and possibly some improvised craziness (you never know with this group 😜).
URL:https://teatrometamorfosis.com/event/959/
LOCATION:Teatro Metamorfosis\, Carrer de Tapioles\, 12\, Bajo\, Barcelona\, Barcelona\, 08004\, Spain
ATTACH;FMTTYPE=image/jpeg:https://teatrometamorfosis.com/wp-content/uploads/2023/05/2913c4ed-168c-476f-9179-87e86c776cd4.jpeg
END:VEVENT
BEGIN:VEVENT
DTSTART;TZID=Europe/Madrid:20230515T180000
DTEND;TZID=Europe/Madrid:20230515T210000
DTSTAMP:20260420T071155
CREATED:20230501T133957Z
LAST-MODIFIED:20230501T141959Z
UID:10000038-1684173600-1684184400@teatrometamorfosis.com
SUMMARY:Encuentro Men circle
DESCRIPTION:Espacio de confluencia de las diversas formas de vivir la masculinidad donde explorar el autoconocimiento\, y poder vincularse con otros hombres a través de la no violencia y otras prácticas diversas que beben de las artes\, el trabajo terapéutico\, lo lúdico y la educación no formal.  Libre de violencias\, donde ser vulnerables y autoexplorarnos con apoyo mutuo. Confluence space of different forms of experiencing masculinity\, where self-knowledge can be explored and men can connect with each other through non-violence and other diverse practices that draw from the arts\, therapeutic work\, playfulness\, and non-formal education. A space free of violence\, where vulnerability is accepted and mutual support is available to explore ourselves.
URL:https://teatrometamorfosis.com/event/encuentro-men-circle/
LOCATION:Teatro Metamorfosis\, Carrer de Tapioles\, 12\, Bajo\, Barcelona\, Barcelona\, 08004\, Spain
END:VEVENT
BEGIN:VEVENT
DTSTART;TZID=Europe/Madrid:20230511T210000
DTEND;TZID=Europe/Madrid:20230511T223000
DTSTAMP:20260420T071155
CREATED:20230430T145212Z
LAST-MODIFIED:20230516T154944Z
UID:10000021-1683838800-1683844200@teatrometamorfosis.com
SUMMARY:"Estand-up" Comedy Night
DESCRIPTION:EStand Up Comedy” es el espectáculo de comedia que te hará reír a carcajadas. Con un elenco diverso de comediantes talentosos\, será una noche de comedia sin igual. Desde los chistes más ingeniosos hasta las historias más divertidas. Con “EStand Up Comedy”\, no tendrás que preocuparte por escuchar monólogos repetitivos\, ya que cada comediante tiene su propio estilo y perspectiva fresca que hará que te sientas entretenido y satisfecho. Este espectáculo es perfecto para aquellos que quieren experimentar algo nuevo\, para aquellos que buscan una noche divertida y llena de risas\, o para aquellos que simplemente quieren escapar de la rutina diaria. “EStand Up Comedy” es una experiencia única que no puedes perderte.
URL:https://teatrometamorfosis.com/event/estand-up-comedy-night/
LOCATION:Teatro Metamorfosis\, Carrer de Tapioles\, 12\, Bajo\, Barcelona\, Barcelona\, 08004\, Spain
ATTACH;FMTTYPE=image/jpeg:https://teatrometamorfosis.com/wp-content/uploads/2023/04/estand-up-comedy.jpg
END:VEVENT
END:VCALENDAR